BEGIN:VCALENDAR
VERSION:2.0
PRODID:-//WAA-ISA - ECPv6.15.20//NONSGML v1.0//EN
CALSCALE:GREGORIAN
METHOD:PUBLISH
X-ORIGINAL-URL:https://www.waa-isa.org
X-WR-CALDESC:Events for WAA-ISA
REFRESH-INTERVAL;VALUE=DURATION:PT1H
X-Robots-Tag:noindex
X-PUBLISHED-TTL:PT1H
BEGIN:VTIMEZONE
TZID:America/Chicago
BEGIN:DAYLIGHT
TZOFFSETFROM:-0600
TZOFFSETTO:-0500
TZNAME:CDT
DTSTART:20200308T080000
END:DAYLIGHT
BEGIN:STANDARD
TZOFFSETFROM:-0500
TZOFFSETTO:-0600
TZNAME:CST
DTSTART:20201101T070000
END:STANDARD
BEGIN:DAYLIGHT
TZOFFSETFROM:-0600
TZOFFSETTO:-0500
TZNAME:CDT
DTSTART:20210314T080000
END:DAYLIGHT
BEGIN:STANDARD
TZOFFSETFROM:-0500
TZOFFSETTO:-0600
TZNAME:CST
DTSTART:20211107T070000
END:STANDARD
BEGIN:DAYLIGHT
TZOFFSETFROM:-0600
TZOFFSETTO:-0500
TZNAME:CDT
DTSTART:20220313T080000
END:DAYLIGHT
BEGIN:STANDARD
TZOFFSETFROM:-0500
TZOFFSETTO:-0600
TZNAME:CST
DTSTART:20221106T070000
END:STANDARD
BEGIN:DAYLIGHT
TZOFFSETFROM:-0600
TZOFFSETTO:-0500
TZNAME:CDT
DTSTART:20230312T080000
END:DAYLIGHT
BEGIN:STANDARD
TZOFFSETFROM:-0500
TZOFFSETTO:-0600
TZNAME:CST
DTSTART:20231105T070000
END:STANDARD
END:VTIMEZONE
BEGIN:VEVENT
DTSTART;TZID=America/Chicago:20220323T100000
DTEND;TZID=America/Chicago:20220325T160000
DTSTAMP:20260425T201135
CREATED:20220103T174516Z
LAST-MODIFIED:20220103T174836Z
UID:10000230-1648029600-1648224000@www.waa-isa.org
SUMMARY:TCIA Executive Arborist Workshop
DESCRIPTION:The Executive Arborist Workshop is designed not only to help growing companies develop in a smoother\, more consistent manner\, but also to address common challenges that arborists face in growing their tree care businesses. Join TCIA for two days of valuable insights from industry professionals and expert advice from the best speakers in business. We want to help you make the transition from working in your business\, to working on your business.
URL:https://www.waa-isa.org/tribe-events/tcia-executive-arborist-workshop-3/
LOCATION:The Westin Milwaukee\, 550 North Van Buren Street\, Milwaukee\, Wisconsin\, 53202\, United States
CATEGORIES:Green Industry Events
END:VEVENT
BEGIN:VEVENT
DTSTART;TZID=America/Chicago:20210407T080000
DTEND;TZID=America/Chicago:20210409T170000
DTSTAMP:20260425T201135
CREATED:20201111T163659Z
LAST-MODIFIED:20201213T164327Z
UID:10000139-1617782400-1617987600@www.waa-isa.org
SUMMARY:TCIA Executive Arborist Workshop
DESCRIPTION:Details will be forthcoming.
URL:https://www.waa-isa.org/tribe-events/tcia-executive-arborist-workshop/
LOCATION:The Westin Milwaukee\, 550 North Van Buren Street\, Milwaukee\, Wisconsin\, 53202\, United States
CATEGORIES:Green Industry Events
END:VEVENT
END:VCALENDAR