BEGIN:VCALENDAR
VERSION:2.0
PRODID:-//WAA-ISA - ECPv6.15.20//NONSGML v1.0//EN
CALSCALE:GREGORIAN
METHOD:PUBLISH
X-ORIGINAL-URL:https://www.waa-isa.org
X-WR-CALDESC:Events for WAA-ISA
REFRESH-INTERVAL;VALUE=DURATION:PT1H
X-Robots-Tag:noindex
X-PUBLISHED-TTL:PT1H
BEGIN:VTIMEZONE
TZID:America/Chicago
BEGIN:DAYLIGHT
TZOFFSETFROM:-0600
TZOFFSETTO:-0500
TZNAME:CDT
DTSTART:20190310T080000
END:DAYLIGHT
BEGIN:STANDARD
TZOFFSETFROM:-0500
TZOFFSETTO:-0600
TZNAME:CST
DTSTART:20191103T070000
END:STANDARD
BEGIN:DAYLIGHT
TZOFFSETFROM:-0600
TZOFFSETTO:-0500
TZNAME:CDT
DTSTART:20200308T080000
END:DAYLIGHT
BEGIN:STANDARD
TZOFFSETFROM:-0500
TZOFFSETTO:-0600
TZNAME:CST
DTSTART:20201101T070000
END:STANDARD
BEGIN:DAYLIGHT
TZOFFSETFROM:-0600
TZOFFSETTO:-0500
TZNAME:CDT
DTSTART:20210314T080000
END:DAYLIGHT
BEGIN:STANDARD
TZOFFSETFROM:-0500
TZOFFSETTO:-0600
TZNAME:CST
DTSTART:20211107T070000
END:STANDARD
END:VTIMEZONE
BEGIN:VEVENT
DTSTART;TZID=America/Chicago:20200318T073000
DTEND;TZID=America/Chicago:20200318T170000
DTSTAMP:20260423T103522
CREATED:20200309T152055Z
LAST-MODIFIED:20200316T184936Z
UID:10000028-1584516600-1584550800@www.waa-isa.org
SUMMARY:WAA 2020 Spring Day of Service
DESCRIPTION:THIS EVENT HAS BEEN CANCELLED.  IT WILL BE RESCHEDULED. \n\n\n\n \n\n\nDue to COVID-19\, we are taking steps to ensure the health and safety of our members and our leadership team. We are monitoring all guidelines and updates from the Centers for Disease Control and Prevention and the Wisconsin Department of Health.   We are taking extra precautions to do our part to slow the spread of COVID-19. \n\n\n\nThe March 18th Day\nof Service will be rescheduled for a later date.The April 2nd BOD\nmeeting will be switched to an online Zoom Meeting. The April 27th ISA\nTree Risk Assessment Qualification (TRAQ) RENEWAL will be rescheduled for a\nlater date.  The ISA will be working directly with the WAA to ensure no\none is penalized if their credential expires due to this cancellation.  Please\nbe patient as we work thru the rescheduling or refund process.  We will\nkeep you updated via email.The April 28th to\nApril 30th ISA Tree Risk Assessment Qualification (TRAQ) will\nbe rescheduled for a later date.  Again\,please be patient as we work thru the rescheduling\nor refund process.  We will keep you updated via email.\n\n\n\nWe will continue to monitor local and federal government\nrecommendations closely\, as the current status continues to evolve. Future\nupdates\, if any\, will be shared via email.  We recognize this is an\nunprecedented and unique situation and appreciate your flexibility and support.\nOur website will be updated as soon as possible with all changes. \n\n\n\nThank you for supporting these efforts\, \n\n\n\nThe WAA Governance Committee \n\n\n \n\n\nWhen: Wednesday\, March 18. at 730 am until completed CANCELLED                              Where: Sun Prairie Fireman & Dream Park at 415 Park St\, Sun Prairie\, WIWhat: Lots of tree pruning needed\, including:– Medium sized shade trees around the large playground area.– Mature Oaks in need of dead limb removal.– (5) Mature tree removals. \n\n\n\n​Climbers\, Bucket truck(s)\, Tracked Lift(s)\, Mini Loaders\, and a Stump Grinder are all appreciated and needed.Lunch will be provided. \n\n\n\nContact Jake Kubisiak at jakek@wachteltree.com for questions or to volunteer.
URL:https://www.waa-isa.org/tribe-events/waa-2020-spring-day-of-service/
LOCATION:Sun Prairie Fireman & Dream Park\, 415 Park St.\, Sun Prairie\, Wisconsin\, 53590\, United States
END:VEVENT
END:VCALENDAR