BEGIN:VCALENDAR
VERSION:2.0
PRODID:-//WAA-ISA - ECPv6.15.20//NONSGML v1.0//EN
CALSCALE:GREGORIAN
METHOD:PUBLISH
X-WR-CALNAME:WAA-ISA
X-ORIGINAL-URL:https://www.waa-isa.org
X-WR-CALDESC:Events for WAA-ISA
REFRESH-INTERVAL;VALUE=DURATION:PT1H
X-Robots-Tag:noindex
X-PUBLISHED-TTL:PT1H
BEGIN:VTIMEZONE
TZID:America/Chicago
BEGIN:DAYLIGHT
TZOFFSETFROM:-0600
TZOFFSETTO:-0500
TZNAME:CDT
DTSTART:20200308T080000
END:DAYLIGHT
BEGIN:STANDARD
TZOFFSETFROM:-0500
TZOFFSETTO:-0600
TZNAME:CST
DTSTART:20201101T070000
END:STANDARD
BEGIN:DAYLIGHT
TZOFFSETFROM:-0600
TZOFFSETTO:-0500
TZNAME:CDT
DTSTART:20210314T080000
END:DAYLIGHT
BEGIN:STANDARD
TZOFFSETFROM:-0500
TZOFFSETTO:-0600
TZNAME:CST
DTSTART:20211107T070000
END:STANDARD
BEGIN:DAYLIGHT
TZOFFSETFROM:-0600
TZOFFSETTO:-0500
TZNAME:CDT
DTSTART:20220313T080000
END:DAYLIGHT
BEGIN:STANDARD
TZOFFSETFROM:-0500
TZOFFSETTO:-0600
TZNAME:CST
DTSTART:20221106T070000
END:STANDARD
BEGIN:DAYLIGHT
TZOFFSETFROM:-0600
TZOFFSETTO:-0500
TZNAME:CDT
DTSTART:20230312T080000
END:DAYLIGHT
BEGIN:STANDARD
TZOFFSETFROM:-0500
TZOFFSETTO:-0600
TZNAME:CST
DTSTART:20231105T070000
END:STANDARD
END:VTIMEZONE
BEGIN:VEVENT
DTSTART;TZID=America/Chicago:20220819T070000
DTEND;TZID=America/Chicago:20220819T140000
DTSTAMP:20260420T090813
CREATED:20220525T181910Z
LAST-MODIFIED:20220815T153533Z
UID:10000258-1660892400-1660917600@www.waa-isa.org
SUMMARY:WAA 2nd Annual Golf Outing
DESCRIPTION:Donations made by: Arborjet/Ecologel\, Cathy Brodbeck\, Midwest Arborist Supplies\, and Milwaukee Tool.  THANK YOU VERY MUCH! \n\n\n\nWhere: \n\n\n\nSongbird Hills Golf Club (W259N8700 Hwy 164\, Hartland\, WI 53029)\n\n\n\nWhen: \n\n\n\nFriday\, August 19thShotgun Start: 8 am Check In Begins at 7 am\n\n\n\nGolf Outing Package – $400/foursome includes (individuals welcome at $100 each): \n\n\n\n18 HolesFoursome Greens Fees & CartMeals (Breakfast\, Grilled Picnic Lunch) 2 drink tickets per golferSwag Bags\n\n\n\nSponsorships (sponsorship forms available here): \n\n\n\nHole Event Sponsors (Hole event sponsor also gets hole sponsorship)$250/hole event (6 available)Closest to the pin (par 3) – SOLD!Long Drive Men – SOLD!Long Drive Women Long Putt – SOLD!Closest to the pin in 2 – SOLD!Putting Contest – SOLD!$5/event (for golfers) or $20 for all 5 events – Prizes will be given out!Hole Sponsors – $200/hole (12 holes) – 4 SOLD!Meal Sponsor -$500 (2 available) – Both SOLD!Beer Cart Sponsor -$500 (2 available) – Both SOLD!\n\n\n\nRaffle Ticket Sales – proceeds go towards Student Scholarships \n\n\n\nRegistration Deadline for Teams – August 5\, 2022 \n\n\n\nRegistration Deadline for Sponsorships – July 31\, 2022 \n\n\n\nRaffle Prizes and Donations are Still Needed!  We will accept these up until the event. \n\n\n\nREAD REGISTRATION DISCLAIMER CAREFULLY BEFORE REGISTERING\n\n\n\nThere will be no refunds for cancellations made within 14 days of the event\, although substitutions may be permitted.  Refunds will only be considered in emergency situations at the Wisconsin Arborist Association’s discretion.  Refunds will not be provided for registrants who do not attend the event. \n\n\n\nNotice of cancellation and/or substitutions must be made via email to admin@waa-isa.org or by calling Tina Johnson at 262-899-0060.  A cancellation acknowledgement will be sent within 3 working days and fees refunded within 10 working days\, subject to this Return Policy.  We do not issue refunds once the event has occurred.
URL:https://www.waa-isa.org/tribe-events/waa-2nd-annual-golf-outing/
LOCATION:Songbird Hills Golf Club\, W259N8700 Hwy 164\, Hartland\, Wisconsin\, 53029\, United States
CATEGORIES:WAA Events
ATTACH;FMTTYPE=image/jpeg:https://www.waa-isa.org/wp-content/uploads/2021/05/golf-tee.jpg
END:VEVENT
BEGIN:VEVENT
DTSTART;TZID=America/Chicago:20210827T070000
DTEND;TZID=America/Chicago:20210827T140000
DTSTAMP:20260420T090813
CREATED:20210623T132025Z
LAST-MODIFIED:20210826T203257Z
UID:10000188-1630047600-1630072800@www.waa-isa.org
SUMMARY:WAA First Annual Golf Outing
DESCRIPTION:Donations made by: Arborwear LLC\, Bobcat Plus\, Eagle Tree Care\, JJ Mauget Company\, Midwest Arborist Supplies\, Milwaukee Tool\, ProGreen Plus\, and Vermeer Wisconsin. \n\n\n\nWhere: \n\n\n\nSongbird Hills Golf Club (W259N8700 Hwy 164\, Hartland\, WI 53029\n\n\n\nWhen: \n\n\n\nFriday\, August 27thShotgun Start: 8 am Check In Begins at 7 am\n\n\n\nGolf Outing Package – $400/foursome includes (individuals welcome at $100 each): \n\n\n\n18 HolesFoursome Greens Fees & CartMeals (Breakfast\, Grilled Picnic Lunch) 2 drink tickets per golferSwag Bags\n\n\n\nSponsorships (sponsorship forms available here): \n\n\n\nHole Event Sponsors (Hole event sponsor also gets hole sponsorship)$250/hole event (6 available)Closest to the pin (par 3) – SOLD!Long Drive Men – SOLD!Long Drive Women – NALong Putt – SOLD!Closest to the pin in 2 – SOLD!Putting Contest – SOLD!$5/event (for golfers) or $20 for all 5 events – Prizes will be given out!Hole Sponsors – $200/hole (12 holes) – 2 SOLD!Meal Sponsor -$500 (2 available) – 2 SOLD! Beer Cart Sponsor -$500 (1 available) – SOLD!\n\n\n\nRaffle Ticket Sales – proceeds go towards Student Scholarships \n\n\n\nRegistration Deadline for Teams and Sponsorships – August 12\, 2021
URL:https://www.waa-isa.org/tribe-events/waa-first-annual-golf-outing/
LOCATION:Songbird Hills Golf Club\, W259N8700 Hwy 164\, Hartland\, Wisconsin\, 53029\, United States
CATEGORIES:WAA Events
ATTACH;FMTTYPE=image/jpeg:https://www.waa-isa.org/wp-content/uploads/2021/05/golf-tee.jpg
END:VEVENT
END:VCALENDAR