BEGIN:VCALENDAR
VERSION:2.0
PRODID:-//WAA-ISA - ECPv6.15.20//NONSGML v1.0//EN
CALSCALE:GREGORIAN
METHOD:PUBLISH
X-ORIGINAL-URL:https://www.waa-isa.org
X-WR-CALDESC:Events for WAA-ISA
REFRESH-INTERVAL;VALUE=DURATION:PT1H
X-Robots-Tag:noindex
X-PUBLISHED-TTL:PT1H
BEGIN:VTIMEZONE
TZID:America/Chicago
BEGIN:DAYLIGHT
TZOFFSETFROM:-0600
TZOFFSETTO:-0500
TZNAME:CDT
DTSTART:20210314T080000
END:DAYLIGHT
BEGIN:STANDARD
TZOFFSETFROM:-0500
TZOFFSETTO:-0600
TZNAME:CST
DTSTART:20211107T070000
END:STANDARD
BEGIN:DAYLIGHT
TZOFFSETFROM:-0600
TZOFFSETTO:-0500
TZNAME:CDT
DTSTART:20220313T080000
END:DAYLIGHT
BEGIN:STANDARD
TZOFFSETFROM:-0500
TZOFFSETTO:-0600
TZNAME:CST
DTSTART:20221106T070000
END:STANDARD
BEGIN:DAYLIGHT
TZOFFSETFROM:-0600
TZOFFSETTO:-0500
TZNAME:CDT
DTSTART:20230312T080000
END:DAYLIGHT
BEGIN:STANDARD
TZOFFSETFROM:-0500
TZOFFSETTO:-0600
TZNAME:CST
DTSTART:20231105T070000
END:STANDARD
END:VTIMEZONE
BEGIN:VEVENT
DTSTART;TZID=America/Chicago:20220615T080000
DTEND;TZID=America/Chicago:20220616T160000
DTSTAMP:20260420T102354
CREATED:20220602T155214Z
LAST-MODIFIED:20220602T155215Z
UID:10000261-1655280000-1655395200@www.waa-isa.org
SUMMARY:National Firewood Workshop 2022
DESCRIPTION:Firewood plays a vital role in our state\, especially in regions that do not have access to markets for small-diameter logs\, and this year the National Firewood Workshop will be held in Wisconsin. The two-day educational and networking event supports the split-firewood industry by hosting business discussions with leading firewood industry professionals and offering outdoor demonstrations of firewood equipment by the leading vendors of the US and Canada.  The topics covered include business management\, marketing\, splitting and processor equipment\, dry kiln equipment\, kiln certification\, transportation issues\, automation\, bundle packing and other topics important to the operation of a successful firewood operation.  The workshop is organized by North Carolina State University Wood Products Extension and sponsored by the Wisconsin Department of Natural Resources\, US Forest Service\, University of Wisconsin Madison Extension\, Wisconsin Department of Agriculture\, Trade and Consumer Protection\, the Wood Education and Resource Center of Princeton\, WV\, and the Firewood Scout. \n\n\n\nDate and time \n\n\n\nWednesday\, June 15\, 2022\, 9:00 AM –4:00 PM CDT \n\n\n\nThursday\, June 16\, 2022\, 9:00 AM — 4:00 PM CDT \n\n\n\nDoors open at 8:00 AM each day. \n\n\n\nLocation \n\n\n\nArlington Ag Research Station \n\n\n\nN695 Hopkins Road \n\n\n\nArlington\, WI 53911                \n\n\n\n$50 per attendee
URL:https://www.waa-isa.org/tribe-events/national-firewood-workshop-2022/
LOCATION:Arlington Ag Research Station\, N695 Hopkins Road\, Arlington\, Wisconsin\, 53911\, United States
END:VEVENT
END:VCALENDAR