BEGIN:VCALENDAR
VERSION:2.0
PRODID:-//WAA-ISA - ECPv6.15.20//NONSGML v1.0//EN
CALSCALE:GREGORIAN
METHOD:PUBLISH
X-WR-CALNAME:WAA-ISA
X-ORIGINAL-URL:https://www.waa-isa.org
X-WR-CALDESC:Events for WAA-ISA
REFRESH-INTERVAL;VALUE=DURATION:PT1H
X-Robots-Tag:noindex
X-PUBLISHED-TTL:PT1H
BEGIN:VTIMEZONE
TZID:America/Chicago
BEGIN:DAYLIGHT
TZOFFSETFROM:-0600
TZOFFSETTO:-0500
TZNAME:CDT
DTSTART:20190310T080000
END:DAYLIGHT
BEGIN:STANDARD
TZOFFSETFROM:-0500
TZOFFSETTO:-0600
TZNAME:CST
DTSTART:20191103T070000
END:STANDARD
BEGIN:DAYLIGHT
TZOFFSETFROM:-0600
TZOFFSETTO:-0500
TZNAME:CDT
DTSTART:20200308T080000
END:DAYLIGHT
BEGIN:STANDARD
TZOFFSETFROM:-0500
TZOFFSETTO:-0600
TZNAME:CST
DTSTART:20201101T070000
END:STANDARD
BEGIN:DAYLIGHT
TZOFFSETFROM:-0600
TZOFFSETTO:-0500
TZNAME:CDT
DTSTART:20210314T080000
END:DAYLIGHT
BEGIN:STANDARD
TZOFFSETFROM:-0500
TZOFFSETTO:-0600
TZNAME:CST
DTSTART:20211107T070000
END:STANDARD
END:VTIMEZONE
BEGIN:VTIMEZONE
TZID:UTC
BEGIN:STANDARD
TZOFFSETFROM:+0000
TZOFFSETTO:+0000
TZNAME:UTC
DTSTART:20190101T000000
END:STANDARD
END:VTIMEZONE
BEGIN:VEVENT
DTSTART;TZID=America/Chicago:20200814T070000
DTEND;TZID=America/Chicago:20200814T080000
DTSTAMP:20260420T010600
CREATED:20200811T201558Z
LAST-MODIFIED:20200811T201601Z
UID:10000126-1597388400-1597392000@www.waa-isa.org
SUMMARY:Free Webinar: The Economic and Plant Health Considerations of Tree Production Systems
DESCRIPTION:Join us as Rick Harper\, from the University of Massachusetts\, discusses the economic and plant health considerations of planting trees grown using a variety of nursery production systems including bare-root\, balled and burlapped\, and container-grown.  \n\n\n\nRichard W. Harper is an Extension Assist. Professor of Urban & Community Forestry in the UMass Department of Environmental Conservation. An ISA (Int. Society of Arboriculture) Board Certified Master Arborist & Connecticut Licensed Arborist\, Rick has over 16 years combined green industry experience both as a field technician and in Cornell University’s Extension Horticulture Program. Rick received his Master of Science in Entomology & undergraduate degrees in Environmental Studies/Forest Management.
URL:https://www.waa-isa.org/tribe-events/free-webinar-the-economic-and-plant-health-considerations-of-tree-production-systems/
CATEGORIES:Green Industry Events
END:VEVENT
BEGIN:VEVENT
DTSTART;TZID=UTC:20200619T080000
DTEND;TZID=UTC:20200619T081500
DTSTAMP:20260420T010600
CREATED:20200610T201216Z
LAST-MODIFIED:20200610T201220Z
UID:10000101-1592553600-1592554500@www.waa-isa.org
SUMMARY:Free Webinar for Kids: Professor Pricklethorn: Tree Talks for Kids
DESCRIPTION:The incomparable Professor Elwood Pricklethorn will be speaking to primary school aged children\, in English\, all about his favourite topic in the whole wide world -TREES! By seeing trees through the Professor’s eyes and his green-coloured lenses\, you will see the trees around you in a very different way. Through his fast paced and engaging presentation style\, we will learn to respect and care for the very trees that help us in countless ways. Please tune in to this funny and educational\, 15-minute webinar\, for children!
URL:https://www.waa-isa.org/tribe-events/free-webinar-for-kids-professor-pricklethorn-tree-talks-for-kids/
CATEGORIES:Green Industry Events
END:VEVENT
END:VCALENDAR