BEGIN:VCALENDAR
VERSION:2.0
PRODID:-//WAA-ISA - ECPv6.15.20//NONSGML v1.0//EN
CALSCALE:GREGORIAN
METHOD:PUBLISH
X-ORIGINAL-URL:https://www.waa-isa.org
X-WR-CALDESC:Events for WAA-ISA
REFRESH-INTERVAL;VALUE=DURATION:PT1H
X-Robots-Tag:noindex
X-PUBLISHED-TTL:PT1H
BEGIN:VTIMEZONE
TZID:America/Chicago
BEGIN:DAYLIGHT
TZOFFSETFROM:-0600
TZOFFSETTO:-0500
TZNAME:CDT
DTSTART:20250309T080000
END:DAYLIGHT
BEGIN:STANDARD
TZOFFSETFROM:-0500
TZOFFSETTO:-0600
TZNAME:CST
DTSTART:20251102T070000
END:STANDARD
BEGIN:DAYLIGHT
TZOFFSETFROM:-0600
TZOFFSETTO:-0500
TZNAME:CDT
DTSTART:20260308T080000
END:DAYLIGHT
BEGIN:STANDARD
TZOFFSETFROM:-0500
TZOFFSETTO:-0600
TZNAME:CST
DTSTART:20261101T070000
END:STANDARD
BEGIN:DAYLIGHT
TZOFFSETFROM:-0600
TZOFFSETTO:-0500
TZNAME:CDT
DTSTART:20270314T080000
END:DAYLIGHT
BEGIN:STANDARD
TZOFFSETFROM:-0500
TZOFFSETTO:-0600
TZNAME:CST
DTSTART:20271107T070000
END:STANDARD
END:VTIMEZONE
BEGIN:VEVENT
DTSTART;TZID=America/Chicago:20260421T120000
DTEND;TZID=America/Chicago:20260421T130000
DTSTAMP:20260419T223109
CREATED:20260331T115628Z
LAST-MODIFIED:20260331T115629Z
UID:10000713-1776772800-1776776400@www.waa-isa.org
SUMMARY:TREE Fund Webinars
DESCRIPTION:Tree Health Implications of Long-term Strategies to Treat Emerald Ash Borer: Long-term Effects on Tree Injections and Tree Tissue \n\n\n\nTuesday April 21 @ 12:00pm CST \n\n\n\n\n\n\n\n\nDr. Richard Hauer along with Dr. Andrew Koeser and Dr. Jake Miesbauer will present their 2021 Hyland Johns Grant Program titled\, “Tree Health Implications of Long-term Strategies to Treat Emerald Ash Borer: Long-term Effects on Tree Injections and Tree Tissue”\n \n\n\n\n\n\n\n\n \n\n\n\nRegistration is open here
URL:https://www.waa-isa.org/tribe-events/tree-fund-webinars-7/
ATTACH;FMTTYPE=image/png:https://www.waa-isa.org/wp-content/uploads/2019/12/treefund-webinar.png
END:VEVENT
BEGIN:VEVENT
DTSTART;TZID=America/Chicago:20260422T183000
DTEND;TZID=America/Chicago:20260422T203000
DTSTAMP:20260419T223109
CREATED:20260401T132344Z
LAST-MODIFIED:20260401T132346Z
UID:10000730-1776882600-1776889800@www.waa-isa.org
SUMMARY:2026 PDDC Plant Disease Talks
DESCRIPTION:For information about all the PDDC talks visit this link: Plant disease talks \n\n\n\n \n\n\n\n \n\n\n\n \n\n\n\nPlant Disease Management by Design:Preventing Plant Disease Problems During the Landscape Design Process\n\n\n\nDate:  April 22\, 2026Time:  6:30 – 8:30 pm\n\n\n\nDescription\n\n\n\nLearn about common diseases in landscape settings and strategies in site evaluation\, plant selection\, plant installation\, and post-installation maintenance that will help you design and establish landscapes that will have long-term sustainability. \n\n\n\nRegister for this talk \n\n\n\n \n\n\n\nThe Science (and Art) of Plant Disease Diagnosis \n\n\n\nDate:  May 27\, 2026Time:  6:30 – 8:30 pm\n\n\n\nDescription\n\n\n\nLearn about the fascinating and complex process involved in identifying plant diseases.  Learn about how to visually assess for plant disease symptoms\, as well as about the range of lab tests that are often needed to confirm the identity of plant diseases. \n\n\n\nRegister for this talk \n\n\n\nPlant Diseases in History\n\n\n\nDate:  June 24\, 2026Time:  6:30 – 8:30 pm\n\n\n\nDescription\n\n\n\nLearn about how plant diseases have impacted human history and how plant diseases continue to be important in our daily lives and in pop culture. \n\n\n\nRegister for this talk \n\n\n\nEvil Twins:  Plant Disease Look-Alikes\n\n\n\nDate:  July 22\, 2026Time:  6:30 – 8:30 pm\n\n\n\nDescription\n\n\n\nLearn about common diseases that have similar symptoms and can be misidentified\, but may have very different management strategies. \n\n\n\nRegister for this talk \n\n\n\n \n\n\n\nHosta Diseases\n\n\n\nDate:  August 26\, 2026Time:  6:30 – 8:30 pm\n\n\n\nDescription\n\n\n\nLearn about common diseases of hostas.  This presentation will include information on how to identify these diseases\, as well as information on how to manage them. \n\n\n\nRegister for this talk \n\n\n\n \n\n\n\nGrowing Healthy Plants:  Basics in Plant Disease Management\n\n\n\nDate:  September 23\, 2026Time:  6:30 – 8:30 pm\n\n\n\nDescription\n\n\n\nLearn about common methods for disease control\, their pros and cons\, and how you can adapt these techniques for use in your own home garden. \n\n\n\nRegister for this talk \n\n\n\nOrchid Diseases\n\n\n\nDate:  October 28\, 2026Time:  6:30 – 8:30 pm\n\n\n\nDescription\n\n\n\nLearn about common diseases of orchids.  This presentation will include information on how to identify these diseases\, as well as information on how to manage them. \n\n\n\nRegister for this talk \n\n\n\nConfessions of a Black Thumb:  Plants That I Have Killed (or at Least Seriously Maimed)\n\n\n\nDate:  November 18\, 2026Time:  6:30 – 8:30 pm\n\n\n\nDescription\n\n\n\nLearn about the favorite plants of Brian Hudelson (aka Dr. Death) and his epic failures in attempting to grow these plants in his home garden\, either through his encouragement of plant diseases\, his insistence on practicing “Darwinian gardening” or through his sheer gardening stupidity.  Use these cautionary tales to improve your own gardening skills. \n\n\n\nRegister for this talk \n\n\n\nPlant Disease Holiday Gift List\n\n\n\nDate:  December 16\, 2026Time:  6:30 – 8:30 pm\n\n\n\nDescription\n\n\n\nLearn about plant diseases that can be beneficial to people and might make a great holiday gift for a loved one. \n\n\n\nRegister for this talk
URL:https://www.waa-isa.org/tribe-events/2026-pddc-plant-disease-talks-2/
ATTACH;FMTTYPE=image/jpeg:https://www.waa-isa.org/wp-content/uploads/2026/04/PDDCTalksIcon.jpg
END:VEVENT
BEGIN:VEVENT
DTSTART;TZID=America/Chicago:20260424T090000
DTEND;TZID=America/Chicago:20260424T123000
DTSTAMP:20260419T223109
CREATED:20260401T123113Z
LAST-MODIFIED:20260401T123528Z
UID:10000729-1777021200-1777033800@www.waa-isa.org
SUMMARY:Rocky Mountain Chapter Webinar Event
DESCRIPTION:Building Resilient Urban Forests: Preparing Trees for Heat\, Drought & Severe Weather \n\n\n\n\n\n\n\nApril 24\, 2026  \n\n\n\nLocation: Zoom Online Webinar\, Casper\, WY\, UNITED STATES \n\n\n\nOrganizer: Learn Trees  \n\n\n\nSponsor: Rocky Mountain Chapter ISA \n\n\n\nCost: $97 \n\n\n\nDescription: Urban trees face mounting stress from hotter summers\, extended dry periods\, and increasingly intense storm events. This course equips arborists with practical\, science-based strategies to improve resilience before these challenges peak. Participants will learn how to strengthen tree defenses through spring interventions such as soil and water management\, canopy care\, and proactive planting decisions. Broader resilience tools—including species diversification\, improved planting systems\, and site design innovations—will also be addressed. The course highlights how both municipal forestry programs and private tree care companies play critical roles in preparing urban forests for environmental stress\, focusing on applied arboriculture and measurable outcomes without political framing. \n\n\n\n\nISA CEU Categories Requested\n\n\n\n3.5 – ISA Certified Arborist\n\n\n\n3.5 – ISA BCMA – Science\n\n\n\n3.5 – ISA Practice\n\n\n\n3.5 – ISA Management\n\n\n\n3.5 – ISA Urban Forest Professional\n\n\n\n\nFor more information and to register visit the event link below:
URL:https://www.waa-isa.org/tribe-events/rocky-mountain-chapter-webinar-event/
ATTACH;FMTTYPE=image/jpeg:https://www.waa-isa.org/wp-content/uploads/2021/11/Learn-Trees-logo.jpg
END:VEVENT
BEGIN:VEVENT
DTSTART;TZID=America/Chicago:20260424T170000
DTEND;TZID=America/Chicago:20260426T110000
DTSTAMP:20260419T223109
CREATED:20260320T184030Z
LAST-MODIFIED:20260410T010124Z
UID:10000710-1777050000-1777201200@www.waa-isa.org
SUMMARY:WAA Student/Apprentice Conference - April 24-26\, 2026
DESCRIPTION:Registration Extended – REQUIRED! \n\n\n\nRegistration Deadline: Wed. April 22 \n\n\n\n\n\n\n\n\n\nIncludes educational sessions\, connections between students and industry professionals\, and a fun skills competition between students. \n\n\n\nHousing for the 2 nights is included. Bring your own bedding\, (sleeping bag and pillow) \n\n\n\nPlease eat dinner before you come on Friday. Meals will be provided Saturday\, along with breakfast on Sunday.   \n\n\n\nBring your own gear and PPE.  House gear will also be provided. \n\n\n\nHope you can make it! \n\n\n\n \n\n\n\n\n\n\n\nConference Agenda \n\n\n\n\nFriday\, April 24th \n\n\n\n\n5:00pm-7:00pm     Registration\n\n\n\n7:00pm- 7:30pm    Welcome program\n\n\n\n7:30pm-8:30pm     Speaker: Sydney Hudzinski – Gear Wants vs. Needs\n\n\n\n8:30pm-10:00pm   Networking\n\n\n\n10:00pm-6:00am   Quiet hours\n\n\n\n\nSaturday\, April 25th \n\n\n\n\n7:00am-8:00am      Networking\n\n\n\n8:00am-8:45am      Breakfast and Speaker: Sam Finco – Lanyard Tips and Tricks\n\n\n\n8:45am -9:00am Safety Brief to students – Shelly Wollerman\n\n\n\n8:45am- 9:00am Skills challenge Volunteer meeting/Safety Brief\n\n\n\n9:00am-10:00am Skills challenge walk-through\n\n\n\n10:00am-12:00pm  Skills challenge\n\n\n\n12:00pm-1:00pm    Lunch and Speaker: Tim Walsh – Careers and Resumes\n\n\n\n1:00pm-5:30pm      Skills challenge continues/ Free time when done\n\n\n\n5:30pm-6:30pm Dinner Speaker: Dr. Richard Hauer – Choose Your Own Tree Adventure\n\n\n\n6:30pm-10:00pm    Light up the Future Event\n\n\n\n11:00pm-7:00am    Quiet hours\n\n\n\n\nSunday April 26th \n\n\n\n\n8:00am-9:00am Breakfast & Speaker: Shelly Wollerman – Focus on Safety\n\n\n\n9:00am-10:00am     Awards and closing statements\n\n\n\n10:00am-11:00am   Check out of lodge by 11am\n\n\n\n\n\n\n\n\n\nAbout the Speakers \n\n\n\n\nSam Finco – Sam Finco is a practicing arborist\, Board Certified Master Arborist\, and 9th place finisher in the 2025 International Tree Climbing Championship.\n\n\n\nRichard Hauer – Richard Hauer is the Director of Urban Forestry at Eocene Environmental Group and an Emeritus Professor of Urban Forestry at the University of Wisconsin – Stevens Point. He was honored as the 2023 Alex L. Shigo Award for Excellence in Education and the 2018 & 2024 L.C. Chadwick Award for Arboricultural Research. He has published over 200 publications and presented over 500 talks throughout the world.\n\n\n\nSydney Hudzinski – Sydney Hudzinski started in the industry in 2019. She spent her first year working on obtaining her credentials. She recognized a gap in onboarding and mentoring in the industry. She has always been passionate about paving a better way for the next generation\, so she started training and mentoring. She now works for the City of Plymouth. She stays active in the industry by going to multiple climbing competitions a year\, volunteering with the MSA\, and instructing at The Women’s Tree Climbing Workshop.\n\n\n\nTim Walsh – Tim Walsh is the VP of Safety & Training at Townsend Company\, LLC.  Tim has a Doctorate in ergonomics and safety and has a Master’s degree in ergonomics. He has Master’s and Bachelor’s degrees in Urban Forestry from UWSP.  Tim is a Certified Treecare Safety Professional\, an ISA Certified Arborist and Certified Tree Worker Climber Specialist. He was a voting member of the 2022 revision of the ANSI Z133 and has been involved with the Accredited Standards Committee Z133 for several revisions. He serves on the Utility Arborist Association (UAA) Board of Directors and is the Champion for UAA Safety Committee and has served as the chair of the UAA Professional Development Committee.  Tim has also been a climbing arborist for more than 35 years\, has owned his own business\, worked as a contract climber and worked with companies around the world.\n\n\n\nShelly Wollerman – Shelly Wollerman has 10 years experience in production tree care\, 3 years experience as a trainer\, and is the Owner/Operator of Soteria Training Solutions.  She is a Licensed Wilderness EMT.\n\n\n\n\n\n\n\n\nVolunteers Needed \n\n\n\n\nWe are looking for a few more volunteers!  \n\n\n\nInterested? Please email WAA Student Organization Liaison\, Audrey Earle.\n\n\n\n\n\n\n\n\nSponsors Needed \n\n\n\n\nSkills Events\, Connections Corner\, Snack Break\, and T-Shirt sponsors still needed!\n\n\n\nCheck out the 2026 WAA Sponsor Program itemized sponsor list for details.\n\n\n\nInterested or have questions? Please email our Sponsorship Chair\, Nathan Schuettpelz.\n\n\n\n\n\n\n\n\nCamp Whitcomb/Mason\, Hartland
URL:https://www.waa-isa.org/tribe-events/waa-student-apprentice-conference-april-24-26-2026/
LOCATION:Camp Whitcomb/Mason\, W294N8436 Camp Whitcomb Rd\, Hartland\, Wisconsin\, 53029\, United States
CATEGORIES:WAA Events
ATTACH;FMTTYPE=image/png:https://www.waa-isa.org/wp-content/uploads/2026/03/waastudent-conference1.png
END:VEVENT
END:VCALENDAR