BEGIN:VCALENDAR
VERSION:2.0
PRODID:-//WAA-ISA - ECPv6.15.20//NONSGML v1.0//EN
CALSCALE:GREGORIAN
METHOD:PUBLISH
X-ORIGINAL-URL:https://www.waa-isa.org
X-WR-CALDESC:Events for WAA-ISA
REFRESH-INTERVAL;VALUE=DURATION:PT1H
X-Robots-Tag:noindex
X-PUBLISHED-TTL:PT1H
BEGIN:VTIMEZONE
TZID:America/Chicago
BEGIN:DAYLIGHT
TZOFFSETFROM:-0600
TZOFFSETTO:-0500
TZNAME:CDT
DTSTART:20250309T080000
END:DAYLIGHT
BEGIN:STANDARD
TZOFFSETFROM:-0500
TZOFFSETTO:-0600
TZNAME:CST
DTSTART:20251102T070000
END:STANDARD
BEGIN:DAYLIGHT
TZOFFSETFROM:-0600
TZOFFSETTO:-0500
TZNAME:CDT
DTSTART:20260308T080000
END:DAYLIGHT
BEGIN:STANDARD
TZOFFSETFROM:-0500
TZOFFSETTO:-0600
TZNAME:CST
DTSTART:20261101T070000
END:STANDARD
BEGIN:DAYLIGHT
TZOFFSETFROM:-0600
TZOFFSETTO:-0500
TZNAME:CDT
DTSTART:20270314T080000
END:DAYLIGHT
BEGIN:STANDARD
TZOFFSETFROM:-0500
TZOFFSETTO:-0600
TZNAME:CST
DTSTART:20271107T070000
END:STANDARD
END:VTIMEZONE
BEGIN:VEVENT
DTSTART;TZID=America/Chicago:20260304T083000
DTEND;TZID=America/Chicago:20260304T153000
DTSTAMP:20260420T001601
CREATED:20251219T152329Z
LAST-MODIFIED:20251219T152332Z
UID:10000684-1772613000-1772638200@www.waa-isa.org
SUMMARY:Landscape Professionals Conference 2026
DESCRIPTION:Skills training in: hard-scape\, landscape\, maintenance and safety \n\n\n\n Register by Feb 2\, 2026.  Please see the attached brochure for more information: https://outagamie.extension.wisc.edu/files/2025/10/Landscape-Professionals-Conference.pdf
URL:https://www.waa-isa.org/tribe-events/landscape-professionals-conference-2026-2/
LOCATION:Sunnview Expo Center\, 500 E County Rd Y\, Oshkosh\, Wisconsin\, 54901\, United States
ATTACH;FMTTYPE=image/png:https://www.waa-isa.org/wp-content/uploads/2025/12/Screenshot-2025-12-18-at-07-18-10-Landscape-Professionals-Conference-–-Extension-Outagamie-County.png
END:VEVENT
BEGIN:VEVENT
DTSTART;TZID=America/Chicago:20260325T090000
DTEND;TZID=America/Chicago:20260325T140000
DTSTAMP:20260420T001601
CREATED:20260306T130316Z
LAST-MODIFIED:20260306T130318Z
UID:10000709-1774429200-1774447200@www.waa-isa.org
SUMMARY:ISA Michigan Plant Health Care 1/2 Day Webinar
DESCRIPTION:Join ISA Michigan for a focused half-day Plant Health Care (PHC) webinar designed to strengthen your diagnostic skills\, improve treatment decision-making\, and refine late-dormant application strategies. This program brings together nationally recognized researchers and industry leaders to address real-world PHC challenges facing arborists\, municipal foresters\, and tree care professionals. \n\n\n\nEarn 4 CEUs! \n\n\n\nFor more information and to register visit:   ISA Michigan Plant Health Care 1/2 Day Webinar
URL:https://www.waa-isa.org/tribe-events/isa-michigan-plant-health-care-1-2-day-webinar/
ATTACH;FMTTYPE=image/png:https://www.waa-isa.org/wp-content/uploads/2026/03/ISA-Michigan-B-Color-White-BlueBKG_0.5x_923872501.png
END:VEVENT
END:VCALENDAR