BEGIN:VCALENDAR
VERSION:2.0
PRODID:-//WAA-ISA - ECPv6.15.20//NONSGML v1.0//EN
CALSCALE:GREGORIAN
METHOD:PUBLISH
X-WR-CALNAME:WAA-ISA
X-ORIGINAL-URL:https://www.waa-isa.org
X-WR-CALDESC:Events for WAA-ISA
REFRESH-INTERVAL;VALUE=DURATION:PT1H
X-Robots-Tag:noindex
X-PUBLISHED-TTL:PT1H
BEGIN:VTIMEZONE
TZID:America/Chicago
BEGIN:DAYLIGHT
TZOFFSETFROM:-0600
TZOFFSETTO:-0500
TZNAME:CDT
DTSTART:20250309T080000
END:DAYLIGHT
BEGIN:STANDARD
TZOFFSETFROM:-0500
TZOFFSETTO:-0600
TZNAME:CST
DTSTART:20251102T070000
END:STANDARD
BEGIN:DAYLIGHT
TZOFFSETFROM:-0600
TZOFFSETTO:-0500
TZNAME:CDT
DTSTART:20260308T080000
END:DAYLIGHT
BEGIN:STANDARD
TZOFFSETFROM:-0500
TZOFFSETTO:-0600
TZNAME:CST
DTSTART:20261101T070000
END:STANDARD
BEGIN:DAYLIGHT
TZOFFSETFROM:-0600
TZOFFSETTO:-0500
TZNAME:CDT
DTSTART:20270314T080000
END:DAYLIGHT
BEGIN:STANDARD
TZOFFSETFROM:-0500
TZOFFSETTO:-0600
TZNAME:CST
DTSTART:20271107T070000
END:STANDARD
END:VTIMEZONE
BEGIN:VEVENT
DTSTART;TZID=America/Chicago:20260114T080000
DTEND;TZID=America/Chicago:20260114T160000
DTSTAMP:20260420T031646
CREATED:20260105T124415Z
LAST-MODIFIED:20260105T130313Z
UID:10000700-1768377600-1768406400@www.waa-isa.org
SUMMARY:Winter Identification and Management of Woody Species
DESCRIPTION:Learn how to identify\, manage\, and monitor trees and shrubs during the dormant season with Riveredge restoration ecologists. The first half of the morning will be spent indoors reviewing a large collection of freshly cut live specimens by fruit\, bud\, twig\, branch\, bark\, and trunk. In the afternoon\, we will take the course outside to review management and identify populations by setting and habitat. \n\n\n\nISA Certified Arborist CEUs available.  \n\n\n\n\n\n\n\nPlease dress for the weather and please bring a lunch. \n\n\n\n\n\nRegister Here!
URL:https://www.waa-isa.org/tribe-events/winter-identification-and-management-of-woody-species-2/
LOCATION:Riveredge Nature Center\, 4458 County HWY Y\, Saukville\, Wisconsin\, 53080\, United States
CATEGORIES:Green Industry Events
ATTACH;FMTTYPE=image/png:https://www.waa-isa.org/wp-content/uploads/2026/01/Winter-Woody-ID-26.png
END:VEVENT
BEGIN:VEVENT
DTSTART;TZID=America/Chicago:20260115T183000
DTEND;TZID=America/Chicago:20260115T210000
DTSTAMP:20260420T031646
CREATED:20251202T172535Z
LAST-MODIFIED:20251209T141813Z
UID:10000674-1768501800-1768510800@www.waa-isa.org
SUMMARY:2026 Certified Arborist Study Group
DESCRIPTION:5 Week Workshop – Tuesday and Thursday evenings starting January 15 – February 12\, 2025. Every Tuesday and Thursday will be 6:30pm – 9:00pm. Over the 5 weeks (9 sessions)\, we will be covering each of the domains associated with the certified arborist exam. The following week (Monday\, February 16th)\, we will be offering a certified arborist exam in conjunction with the Annual Conference in Green Bay\, WI. The cost of the exam is separate and paid directly to ISA. Information will be forthcoming on the exam. The exam will be available for everyone\, not just class participants. So if you want to take the exam\, it is best to start the application process early. The cost of the annual conference is a separate fee as well\, if you wish to attend. Information will be forthcoming on the WAA website. \n\n\n\nThis is an VIRTUAL course.  You are welcome to register for the full course.  You can also choose to attend individual sessions.  2.5 CEU credits are available per session. \n\n\n\nLeading industry subject matter experts are the instructors and this study group is tailored to the working arborist. \n\n\n\n\n\n\n\nLocation\n\n\n\nVirtual Zoom Meeting – Meeting invites will be sent out closer to the start of the course. \n\n\n\n\n\n\n\nCourse Syllabus\n\n\n\n            Date                                  Instructor                              Class Domain \n\n\n\nThursday\, January 15th 2026Jake KubisiakTree Physiology and BiologyTuesday\, January 20th\, 2026  Glen Stanosz  Plant Health Care/Diseases and TreatmentThursday January 22nd 2026 Aaron SchauerSoil\, Water and NutritionTuesday January 27th\, 2026Matt KettnerClimbing and Safety Thursday January 29th\, 2026 Nathan SchuettpelzRisk ManagementTuesday February 3rd. 2026 Denny Fermenich  Tree Establishment and PruningThursday February 5th \,2026Don RoppoloTree Support and ProtectionTuesday February 10th\, 2026Denny FermenichTree ID and Selection Thursday February 12th\, 2026Dannell VanceTrees and Construction /Urban ForestryMon.\, February 16th\, 2026Franklin SeilheimerCertification Exam (NOT INCLUDED IN PRICING)\n\n\n\nOur instructors:\n\n\n\nJake Kubisiak– Consulting Arborist\, Wachtel Tree Science\, ISA Board Certified Master Arborist \n\n\n\nDr. Glen Stanosz– Emeritus Professor of Tree and Forest Health at UW-Madison\, and is an ISA Certified Arborist with the Tree Risk Assessment Qualification \n\n\n\nAaron Schauer– Program Director and Instructor of Arboriculture/Urban Forestry at Gateway Technical College \n\n\n\nMatt Kettner- Urban Forestry Specialist City of Cedarburg \n\n\n\nNathan Schuettpelz– Consulting Department Manager\, Wachtel Tree Science \n\n\n\nDenny Fermenich– City Forester\, City of Greenfield; Past president of WAA \n\n\n\nDon Roppolo– Past President\, Illinois Arborist Association; Davey Institute\, Director of Arboricultural Training \n\n\n\nDannell Vance- Urban Forestry Technical Services Manager at DPW Milwaukee \n\n\n\nFranklin Seilheimer– Urban Forestry District Manager\, City of Milwaukee\, DPW-Forestry \n\n\n\n\n\n\n\nCost:\n\n\n\n$225 – WAA Member – Full Course (the person attending the course must be a WAA member to receive this pricing!) \n\n\n\n$270 – Non-Member – Full Course (Includes one year membership) \n\n\n\n$35 – Single Session \n\n\n\n$90 – Study Guide (Recommended) \n\n\n\n$15 – ANSI Standards (Recommended) \n\n\n\nEXAM IS SEPARATE! \n\n\n\n\n\n\n\nCancellation and Refund Policy\n\n\n\n\nRefunds will be made if requested on or before January 12\, 2026 with a $25 processing fee.\n\n\n\nThere will be no refunds for cancellations made after January 12th\, although substitutions may be permitted prior to January 15th.  Refunds will only be considered in emergency situations at the Wisconsin Arborist Association’s discretion.  Refunds will not be provided for registrants who do not attend the event.\n\n\n\nNotice of cancellation and/or substitutions must be made by contacting Tina Johnson through the Contact Us page on our website or by calling Tina Johnson at 262-899-0060.  A cancellation acknowledgement will be sent within 3 working days and fees refunded within 10 working days\, subject to this Return Policy.  We do not issue refunds once the event has occurred/started.\n\n\n\n\n\n\n\n\nQuestions or Need Help Registering?\n\n\n\nContact Tina Johnson through the Contact Us page on our website.
URL:https://www.waa-isa.org/tribe-events/2026-certified-arborist-study-group/2026-01-15/
CATEGORIES:WAA Events
ATTACH;FMTTYPE=image/jpeg:https://www.waa-isa.org/wp-content/uploads/2021/01/ISA-Cert-Arborist-logo.jpg
END:VEVENT
BEGIN:VEVENT
DTSTART;TZID=America/Chicago:20260120T120000
DTEND;TZID=America/Chicago:20260120T160000
DTSTAMP:20260420T031646
CREATED:20260105T130149Z
LAST-MODIFIED:20260105T130151Z
UID:10000701-1768910400-1768924800@www.waa-isa.org
SUMMARY:Restoring Your Woodland Class 1: Know Your Enemy- Invasive Plant ID & Property Assessment
DESCRIPTION:The first step in taking back your woodland is knowing what you’re up against. This foundational class will train you to identify the “top tier” invasive threats in our counties woodlands—from woody invasive species (buckthorn\, honeysuckle\, barberry\, autumn olive) to herbaceous (garlic mustard\, dame’s rocket\, celindine\, burdock). Using live samples\, we’ll show you the key features to look for in all seasons. We’ll also discuss why these plants win and how to think like an ecologist. The session culminates in learning a strategic “triage” approach to map your own property. You’ll leave with the confidence to identify your problem plants and a clear map of where to start for the biggest impact. \n\n\n\nISA CEUs Available \n\n\n\nAges 18+Member: $40 | Non-member: $50Pre-registration required by January 19 at 11:59 pm. \n\n\n\n\n\nRegister Here
URL:https://www.waa-isa.org/tribe-events/restoring-your-woodland-class-1-know-your-enemy-invasive-plant-id-property-assessment/
LOCATION:Riveredge Nature Center\, 4458 County HWY Y\, Saukville\, Wisconsin\, 53080\, United States
CATEGORIES:Green Industry Events
ATTACH;FMTTYPE=image/png:https://www.waa-isa.org/wp-content/uploads/2026/01/Restoring-Woodlands-I-26.png
END:VEVENT
BEGIN:VEVENT
DTSTART;TZID=America/Chicago:20260120T183000
DTEND;TZID=America/Chicago:20260120T210000
DTSTAMP:20260420T031646
CREATED:20251202T172535Z
LAST-MODIFIED:20251209T141813Z
UID:10000675-1768933800-1768942800@www.waa-isa.org
SUMMARY:2026 Certified Arborist Study Group
DESCRIPTION:5 Week Workshop – Tuesday and Thursday evenings starting January 15 – February 12\, 2025. Every Tuesday and Thursday will be 6:30pm – 9:00pm. Over the 5 weeks (9 sessions)\, we will be covering each of the domains associated with the certified arborist exam. The following week (Monday\, February 16th)\, we will be offering a certified arborist exam in conjunction with the Annual Conference in Green Bay\, WI. The cost of the exam is separate and paid directly to ISA. Information will be forthcoming on the exam. The exam will be available for everyone\, not just class participants. So if you want to take the exam\, it is best to start the application process early. The cost of the annual conference is a separate fee as well\, if you wish to attend. Information will be forthcoming on the WAA website. \n\n\n\nThis is an VIRTUAL course.  You are welcome to register for the full course.  You can also choose to attend individual sessions.  2.5 CEU credits are available per session. \n\n\n\nLeading industry subject matter experts are the instructors and this study group is tailored to the working arborist. \n\n\n\n\n\n\n\nLocation\n\n\n\nVirtual Zoom Meeting – Meeting invites will be sent out closer to the start of the course. \n\n\n\n\n\n\n\nCourse Syllabus\n\n\n\n            Date                                  Instructor                              Class Domain \n\n\n\nThursday\, January 15th 2026Jake KubisiakTree Physiology and BiologyTuesday\, January 20th\, 2026  Glen Stanosz  Plant Health Care/Diseases and TreatmentThursday January 22nd 2026 Aaron SchauerSoil\, Water and NutritionTuesday January 27th\, 2026Matt KettnerClimbing and Safety Thursday January 29th\, 2026 Nathan SchuettpelzRisk ManagementTuesday February 3rd. 2026 Denny Fermenich  Tree Establishment and PruningThursday February 5th \,2026Don RoppoloTree Support and ProtectionTuesday February 10th\, 2026Denny FermenichTree ID and Selection Thursday February 12th\, 2026Dannell VanceTrees and Construction /Urban ForestryMon.\, February 16th\, 2026Franklin SeilheimerCertification Exam (NOT INCLUDED IN PRICING)\n\n\n\nOur instructors:\n\n\n\nJake Kubisiak– Consulting Arborist\, Wachtel Tree Science\, ISA Board Certified Master Arborist \n\n\n\nDr. Glen Stanosz– Emeritus Professor of Tree and Forest Health at UW-Madison\, and is an ISA Certified Arborist with the Tree Risk Assessment Qualification \n\n\n\nAaron Schauer– Program Director and Instructor of Arboriculture/Urban Forestry at Gateway Technical College \n\n\n\nMatt Kettner- Urban Forestry Specialist City of Cedarburg \n\n\n\nNathan Schuettpelz– Consulting Department Manager\, Wachtel Tree Science \n\n\n\nDenny Fermenich– City Forester\, City of Greenfield; Past president of WAA \n\n\n\nDon Roppolo– Past President\, Illinois Arborist Association; Davey Institute\, Director of Arboricultural Training \n\n\n\nDannell Vance- Urban Forestry Technical Services Manager at DPW Milwaukee \n\n\n\nFranklin Seilheimer– Urban Forestry District Manager\, City of Milwaukee\, DPW-Forestry \n\n\n\n\n\n\n\nCost:\n\n\n\n$225 – WAA Member – Full Course (the person attending the course must be a WAA member to receive this pricing!) \n\n\n\n$270 – Non-Member – Full Course (Includes one year membership) \n\n\n\n$35 – Single Session \n\n\n\n$90 – Study Guide (Recommended) \n\n\n\n$15 – ANSI Standards (Recommended) \n\n\n\nEXAM IS SEPARATE! \n\n\n\n\n\n\n\nCancellation and Refund Policy\n\n\n\n\nRefunds will be made if requested on or before January 12\, 2026 with a $25 processing fee.\n\n\n\nThere will be no refunds for cancellations made after January 12th\, although substitutions may be permitted prior to January 15th.  Refunds will only be considered in emergency situations at the Wisconsin Arborist Association’s discretion.  Refunds will not be provided for registrants who do not attend the event.\n\n\n\nNotice of cancellation and/or substitutions must be made by contacting Tina Johnson through the Contact Us page on our website or by calling Tina Johnson at 262-899-0060.  A cancellation acknowledgement will be sent within 3 working days and fees refunded within 10 working days\, subject to this Return Policy.  We do not issue refunds once the event has occurred/started.\n\n\n\n\n\n\n\n\nQuestions or Need Help Registering?\n\n\n\nContact Tina Johnson through the Contact Us page on our website.
URL:https://www.waa-isa.org/tribe-events/2026-certified-arborist-study-group/2026-01-20/
CATEGORIES:WAA Events
ATTACH;FMTTYPE=image/jpeg:https://www.waa-isa.org/wp-content/uploads/2021/01/ISA-Cert-Arborist-logo.jpg
END:VEVENT
BEGIN:VEVENT
DTSTART;TZID=America/Chicago:20260122T183000
DTEND;TZID=America/Chicago:20260122T210000
DTSTAMP:20260420T031646
CREATED:20251202T172535Z
LAST-MODIFIED:20251209T141813Z
UID:10000676-1769106600-1769115600@www.waa-isa.org
SUMMARY:2026 Certified Arborist Study Group
DESCRIPTION:5 Week Workshop – Tuesday and Thursday evenings starting January 15 – February 12\, 2025. Every Tuesday and Thursday will be 6:30pm – 9:00pm. Over the 5 weeks (9 sessions)\, we will be covering each of the domains associated with the certified arborist exam. The following week (Monday\, February 16th)\, we will be offering a certified arborist exam in conjunction with the Annual Conference in Green Bay\, WI. The cost of the exam is separate and paid directly to ISA. Information will be forthcoming on the exam. The exam will be available for everyone\, not just class participants. So if you want to take the exam\, it is best to start the application process early. The cost of the annual conference is a separate fee as well\, if you wish to attend. Information will be forthcoming on the WAA website. \n\n\n\nThis is an VIRTUAL course.  You are welcome to register for the full course.  You can also choose to attend individual sessions.  2.5 CEU credits are available per session. \n\n\n\nLeading industry subject matter experts are the instructors and this study group is tailored to the working arborist. \n\n\n\n\n\n\n\nLocation\n\n\n\nVirtual Zoom Meeting – Meeting invites will be sent out closer to the start of the course. \n\n\n\n\n\n\n\nCourse Syllabus\n\n\n\n            Date                                  Instructor                              Class Domain \n\n\n\nThursday\, January 15th 2026Jake KubisiakTree Physiology and BiologyTuesday\, January 20th\, 2026  Glen Stanosz  Plant Health Care/Diseases and TreatmentThursday January 22nd 2026 Aaron SchauerSoil\, Water and NutritionTuesday January 27th\, 2026Matt KettnerClimbing and Safety Thursday January 29th\, 2026 Nathan SchuettpelzRisk ManagementTuesday February 3rd. 2026 Denny Fermenich  Tree Establishment and PruningThursday February 5th \,2026Don RoppoloTree Support and ProtectionTuesday February 10th\, 2026Denny FermenichTree ID and Selection Thursday February 12th\, 2026Dannell VanceTrees and Construction /Urban ForestryMon.\, February 16th\, 2026Franklin SeilheimerCertification Exam (NOT INCLUDED IN PRICING)\n\n\n\nOur instructors:\n\n\n\nJake Kubisiak– Consulting Arborist\, Wachtel Tree Science\, ISA Board Certified Master Arborist \n\n\n\nDr. Glen Stanosz– Emeritus Professor of Tree and Forest Health at UW-Madison\, and is an ISA Certified Arborist with the Tree Risk Assessment Qualification \n\n\n\nAaron Schauer– Program Director and Instructor of Arboriculture/Urban Forestry at Gateway Technical College \n\n\n\nMatt Kettner- Urban Forestry Specialist City of Cedarburg \n\n\n\nNathan Schuettpelz– Consulting Department Manager\, Wachtel Tree Science \n\n\n\nDenny Fermenich– City Forester\, City of Greenfield; Past president of WAA \n\n\n\nDon Roppolo– Past President\, Illinois Arborist Association; Davey Institute\, Director of Arboricultural Training \n\n\n\nDannell Vance- Urban Forestry Technical Services Manager at DPW Milwaukee \n\n\n\nFranklin Seilheimer– Urban Forestry District Manager\, City of Milwaukee\, DPW-Forestry \n\n\n\n\n\n\n\nCost:\n\n\n\n$225 – WAA Member – Full Course (the person attending the course must be a WAA member to receive this pricing!) \n\n\n\n$270 – Non-Member – Full Course (Includes one year membership) \n\n\n\n$35 – Single Session \n\n\n\n$90 – Study Guide (Recommended) \n\n\n\n$15 – ANSI Standards (Recommended) \n\n\n\nEXAM IS SEPARATE! \n\n\n\n\n\n\n\nCancellation and Refund Policy\n\n\n\n\nRefunds will be made if requested on or before January 12\, 2026 with a $25 processing fee.\n\n\n\nThere will be no refunds for cancellations made after January 12th\, although substitutions may be permitted prior to January 15th.  Refunds will only be considered in emergency situations at the Wisconsin Arborist Association’s discretion.  Refunds will not be provided for registrants who do not attend the event.\n\n\n\nNotice of cancellation and/or substitutions must be made by contacting Tina Johnson through the Contact Us page on our website or by calling Tina Johnson at 262-899-0060.  A cancellation acknowledgement will be sent within 3 working days and fees refunded within 10 working days\, subject to this Return Policy.  We do not issue refunds once the event has occurred/started.\n\n\n\n\n\n\n\n\nQuestions or Need Help Registering?\n\n\n\nContact Tina Johnson through the Contact Us page on our website.
URL:https://www.waa-isa.org/tribe-events/2026-certified-arborist-study-group/2026-01-22/
CATEGORIES:WAA Events
ATTACH;FMTTYPE=image/jpeg:https://www.waa-isa.org/wp-content/uploads/2021/01/ISA-Cert-Arborist-logo.jpg
END:VEVENT
BEGIN:VEVENT
DTSTART;TZID=America/Chicago:20260127T183000
DTEND;TZID=America/Chicago:20260127T210000
DTSTAMP:20260420T031646
CREATED:20251202T172535Z
LAST-MODIFIED:20251209T141813Z
UID:10000677-1769538600-1769547600@www.waa-isa.org
SUMMARY:2026 Certified Arborist Study Group
DESCRIPTION:5 Week Workshop – Tuesday and Thursday evenings starting January 15 – February 12\, 2025. Every Tuesday and Thursday will be 6:30pm – 9:00pm. Over the 5 weeks (9 sessions)\, we will be covering each of the domains associated with the certified arborist exam. The following week (Monday\, February 16th)\, we will be offering a certified arborist exam in conjunction with the Annual Conference in Green Bay\, WI. The cost of the exam is separate and paid directly to ISA. Information will be forthcoming on the exam. The exam will be available for everyone\, not just class participants. So if you want to take the exam\, it is best to start the application process early. The cost of the annual conference is a separate fee as well\, if you wish to attend. Information will be forthcoming on the WAA website. \n\n\n\nThis is an VIRTUAL course.  You are welcome to register for the full course.  You can also choose to attend individual sessions.  2.5 CEU credits are available per session. \n\n\n\nLeading industry subject matter experts are the instructors and this study group is tailored to the working arborist. \n\n\n\n\n\n\n\nLocation\n\n\n\nVirtual Zoom Meeting – Meeting invites will be sent out closer to the start of the course. \n\n\n\n\n\n\n\nCourse Syllabus\n\n\n\n            Date                                  Instructor                              Class Domain \n\n\n\nThursday\, January 15th 2026Jake KubisiakTree Physiology and BiologyTuesday\, January 20th\, 2026  Glen Stanosz  Plant Health Care/Diseases and TreatmentThursday January 22nd 2026 Aaron SchauerSoil\, Water and NutritionTuesday January 27th\, 2026Matt KettnerClimbing and Safety Thursday January 29th\, 2026 Nathan SchuettpelzRisk ManagementTuesday February 3rd. 2026 Denny Fermenich  Tree Establishment and PruningThursday February 5th \,2026Don RoppoloTree Support and ProtectionTuesday February 10th\, 2026Denny FermenichTree ID and Selection Thursday February 12th\, 2026Dannell VanceTrees and Construction /Urban ForestryMon.\, February 16th\, 2026Franklin SeilheimerCertification Exam (NOT INCLUDED IN PRICING)\n\n\n\nOur instructors:\n\n\n\nJake Kubisiak– Consulting Arborist\, Wachtel Tree Science\, ISA Board Certified Master Arborist \n\n\n\nDr. Glen Stanosz– Emeritus Professor of Tree and Forest Health at UW-Madison\, and is an ISA Certified Arborist with the Tree Risk Assessment Qualification \n\n\n\nAaron Schauer– Program Director and Instructor of Arboriculture/Urban Forestry at Gateway Technical College \n\n\n\nMatt Kettner- Urban Forestry Specialist City of Cedarburg \n\n\n\nNathan Schuettpelz– Consulting Department Manager\, Wachtel Tree Science \n\n\n\nDenny Fermenich– City Forester\, City of Greenfield; Past president of WAA \n\n\n\nDon Roppolo– Past President\, Illinois Arborist Association; Davey Institute\, Director of Arboricultural Training \n\n\n\nDannell Vance- Urban Forestry Technical Services Manager at DPW Milwaukee \n\n\n\nFranklin Seilheimer– Urban Forestry District Manager\, City of Milwaukee\, DPW-Forestry \n\n\n\n\n\n\n\nCost:\n\n\n\n$225 – WAA Member – Full Course (the person attending the course must be a WAA member to receive this pricing!) \n\n\n\n$270 – Non-Member – Full Course (Includes one year membership) \n\n\n\n$35 – Single Session \n\n\n\n$90 – Study Guide (Recommended) \n\n\n\n$15 – ANSI Standards (Recommended) \n\n\n\nEXAM IS SEPARATE! \n\n\n\n\n\n\n\nCancellation and Refund Policy\n\n\n\n\nRefunds will be made if requested on or before January 12\, 2026 with a $25 processing fee.\n\n\n\nThere will be no refunds for cancellations made after January 12th\, although substitutions may be permitted prior to January 15th.  Refunds will only be considered in emergency situations at the Wisconsin Arborist Association’s discretion.  Refunds will not be provided for registrants who do not attend the event.\n\n\n\nNotice of cancellation and/or substitutions must be made by contacting Tina Johnson through the Contact Us page on our website or by calling Tina Johnson at 262-899-0060.  A cancellation acknowledgement will be sent within 3 working days and fees refunded within 10 working days\, subject to this Return Policy.  We do not issue refunds once the event has occurred/started.\n\n\n\n\n\n\n\n\nQuestions or Need Help Registering?\n\n\n\nContact Tina Johnson through the Contact Us page on our website.
URL:https://www.waa-isa.org/tribe-events/2026-certified-arborist-study-group/2026-01-27/
CATEGORIES:WAA Events
ATTACH;FMTTYPE=image/jpeg:https://www.waa-isa.org/wp-content/uploads/2021/01/ISA-Cert-Arborist-logo.jpg
END:VEVENT
BEGIN:VEVENT
DTSTART;TZID=America/Chicago:20260129T183000
DTEND;TZID=America/Chicago:20260129T210000
DTSTAMP:20260420T031646
CREATED:20251202T172535Z
LAST-MODIFIED:20251209T141813Z
UID:10000678-1769711400-1769720400@www.waa-isa.org
SUMMARY:2026 Certified Arborist Study Group
DESCRIPTION:5 Week Workshop – Tuesday and Thursday evenings starting January 15 – February 12\, 2025. Every Tuesday and Thursday will be 6:30pm – 9:00pm. Over the 5 weeks (9 sessions)\, we will be covering each of the domains associated with the certified arborist exam. The following week (Monday\, February 16th)\, we will be offering a certified arborist exam in conjunction with the Annual Conference in Green Bay\, WI. The cost of the exam is separate and paid directly to ISA. Information will be forthcoming on the exam. The exam will be available for everyone\, not just class participants. So if you want to take the exam\, it is best to start the application process early. The cost of the annual conference is a separate fee as well\, if you wish to attend. Information will be forthcoming on the WAA website. \n\n\n\nThis is an VIRTUAL course.  You are welcome to register for the full course.  You can also choose to attend individual sessions.  2.5 CEU credits are available per session. \n\n\n\nLeading industry subject matter experts are the instructors and this study group is tailored to the working arborist. \n\n\n\n\n\n\n\nLocation\n\n\n\nVirtual Zoom Meeting – Meeting invites will be sent out closer to the start of the course. \n\n\n\n\n\n\n\nCourse Syllabus\n\n\n\n            Date                                  Instructor                              Class Domain \n\n\n\nThursday\, January 15th 2026Jake KubisiakTree Physiology and BiologyTuesday\, January 20th\, 2026  Glen Stanosz  Plant Health Care/Diseases and TreatmentThursday January 22nd 2026 Aaron SchauerSoil\, Water and NutritionTuesday January 27th\, 2026Matt KettnerClimbing and Safety Thursday January 29th\, 2026 Nathan SchuettpelzRisk ManagementTuesday February 3rd. 2026 Denny Fermenich  Tree Establishment and PruningThursday February 5th \,2026Don RoppoloTree Support and ProtectionTuesday February 10th\, 2026Denny FermenichTree ID and Selection Thursday February 12th\, 2026Dannell VanceTrees and Construction /Urban ForestryMon.\, February 16th\, 2026Franklin SeilheimerCertification Exam (NOT INCLUDED IN PRICING)\n\n\n\nOur instructors:\n\n\n\nJake Kubisiak– Consulting Arborist\, Wachtel Tree Science\, ISA Board Certified Master Arborist \n\n\n\nDr. Glen Stanosz– Emeritus Professor of Tree and Forest Health at UW-Madison\, and is an ISA Certified Arborist with the Tree Risk Assessment Qualification \n\n\n\nAaron Schauer– Program Director and Instructor of Arboriculture/Urban Forestry at Gateway Technical College \n\n\n\nMatt Kettner- Urban Forestry Specialist City of Cedarburg \n\n\n\nNathan Schuettpelz– Consulting Department Manager\, Wachtel Tree Science \n\n\n\nDenny Fermenich– City Forester\, City of Greenfield; Past president of WAA \n\n\n\nDon Roppolo– Past President\, Illinois Arborist Association; Davey Institute\, Director of Arboricultural Training \n\n\n\nDannell Vance- Urban Forestry Technical Services Manager at DPW Milwaukee \n\n\n\nFranklin Seilheimer– Urban Forestry District Manager\, City of Milwaukee\, DPW-Forestry \n\n\n\n\n\n\n\nCost:\n\n\n\n$225 – WAA Member – Full Course (the person attending the course must be a WAA member to receive this pricing!) \n\n\n\n$270 – Non-Member – Full Course (Includes one year membership) \n\n\n\n$35 – Single Session \n\n\n\n$90 – Study Guide (Recommended) \n\n\n\n$15 – ANSI Standards (Recommended) \n\n\n\nEXAM IS SEPARATE! \n\n\n\n\n\n\n\nCancellation and Refund Policy\n\n\n\n\nRefunds will be made if requested on or before January 12\, 2026 with a $25 processing fee.\n\n\n\nThere will be no refunds for cancellations made after January 12th\, although substitutions may be permitted prior to January 15th.  Refunds will only be considered in emergency situations at the Wisconsin Arborist Association’s discretion.  Refunds will not be provided for registrants who do not attend the event.\n\n\n\nNotice of cancellation and/or substitutions must be made by contacting Tina Johnson through the Contact Us page on our website or by calling Tina Johnson at 262-899-0060.  A cancellation acknowledgement will be sent within 3 working days and fees refunded within 10 working days\, subject to this Return Policy.  We do not issue refunds once the event has occurred/started.\n\n\n\n\n\n\n\n\nQuestions or Need Help Registering?\n\n\n\nContact Tina Johnson through the Contact Us page on our website.
URL:https://www.waa-isa.org/tribe-events/2026-certified-arborist-study-group/2026-01-29/
CATEGORIES:WAA Events
ATTACH;FMTTYPE=image/jpeg:https://www.waa-isa.org/wp-content/uploads/2021/01/ISA-Cert-Arborist-logo.jpg
END:VEVENT
END:VCALENDAR