BEGIN:VCALENDAR
VERSION:2.0
PRODID:-//WAA-ISA - ECPv6.15.20//NONSGML v1.0//EN
CALSCALE:GREGORIAN
METHOD:PUBLISH
X-ORIGINAL-URL:https://www.waa-isa.org
X-WR-CALDESC:Events for WAA-ISA
REFRESH-INTERVAL;VALUE=DURATION:PT1H
X-Robots-Tag:noindex
X-PUBLISHED-TTL:PT1H
BEGIN:VTIMEZONE
TZID:America/Chicago
BEGIN:DAYLIGHT
TZOFFSETFROM:-0600
TZOFFSETTO:-0500
TZNAME:CDT
DTSTART:20240310T080000
END:DAYLIGHT
BEGIN:STANDARD
TZOFFSETFROM:-0500
TZOFFSETTO:-0600
TZNAME:CST
DTSTART:20241103T070000
END:STANDARD
BEGIN:DAYLIGHT
TZOFFSETFROM:-0600
TZOFFSETTO:-0500
TZNAME:CDT
DTSTART:20250309T080000
END:DAYLIGHT
BEGIN:STANDARD
TZOFFSETFROM:-0500
TZOFFSETTO:-0600
TZNAME:CST
DTSTART:20251102T070000
END:STANDARD
BEGIN:DAYLIGHT
TZOFFSETFROM:-0600
TZOFFSETTO:-0500
TZNAME:CDT
DTSTART:20260308T080000
END:DAYLIGHT
BEGIN:STANDARD
TZOFFSETFROM:-0500
TZOFFSETTO:-0600
TZNAME:CST
DTSTART:20261101T070000
END:STANDARD
END:VTIMEZONE
BEGIN:VEVENT
DTSTART;TZID=America/Chicago:20251104T140000
DTEND;TZID=America/Chicago:20251104T150000
DTSTAMP:20260422T050938
CREATED:20250825T130043Z
LAST-MODIFIED:20250825T130045Z
UID:10000615-1762264800-1762268400@www.waa-isa.org
SUMMARY:TREE Fund Webinars
DESCRIPTION:Optimizing Tree Responses to Root Pruning in Mature Trees \n\n\n\nTuesday\, November 4\, 2025 @ 2:00pm CST \n\n\n\n\n\n\n\n\n\n\n\n\n\n\n\n\n\n\nJustin Morgenroth will present on his research titled\, “Optimizing Tree Responses to Root Pruning in Mature Trees.” \n\n\n\n\nRegistration is open here
URL:https://www.waa-isa.org/tribe-events/tree-fund-webinars-5/
ATTACH;FMTTYPE=image/png:https://www.waa-isa.org/wp-content/uploads/2019/12/treefund-webinar.png
END:VEVENT
BEGIN:VEVENT
DTSTART;TZID=America/Chicago:20251105T073000
DTEND;TZID=America/Chicago:20251108T130000
DTSTAMP:20260422T050938
CREATED:20250312T113131Z
LAST-MODIFIED:20250312T113136Z
UID:10000568-1762327800-1762606800@www.waa-isa.org
SUMMARY:TCI Expo 2025
DESCRIPTION:TCI EXPO 2025 St. Louis Missouri\n\n\n\nJoin us in St. Louis for TCI Expo 25\, the largest and most comprehensive trade show and conference in the tree care industry. Whether you’re a seasoned professional or new to the field\, this is your gateway to cutting-edge education\, state-of-the-art equipment\, and exciting events. \n\n\n\nMore information to come…
URL:https://www.waa-isa.org/tribe-events/tci-expo-2025/
LOCATION:America’s Center Convention Complex\, 701 Convention Plaza\, St. Louis\, Missouri\, 63101\, United States
CATEGORIES:Green Industry Events
ATTACH;FMTTYPE=image/png:https://www.waa-isa.org/wp-content/uploads/2025/03/TCIA-expo-25-logo.png
END:VEVENT
BEGIN:VEVENT
DTSTART;TZID=America/Chicago:20251114T080000
DTEND;TZID=America/Chicago:20251114T153000
DTSTAMP:20260422T050938
CREATED:20251020T130032Z
LAST-MODIFIED:20251029T130211Z
UID:10000624-1763107200-1763134200@www.waa-isa.org
SUMMARY:Electrical Hazards Awareness and Education Training For Arborists (EHAT)
DESCRIPTION:Urban Ecology Center in Milwaukee – Riverside Park Community Room\n\n\n\n1500 E. Park Pl.\, Milwaukee\, WI 53211\n\n\n\n\n\n\n\nReduced Rate EHAT Training for WAA Members! \n\n\n\n\n\n\n\nThis is a special training opportunity for WAA members and non members. WAA members receive a greatly reduced rate. Take advantage of this electrical hazard training.  \n\n\n\nThis knowledge-based course will consist of classroom instruction\, with time in the field to identify electrical hardware and systems. Lunch is included!  CEU’s and CTSP credits will be available! \n\n\n\nTopics covered will include: \n\n\n\n\nBasic Electrical Theory and Terminology\n\n\n\nBasic Overview Of How Electricity Is Distributed\n\n\n\nHow To Identify Maximum Nominal Voltage\n\n\n\nHow To Identify Electrical System Hardware\n\n\n\nWhat Level Arborist Are You and What Are You Qualified to Work?\n\n\n\nPPE Requirements\, how to inspect and when to retire\n\n\n\nMAD Charts and Variations\n\n\n\nHow To Interact With Your Local Utility\n\n\n\nArc Flash and Arc Blast\n\n\n\nFive Types Of Electrical Hazard Injuries & Emergency Response Actions\n\n\n\nRadio frequency Hazards\n\n\n\nField Trip/Walk Outside\n\n\n\n\nInstructor: \n\n\n\n\n\n\n\nRebecca Seibl – Rebecca has been a consulting and production climbing arborist for 25 years.  She brings a practical approach to teaching and leadership\, delivered through a clear and compassionate message.TreeSpirit Consultingwww.treespiritconsulting.com \n\n\n\n\nRegistration is Limited to 50 people  \n\n\n\n1 SPOT LEFT! REGISTRATION IS NOW OPEN AGAIN! \n\n\n\n$40 for WAA Member$200 for Non-WAA Member. (Become a member and save\, click here to become WAA member PRIOR to registering for this event.) \n\n\n\nCancellation/ Refund Policy \n\n\n\nRefunds will be made if requested on or before November 7\, 2025 with a $20 processing fee. \n\n\n\nThere will be no refunds for cancellations made after November 7th\, although substitutions may be permitted. Refunds will only be considered in emergency situations at the Wisconsin Arborist Association’s discretion. Refunds will not be provided for registrants who do not attend the event. \n\n\n\nNotice of cancellation and/or substitutions must be made by contacting Tina Johnson through the Contact Us page on our website or by calling Tina Johnson at 262-899-0060. A cancellation acknowledgement will be sent within 3 working days and fees refunded within 10 working days\, subject to this Return Policy. We do not issue refunds once the event has occurred. \n\n\n\n\nQuestions: Contact Fred Hoppe
URL:https://www.waa-isa.org/tribe-events/electrical-hazards-awareness-and-education-training-for-arborists-ehat/
LOCATION:Urban Ecology Center\, 1500 E. Park Place\, Milwaukee\, Wisconsin\, 53211\, United States
CATEGORIES:WAA Events
ATTACH;FMTTYPE=image/webp:https://www.waa-isa.org/wp-content/uploads/2025/10/2@2x.webp
END:VEVENT
BEGIN:VEVENT
DTSTART;TZID=America/Chicago:20251119T080000
DTEND;TZID=America/Chicago:20251120T170000
DTSTAMP:20260422T050938
CREATED:20250411T131220Z
LAST-MODIFIED:20250613T133656Z
UID:10000573-1763539200-1763658000@www.waa-isa.org
SUMMARY:2025 Partners in Community Forestry Conference
DESCRIPTION:Location: Henderson\, Nevada.   \n\n\n\nThis gathering unites passionate individuals\, communities\, organizations\, and leaders to explore innovative solutions\, share insights\, and collaborate on the future of urban forestry. Join leaders across the industry as we focus on strengthening the bonds between people and trees\, fostering sustainable practices\, and creating green\, thriving urban landscapes. \n\n\n\nKeep an eye on their website for more information as we get closer to the conference dates.  \n\n\n\nRegistration is now open! \n\n\n\nhttps://www.arborday.org/conferences-events/pcf
URL:https://www.waa-isa.org/tribe-events/2025-partners-in-community-forestry-conference/
CATEGORIES:Green Industry Events
ATTACH;FMTTYPE=image/png:https://www.waa-isa.org/wp-content/uploads/2024/04/Arbor-Day-Community-Forestry-logo.png
END:VEVENT
BEGIN:VEVENT
DTSTART;TZID=America/Chicago:20251124T000000
DTEND;TZID=America/Chicago:20251208T235900
DTSTAMP:20260422T050938
CREATED:20251112T003117Z
LAST-MODIFIED:20251112T005109Z
UID:10000626-1763942400-1765238340@www.waa-isa.org
SUMMARY:ISA 2025 VIRTUAL EVENT
DESCRIPTION:Learn more with the ISA 2025 Virtual Event! \n\n\n\nAs 2025 wraps up\, ISA has one final event for this year. The ISA 2025 Virtual Event will be held from 24 November through 8 December. \n\n\n\nRegistration is now open through 21 November.  SELECT WAA AS YOUR CHAPTER WHEN YOU REGISTER! \n\n\n\nRegister now! \n\n\n\n Essentials to know about Virtual Event \n\n\n\nThe Virtual Event offers curated education sessions on demand\, allowing participants to view presentations at their convenience over the two-week event. \n\n\n\nThere will be approximately 14 Continuing Education Units (CEUs) available. \n\n\n\n Learn from our knowledgeable speakers. \n\n\n\nHear from leaders across the globe and gain valuable knowledge on topics related to research\, practice\, technology\, and more. Sessions will cater to a variety of interests and ensure there’s something for everyone. \n\n\n\nEducation made accessible \n\n\n\n With the aid of Wordly\, sessions will have closed captions available in over 60 languages\, making the event more accessible to a global audience. \n\n\n\nStudents receive free admission \n\n\n\nStudent participation is being supported by the generous donation of Davey Tree Expert Company. ISA student members will receive an email with more details on how to register for the ISA 2025 Virtual Event. \n\n\n\nDon’t wait\, and sign up for this exciting event today
URL:https://www.waa-isa.org/tribe-events/isa-2025-virtual-event/
CATEGORIES:Green Industry Events
ATTACH;FMTTYPE=image/jpeg:https://www.waa-isa.org/wp-content/uploads/2024/10/ISA_VC_DigitalAd-scaled.jpg
END:VEVENT
END:VCALENDAR