BEGIN:VCALENDAR
VERSION:2.0
PRODID:-//WAA-ISA - ECPv6.15.20//NONSGML v1.0//EN
CALSCALE:GREGORIAN
METHOD:PUBLISH
X-ORIGINAL-URL:https://www.waa-isa.org
X-WR-CALDESC:Events for WAA-ISA
REFRESH-INTERVAL;VALUE=DURATION:PT1H
X-Robots-Tag:noindex
X-PUBLISHED-TTL:PT1H
BEGIN:VTIMEZONE
TZID:America/Chicago
BEGIN:DAYLIGHT
TZOFFSETFROM:-0600
TZOFFSETTO:-0500
TZNAME:CDT
DTSTART:20210314T080000
END:DAYLIGHT
BEGIN:STANDARD
TZOFFSETFROM:-0500
TZOFFSETTO:-0600
TZNAME:CST
DTSTART:20211107T070000
END:STANDARD
BEGIN:DAYLIGHT
TZOFFSETFROM:-0600
TZOFFSETTO:-0500
TZNAME:CDT
DTSTART:20220313T080000
END:DAYLIGHT
BEGIN:STANDARD
TZOFFSETFROM:-0500
TZOFFSETTO:-0600
TZNAME:CST
DTSTART:20221106T070000
END:STANDARD
BEGIN:DAYLIGHT
TZOFFSETFROM:-0600
TZOFFSETTO:-0500
TZNAME:CDT
DTSTART:20230312T080000
END:DAYLIGHT
BEGIN:STANDARD
TZOFFSETFROM:-0500
TZOFFSETTO:-0600
TZNAME:CST
DTSTART:20231105T070000
END:STANDARD
END:VTIMEZONE
BEGIN:VEVENT
DTSTART;TZID=America/Chicago:20220203T100000
DTEND;TZID=America/Chicago:20220203T110000
DTSTAMP:20260425T090105
CREATED:20220128T171547Z
LAST-MODIFIED:20220128T171653Z
UID:10000236-1643882400-1643886000@www.waa-isa.org
SUMMARY:Long-term Impacts and Management of Emerald Ash Borer
DESCRIPTION:The emerald ash borer\, an invasive insect\, has spread from its initial introduction in Michigan and killed millions of ash trees across the region. All six ash species native to its introduced range are susceptible to this pest\, and the effects of EAB differ in the different kinds of ecosystems inhabited by these different ash species. Our long-term monitoring program has provided insights into the impacts of EAB on forests and on the long-term dynamics of ash species. Looking to the future\, integrated pest management strategies can be used in situation-specific combinations to reduce and mitigate effects of EAB.
URL:https://www.waa-isa.org/tribe-events/long-term-impacts-and-management-of-emerald-ash-borer/
CATEGORIES:Green Industry Events
END:VEVENT
BEGIN:VEVENT
DTSTART;TZID=America/Chicago:20220203T110000
DTEND;TZID=America/Chicago:20220203T120000
DTSTAMP:20260425T090105
CREATED:20220127T164706Z
LAST-MODIFIED:20220127T164824Z
UID:10000235-1643886000-1643889600@www.waa-isa.org
SUMMARY:Climate Change & Urban Trees: What does the future hold?
DESCRIPTION:Noonhour (Eastern) webcast series from Univ. of Massachusetts \n\n\n\nDr. Leslie Brandt\, USDA Forest Service & Madeline Baroli\, NIACS\, will join the ‘Urban Forestry Today’ Noonhour (Eastern) webcast on Thurs Feb 03 to discuss how a changing climate may impact the future of our urban forests.  \n\n\n\nAttend live & receive Free ISA/MCA CEUs by clicking here or by visiting www.joinwebinar.com & entering: 905-049-355
URL:https://www.waa-isa.org/tribe-events/climate-change-urban-trees-what-does-the-future-hold/
END:VEVENT
BEGIN:VEVENT
DTSTART;TZID=America/Chicago:20220210T080000
DTEND;TZID=America/Chicago:20220210T170000
DTSTAMP:20260425T090105
CREATED:20211206T185547Z
LAST-MODIFIED:20211208T035433Z
UID:10000226-1644480000-1644512400@www.waa-isa.org
SUMMARY:2022 WAA Day of Service Applications Due
DESCRIPTION:Please download this application and return it to the Publicity Chair. \n\n\n\n \n\n\n\n2022 WAA Day of Service Application – CLICK HERE
URL:https://www.waa-isa.org/tribe-events/2022-waa-day-of-service-applications-due-2/
ATTACH;FMTTYPE=image/jpeg:https://www.waa-isa.org/wp-content/uploads/2020/02/Lift-Operator-in-Tree-Canopy_Extended.jpg
END:VEVENT
BEGIN:VEVENT
DTSTART;TZID=America/Chicago:20220220T130000
DTEND;TZID=America/Chicago:20220222T160000
DTSTAMP:20260425T090105
CREATED:20211221T150230Z
LAST-MODIFIED:20220216T151950Z
UID:10000229-1645362000-1645545600@www.waa-isa.org
SUMMARY:2022 WAA/WIDNR IN-PERSON Annual Conference
DESCRIPTION:Palindrome Dates 22022 & 22222: Looking Forward\, Not Backwards\, to Our Days in Arboriculture!February 20-22\, 2022Hyatt & KI Convention Center • Green Bay\, WI \n\n\n\nAfter a two-year hiatus\, we are ecstatic to be back in person in Green Bay for the WAA & WIDNR Annual Winter Conference! We have another fabulous line-up this year you won’t want to miss! \n\n\n\n\n\n\n\nVirtual Option \n\n\n\nThe 2022 WAA/WIDNR VIRTUAL Annual Conference will be available for viewing on the Pheedloop Platform March 1-31\, 2022. This will be a professionally recorded conference and will offer an improved experience over last year’s virtual offering. This is a repeat performance of our In-Person Conference from February 20-22\, 2022. \n\n\n\nWatch the sessions at your own pace! The platform will be available for a full four weeks.  This seminar will include around 30 hours of virtual learning and engagement with approximately 30 CEUs available through online quizzes. You must pass the quiz with an 80% (16 of 20 correct for a one-hour session) to attain CEUs. Results will be given upon completion of each quiz\, as the quiz may be taken as often as necessary to pass. WAA will submit the passing results to ISA for you to receive your CEUs. \n\n\n\nEach person must provide their own email address and Certification number (even if one person is registering multiple people) if they want CEUs.  Participants will receive an email invite to the Pheedloop Platform the day before the event starts. Login details will be included.  More information and registration is available at our 2022 WAA/WIDNR VIRTUAL Annual Conference event page. \n\n\n\nTO PAY FOR VIRTUAL ONLY – PLEASE GO HERE: https://www.waa-isa.org/tribe-events/2022-waa-widnr-virtual-annual-conference/\n\n\n\n\n\n\n\nHealth and Safety Measures (in-person event) \n\n\n\nThe WAA takes the health and safety of its membership\, conference attendees\, and exhibitors seriously. We will be adhering to all current CDC guidelines along with following Hyatt/KI Convention Center guidelines. We will have hand sanitizing stations and masks available. Event spaces will be professionally disinfected each evening. The KI Convention Center utilizes a PureChem System in meeting rooms and guestrooms\, effectively eliminating 99.997% of bacteria\, virus\, algae\, mold\, and fungus on treated surfaces. Seating will be arranged to encourage social distancing. In addition\, food will be served in accordance with CDC guidelines\, i.e.\, individually packaged or served by professional food staff.  Please do check the website for updated guidelines\, as information may change frequently. \n\n\n\nA negative COVID test will be required of all in-person attendees regardless of vaccination status. All conference attendees are required to show documentation of a negative viral test result taken within 72 hours of arrival to the conference. If you recently recovered from COVID-19\, you may instead travel with documentation of recovery from COVID-19 (i.e.\, your positive COVID-19 viral test result on a sample taken no more than 90 days before the conference and a letter from a licensed healthcare provider or a public health official stating that you were cleared to attend). A COVID symptom and contact health screening will also be required to attend the conference. \n\n\n\nFacemasks will be required in all areas of the Hyatt and the KI Convention Center.  We will have limited capacity at the KI Convention Center with the maximum number of registrants set at 462 attendees (not including exhibitors).  Once capacity is met\, registration will close.  WE WILL NOT BE ACCEPTING ANY WALK-UP REGISTRATIONS.  The WAA will not have the capacity to police or enforce any safety protocols. All participants will depend solely on the goodwill and professionalism of our membership to follow safety protocol and protect one another. \n\n\n\nCOVID Testing Requirements & FAQ’s\n\n\n\n Isolation and Quarantine Guidelines/Flowchart \n\n\n\n\n\n\n\nHotel Information – Blocks are NOW CLOSED! \n\n\n\nReservations can now be made for the annual conference.  We have blocks in three hotels this year!  \n\n\n\nHyatt (host hotel)= Attached to KI Convention Center at 333 Main St. $116/night for a double\, $136/night for a triple\, $156/night for a quad occupancy\, 402-592-6464 or 888-421-1442 or online https://www.hyatt.com/en-US/group-booking/GRBRG/G-AA22 Please make reservations before January 29\, 2022. \n\n\n\nHampton Inn = Attached to KI Convention Center at 201 Main St.\, $129/night for a double queen\, 800-457-2929 or 920-437-5900.  Indicate you are with the Arborist Group Block.  Please make hotel reservations before January 20\, 2022. \n\n\n\nHotel Northland – 1 block from KI Convention Center at 302 N. Adams St.\, $115/night for a standard king\, $135/night for a double queen\, 855-999-0104 or 920-393-7499.  Indicate you are part of the WI Arborist Association Room Block or use this link: https://www.marriott.com/event-reservations/reservation-link.mi?id=1626290052878&key=GRP&app=resvlink   Please make hotel reservations before January 20\, 2022.  \n\n\n\nAlternative Hotels \n\n\n\nQuality Inn = 0.6 mi. from KI Convention Center at 321 S. Washington St.\, 920-437-8771 \n\n\n\nSt. Brendan’s Inn = 0.6 mi. from KI Conv Center at 234 S. Washington St.\, 920-884-8484 \n\n\n\nHawthorn Suites = 2.7 mi. from KI Conv Center at 335 W. Joseph St.\, 920-435-2222 \n\n\n\nMore can be found at:http://www.kiconventioncenter.org/explore-green-bay/hotels-and-overflow-facilities \n\n\n\n\n\n\n\nRegistration Information – NO WALK UPS ALLOWED! \n\n\n\nDownload the Conference Brochure for the full agenda. \n\n\n\nREGISTRATION IS NOW CLOSED! \n\n\n\nRegistration available online until February 15th or until we reach max capacity of 462.Early Bird Discount available until January 28th.  Prices will go up on January 29th.EARLY BIRD DEADLINE HAS PASSED!\n\n\n\n \n\n\n\nRegistration Fees: NOW CLOSED!Early Bird Registration: WAA Member $260\, Non-Member $275\, Full-Time Students $6All Access Pass: WAA Member $350\, Non-Member $365Late Registration Fee (after January 28th): add $40 per person (except students)\n\n\n\nWALKUPS WILL NOT BE ACCEPTED!\n\n\n\nNo one-day registrations are available\, only full conference registration are available.\n\n\n\n \n\n\n\nWant to attend both Annual Conference versions (in-person and virtual) to earn the maximum number of CEUs possible and still network with everyone??  Purchase the ALL ACCESS PASS to attend the in-person conference AND have access to the virtual event which allows you to view all sessions!  Students who wish to attend both the in-person and virtual sessions must register separately for each event.\n\n\n\nThe Schedule and Location of Events Addendum is now available so you can plan out your conference agenda and see how many CEUs/CTSPs are being offered per session.\n\n\n\n \n\n\n\n \n\n\n\n\n\n\n\n \n\n\n\nBrief Overview of the Speaker Line-up (just to name a few) – SEE BROCHURE FOR COMPLETE AGENDA \n\n\n\nScott Altenhoff (City of Eugene Parks & Open Space) – Storm Preparedness and Trees and Construction \n\n\n\nAdam Alves (Madison College)\, Zac Eckberg (Madison College) – Tree Planting and Establishment/Post Planting Care \n\n\n\nBeth Brantley (Bartlett Tree Experts) – As the Climate Warms\, Trees Feel the Heat \n\n\n\nMichelle Catania (The Morton Arboretum)\, Allyson Salisbury (Freelance Urban Forestry Researcher)\, Anna Healy (City of Fitchburg)\, Matt Koepnick (City of Racine)\, Mike Rushmer (City of West Allis) – Should I Put a Tree Here?  Soil and Site Evaluation for Tree Planting (Sunday Workshop) \n\n\n\nRich Hauer (UW-Stevens Point) – Planning for the Next Three Letter Urban Tree Canopy Changer: Lessons Learned with DED\, EAB\, ETC. \n\n\n\nMichael Hillstrom (WI DNR) – Trending Tree Insect Issues \n\n\n\nGordon Mann (Mann Made Resources) – Protecting Trees Around Construction (Sunday Workshop) and Growing the Trees Where People Live: How to Sustainably Approach Community Tree Design and Management \n\n\n\nLee Mueller (Davey Resource Group\, Inc.) – Community Trees: Risk or Reward and Planning for Community Trees: Tools and Approaches \n\n\n\nJamie Nack (Division of Extension and Department of Forest & Wildlife Ecology\, UW-Madison) – Managing Urban Areas for Wildlife \n\n\n\nChad Rigsby (Bartlett Tree Experts)- The Multiple Dimensions of Tree Defense to Insects \n\n\n\nDon Roppolo (Davey Tree Expert Co.) – What Can Go Wrong During Felling and Removals  \n\n\n\n \n\n\n\nMore details are available on the brochure above. Hope to see you there! \n\n\n\n\n\n\n\nExhibitor Information \n\n\n\nClick here for more information and to register to become an exhibitor.Check out the MAP of the exhibit hall.Questions about becoming an exhibitor?  Ask Todd Haefke for more information.\n\n\n\n\n\n\n\nSponsorship Information \n\n\n\nSponsorships are still available!  Click here for more information. $300 cookie break sponsor and $250 session sponsors still available!Questions about sponsorships?  Ask Todd Haefke for more information.\n\n\n\n\n\n\n\nRegistration Questions? – contact WAA Chapter Executive Tina Johnson \n\n\n\nConcerns? – contact WAA President Nathan Schuettpelz
URL:https://www.waa-isa.org/tribe-events/2022-waa-widnr-in-person-annual-conference/
LOCATION:KI Convention Center\, 333 Main St.\, Green Bay\, WI\, 54301\, United States
CATEGORIES:WAA Events
ATTACH;FMTTYPE=image/jpeg:https://www.waa-isa.org/wp-content/uploads/2019/11/logos-for-2020-annual.jpg
END:VEVENT
BEGIN:VEVENT
DTSTART;TZID=America/Chicago:20220221T120000
DTEND;TZID=America/Chicago:20220221T163000
DTSTAMP:20260425T090105
CREATED:20220114T172524Z
LAST-MODIFIED:20220114T172804Z
UID:10000234-1645444800-1645461000@www.waa-isa.org
SUMMARY:ISA Certified Arborist\, Utility Specialist\, and Municipal Specialist Exam
DESCRIPTION:Registration Deadline: February 3\, 2022 \n\n\n\nSeats Available: 35 \n\n\n\nPlease check the ISA website (www.isa-arbor.com) for more information and for registration under Credentials/ Exam Information. Registration for the exam is made directly with the ISA\, and must be completed at least 12 working days in advance.  This is an application process that has certain requirements. Here is the webpage where you can find the application to apply for eligibility: https://www.isa-arbor.com/Credentials/Apply-Now/Apply-for-Eligibility. \n\n\n\nPlease contact ISA if you are having any difficulties with registration.  Do not wait until the last minute to register! \n\n\n\nCheck-in is 12:00pm\, Exam begins at 12:30am.  This exam is being held in conjunction with the Annual Conference in Green Bay\, WI.
URL:https://www.waa-isa.org/tribe-events/isa-certified-arborist-utility-specialist-and-municipal-specialist-exam-5/
CATEGORIES:WAA Events
ATTACH;FMTTYPE=image/jpeg:https://www.waa-isa.org/wp-content/uploads/2021/01/ISA-Cert-Arborist-logo.jpg
END:VEVENT
BEGIN:VEVENT
DTSTART;TZID=America/Chicago:20220224T100000
DTEND;TZID=America/Chicago:20220224T110000
DTSTAMP:20260425T090105
CREATED:20220128T171642Z
LAST-MODIFIED:20220128T172149Z
UID:10000237-1645696800-1645700400@www.waa-isa.org
SUMMARY:The biology and management of the invasive spotted lanternfly\, Lycorma delicatula
DESCRIPTION:The biology of the invasive spotted lanternfly poses a uniquely challenging threat to many agricultural crops\, ornamentals\, and\, to a lesser extent\, forests. Spotted lanternflies are highly polyphagous\, can inhabit a wide climatic range\, and thus have the potential to become established in many regions of the United States. Additionally\, SLF females often lay their eggs on personal vehicles\, commercial trucks\, train cars\, and many other items\, all of which increase the probability that SLF may be accidentally moved into new habitat ranges. Successful management incorporate an integrative approach including: a community education & reporting system\, selected insecticide applications by state and federal agencies\, and education\, training\, and permitting of commercial and business operations moving in and out of quarantine zones. The complex biology of this adaptable insect pest requires a multi-disciplinary approach and there is much still to learn about SLF biology.
URL:https://www.waa-isa.org/tribe-events/the-biology-and-management-of-the-invasive-spotted-lanternfly-lycorma-delicatula/
CATEGORIES:Green Industry Events
END:VEVENT
BEGIN:VEVENT
DTSTART;TZID=America/Chicago:20220225T110000
DTEND;TZID=America/Chicago:20220225T143000
DTSTAMP:20260425T090105
CREATED:20211123T211424Z
LAST-MODIFIED:20211123T211428Z
UID:10000224-1645786800-1645799400@www.waa-isa.org
SUMMARY:Webinar: Bees and Trees\, Working with Pollinators
DESCRIPTION:This presentation will discuss the general importance of pollinators and their role in the food web\, common species encountered in tree work and the responsibilities of arborists in the protection and relocation of pollinators during arboricultural operations. \n\n\n\nCEU Credits: 3.5 \n\n\n\nMunicipal Specialist: 3.5BCMA/Science: 1BCMA/Practice: 1.5BCMA/Management: 1 \n\n\n\nLocation: Zoom WebinarPrice: $97/IndividuallyEarly Bird Offer: $197/All Four (50% Savings!) – see website for other webinars
URL:https://www.waa-isa.org/tribe-events/webinar-bees-and-trees-working-with-pollinators/
CATEGORIES:Green Industry Events
ATTACH;FMTTYPE=image/jpeg:https://www.waa-isa.org/wp-content/uploads/2021/11/Learn-Trees-logo.jpg
END:VEVENT
END:VCALENDAR