BEGIN:VCALENDAR
VERSION:2.0
PRODID:-//WAA-ISA - ECPv6.15.20//NONSGML v1.0//EN
CALSCALE:GREGORIAN
METHOD:PUBLISH
X-WR-CALNAME:WAA-ISA
X-ORIGINAL-URL:https://www.waa-isa.org
X-WR-CALDESC:Events for WAA-ISA
REFRESH-INTERVAL;VALUE=DURATION:PT1H
X-Robots-Tag:noindex
X-PUBLISHED-TTL:PT1H
BEGIN:VTIMEZONE
TZID:America/Chicago
BEGIN:DAYLIGHT
TZOFFSETFROM:-0600
TZOFFSETTO:-0500
TZNAME:CDT
DTSTART:20210314T080000
END:DAYLIGHT
BEGIN:STANDARD
TZOFFSETFROM:-0500
TZOFFSETTO:-0600
TZNAME:CST
DTSTART:20211107T070000
END:STANDARD
BEGIN:DAYLIGHT
TZOFFSETFROM:-0600
TZOFFSETTO:-0500
TZNAME:CDT
DTSTART:20220313T080000
END:DAYLIGHT
BEGIN:STANDARD
TZOFFSETFROM:-0500
TZOFFSETTO:-0600
TZNAME:CST
DTSTART:20221106T070000
END:STANDARD
BEGIN:DAYLIGHT
TZOFFSETFROM:-0600
TZOFFSETTO:-0500
TZNAME:CDT
DTSTART:20230312T080000
END:DAYLIGHT
BEGIN:STANDARD
TZOFFSETFROM:-0500
TZOFFSETTO:-0600
TZNAME:CST
DTSTART:20231105T070000
END:STANDARD
END:VTIMEZONE
BEGIN:VEVENT
DTSTART;TZID=America/Chicago:20220113T110000
DTEND;TZID=America/Chicago:20220113T120000
DTSTAMP:20260425T073229
CREATED:20220107T153219Z
LAST-MODIFIED:20220107T153327Z
UID:10000231-1642071600-1642075200@www.waa-isa.org
SUMMARY:Urban Forestry Today Webinar: Safety Update with John Ball
DESCRIPTION:Join Dr. John Ball\, South Dakota State University\, as he discusses safe work practices for arborists and urban forestry professionals. \n\n\n\n1.0 ISA CEU with live broadcast.
URL:https://www.waa-isa.org/tribe-events/urban-forestry-today-webinar-safety-update-with-john-ball/
CATEGORIES:WAA Events
ATTACH;FMTTYPE=image/png:https://www.waa-isa.org/wp-content/uploads/2021/06/UF-Today.png
END:VEVENT
BEGIN:VEVENT
DTSTART;TZID=America/Chicago:20220121T110000
DTEND;TZID=America/Chicago:20220121T143000
DTSTAMP:20260425T073229
CREATED:20211123T211105Z
LAST-MODIFIED:20211123T211110Z
UID:10000223-1642762800-1642775400@www.waa-isa.org
SUMMARY:Webinar: Aerial Lift Safety and Inspection for The Arboriculture Industry
DESCRIPTION:This presentation will discuss the safe use and minimum industry standards for aerial lift use and safety. Current OSHA and CanOSH and CCOHS standards\, penalties\, and enforcement will also be discussed. \n\n\n\nCEU Credits: 3.5 \n\n\n\nCertified Arborist: 3.5Utility Specialist: 3.5BCMA/Practice: 1.75BCMA/Management: 1.75TW Climber Specialist: 3.5TW Aerial Lift Specialist: 3.5 \n\n\n\nLocation: Zoom WebinarPrice: $97/IndividuallyEarly Bird Offer: $197/All Four (50% Savings!) – see website for other webinars
URL:https://www.waa-isa.org/tribe-events/webinar-aerial-lift-safety-and-inspection-for-the-arboriculture-industry/
CATEGORIES:Green Industry Events
ATTACH;FMTTYPE=image/jpeg:https://www.waa-isa.org/wp-content/uploads/2021/11/Learn-Trees-logo.jpg
END:VEVENT
END:VCALENDAR