BEGIN:VCALENDAR
VERSION:2.0
PRODID:-//WAA-ISA - ECPv6.15.20//NONSGML v1.0//EN
CALSCALE:GREGORIAN
METHOD:PUBLISH
X-WR-CALNAME:WAA-ISA
X-ORIGINAL-URL:https://www.waa-isa.org
X-WR-CALDESC:Events for WAA-ISA
REFRESH-INTERVAL;VALUE=DURATION:PT1H
X-Robots-Tag:noindex
X-PUBLISHED-TTL:PT1H
BEGIN:VTIMEZONE
TZID:America/Chicago
BEGIN:DAYLIGHT
TZOFFSETFROM:-0600
TZOFFSETTO:-0500
TZNAME:CDT
DTSTART:20200308T080000
END:DAYLIGHT
BEGIN:STANDARD
TZOFFSETFROM:-0500
TZOFFSETTO:-0600
TZNAME:CST
DTSTART:20201101T070000
END:STANDARD
BEGIN:DAYLIGHT
TZOFFSETFROM:-0600
TZOFFSETTO:-0500
TZNAME:CDT
DTSTART:20210314T080000
END:DAYLIGHT
BEGIN:STANDARD
TZOFFSETFROM:-0500
TZOFFSETTO:-0600
TZNAME:CST
DTSTART:20211107T070000
END:STANDARD
BEGIN:DAYLIGHT
TZOFFSETFROM:-0600
TZOFFSETTO:-0500
TZNAME:CDT
DTSTART:20220313T080000
END:DAYLIGHT
BEGIN:STANDARD
TZOFFSETFROM:-0500
TZOFFSETTO:-0600
TZNAME:CST
DTSTART:20221106T070000
END:STANDARD
END:VTIMEZONE
BEGIN:VTIMEZONE
TZID:UTC
BEGIN:STANDARD
TZOFFSETFROM:+0000
TZOFFSETTO:+0000
TZNAME:UTC
DTSTART:20200101T000000
END:STANDARD
END:VTIMEZONE
BEGIN:VEVENT
DTSTART;TZID=America/Chicago:20210501T080000
DTEND;TZID=America/Chicago:20210501T170000
DTSTAMP:20260424T194952
CREATED:20210326T141959Z
LAST-MODIFIED:20210326T144826Z
UID:10000170-1619856000-1619888400@www.waa-isa.org
SUMMARY:Chainsaw Safety and Technical Tree Felling (Online Learning provided by NATS)
DESCRIPTION:Cost: $199 per registrantE-Learning Module: This is a self-paced online training which means you can take the course when your schedule allows. Once purchased\, you will have 30 days to complete the course. \n\n\n\nChainsaws are one of the most common hand-held power tools among all industries. This course is designed to educate workers who use a chainsaw about proper risk assessment\, PPE use\, chainsaw safety features\, maintenance\, use\, and handling. Participants will gain an understanding of chainsaw reactive forces and hazards associated with felling trees and cutting wood or brush. Learn planning strategies including saw transport\, starting\, cross cutting/bucking and limbing\, understanding compression and tension\, and dealing with spring poles. These strategies will be demonstrated in a safe\, online learning environment. \n\n\n\nThis course is delivered in 4 separate modules and must be completed in sequential order:Module 1: Chainsaw Safety \n\n\n\nIntroduction to the course and learning objectivesA review of arboricultural industry incidents with an emphasis on chainsaw useOSHA/ANSI/NFPA Standards: Regulations & Safe GuardsBasic and recommended personal protective equipmentWork site and emergency planning\n\n\n\nModule 2: Basic Chainsaw Use \n\n\n\nErgonomic saw use and handlingNon-felling work procedures and storm clean upLimbing and bucking\n\n\n\nModule 3: Felling \n\n\n\nSix-step felling plan\n\n\n\nModule 4: Chainsaw Care \n\n\n\nBasic filed maintenanceChain sharpeningFuels and lubricants\n\n\n\nNote: You must review and complete all training modules to receive a NATS Certificate of Attendance for this course.
URL:https://www.waa-isa.org/tribe-events/chainsaw-safety-and-technical-tree-felling/
CATEGORIES:Green Industry Events
END:VEVENT
BEGIN:VEVENT
DTSTART;TZID=America/Chicago:20210501T080000
DTEND;TZID=America/Chicago:20210501T170000
DTSTAMP:20260424T194952
CREATED:20210326T142404Z
LAST-MODIFIED:20210326T144758Z
UID:10000171-1619856000-1619888400@www.waa-isa.org
SUMMARY:Electrical Hazard Awareness Training (Online Learning provided by NATS)
DESCRIPTION:Did you know that working in proximity to electrical lines and hardware requires specialized training and skills according to OSHA? Due to the hazards posed by energized or potentially energized electrical hardware\, understanding safe operation of an electrical system and its components\, and being able to identify the systems maximum nominal voltage\, and safe work procedures when working in proximity are key skills required by any tradesperson working closer then 10ft to energized conductors of 50 kV or less. \n\n\n\nArborists\, forestry professionals\, construction trades\, heavy equipment operators\, and environmental consultants are just a few of the trades who commonly require EHAT training. \n\n\n\nNATS is the largest training provider of Electrical Hazard Awareness Training in the Arboriculture\, Forestry\, Construction\, and Heavy Equipment trades and our EHAT course has been recognized by all types of electric utilities\, as well as federal agencies such as OSHA the USDA\, USFS\, and US Army Core of Engineers. \n\n\n\nFollowing is a list of topics covered during the course: \n\n\n\nSite Risk Assessment\, Electrical Hazard Recognition\, PPE\, Job Briefing\, & Emergency Action PlanningElectrical Theory\, Electrical Hardware\, System Constructions\, & Equipotential GroundingOSHA/ANSI/NFPA Standards: Regulations & Safe GuardsElectrical Accidents\, Electrical Hazard Abatement\, & Emergency ResponseEHAT Competency Assessment\n\n\n\nCourse materials include all applicable requirements for electrical safety for arborists: \n\n\n\nOSHA General Duty Clause 5(a)(1)(2)(b)OSHA 1910.331-335 Electrical Safety for General Industry (Part of OSHA Subpart “S” Electrical)OSHA 1910.269 Electric Power Generation\, Transmission\, and DistributionANSI Z133.1- 2017 American National Standards for Arboricultural Operations – Safety Requirements\n\n\n\nCost: $149 per registrant E-Learning Module:This is a self-paced online training which means you can take the course when your schedule allows. Once purchased\, you will have 30 days to complete the course.
URL:https://www.waa-isa.org/tribe-events/electrical-hazard-awareness-training/
CATEGORIES:Green Industry Events
END:VEVENT
BEGIN:VEVENT
DTSTART;TZID=America/Chicago:20210503T080000
DTEND;TZID=America/Chicago:20210503T170000
DTSTAMP:20260424T194952
CREATED:20210302T164000Z
LAST-MODIFIED:20210405T141955Z
UID:10000159-1620028800-1620061200@www.waa-isa.org
SUMMARY:ISA Tree Risk Assessment Qualification (TRAQ) RENEWAL
DESCRIPTION:BASIC INFORMATIONHotel Information: www.visitoconomowoc.comCourse Location: Oconomowoc Community Center \nAssembly Room 208C \n220 W. Wisconsin Ave.  \nOconomowoc\, WI 53066 \nFacility Map with Parking: https://www.oconomowoc-wi.gov/DocumentCenter/View/1792/DowntownPkg_Map_022619?bidId= \n \nSee Course Flyer for additional information. \nTo pay by check\, please use this form. \nCost: $220 ISA or WAA member/ $260 Non-member \nABOUT THE COURSEThe ISA Tree Risk Assessment Qualification (TRAQ) program provides an opportunity for professionals in the arboriculture industry to expand their knowledge through education and training in the fundamentals of tree risk assessment. This qualification promotes the safety of people and property by providing a standardized and systematic process for assessing tree risk.The results of a tree risk assessment can provide tree owners and risk managers with the information to make informed decisions to enhance tree benefits\, health\, and longevity. \nThe TRAQ Renewal Course consists of a 5 hour educational course followed by a 3 hour assessment that includes both a written and field component. It is required that you attend the course and successfully pass the assessment in order to renew this qualification. 5 CEUs available. \nHosted by: The Wisconsin Arborist AssociationInstructor: Mr. Don RoppoloDon Roppolo is the Manager of Arboricultural Training for Davey Tree. He has been working in the tree care industry for over twenty-five years. During his career he has worked in the following capacities: taught arboriculture skills at universities and technical colleges\, municipal forestry\, arboricultural research\, and for the past sixteen years has worked in commercial arboriculture. He holds a bachelor of science in Agriculture with an emphasis in urban forestry from Western Illinois University\, and a master of science in Natural Resources with and emphasis in urban forestry from the University of Wisconsin Stevens Point. \nCOURSE ELIGIBILITYCurrent TRAQ holders can complete the course as early as three and one-half (3 1/2) years into their Qualification (18 months before your expiration date). Once your current expiration date passes\, you will need to retake the full course and assessment to be reinstated.  Once you have successfully passed the renewal requirements\, you will be given five (5) years from the date of your previous expiration allowing you to take full advantage of the five-year period granted with the credential. \nTENTATIVE AGENDADay 1: Educational Session &amp; Exam (8:00am – 5:00pm)Course OpeningModule 1: Introduction to Tree Risk AssessmentModule 2: Levels of AssessmentModule 3: Target AssessmentModule 4: Site AssessmentBreak (15 min)Module 5: Tree Biology and MechanicsModule 6: Tree Inspection and AssessmentModule 7: Data Analysis and Risk CategorizationLunch (1 hour)Module 8: MitigationModule 9: ReportingPerformance-based exam (approx. 3hrs)Written Exam \nIncluded in your registration: –   course registration –   exam fee –   the TRAQ renewal manual (shipped via UPS to the address you provide (No PO Boxes) –   Risk Assessment Clipboard (shipped via UPS to the address you provide (No PO Boxes) –   lunch\, beverages and snacks for the day \nTravel and lodging is on your own. \nWhat is required to bring to the class: – your government issued photo ID – your TRAQ Manual (shipped via UPS to the address you provide) – a mask\, your hard hat and high visibility vest or shirt (required) – #2 pencils and your clipboard for taking notes and completing worksheets – rain gear\, including a large ziplock bag (just in case!) – come prepared to spend part of the day outdoors – please dress for your comfort level indoors and outdoors;     we cannot always control the room temperature to suit everyone  \nSpecial Testing Accommodations Requests:If you have an accommodation request\, please complete the Special Accommodations Request Form and submit it with your application. You may find the form online at http://www.isa-arbor.com/Portals/0/Assets/PDF/Certification-Applications/TRAQ-App-Guide.pdf at the end of the TRAQ application guide. The process may take up to several months and may not allow enough time to attend this particular class.
URL:https://www.waa-isa.org/tribe-events/waa-events-isa-tree-risk-assessment-qualification-traq-renewal-registration-april-27-2020/
LOCATION:City of Oconomowoc Community Center\, 220 W. Wisconsin Ave.\, Oconomowoc\, WI\, 53066\, United States
CATEGORIES:WAA Events
ATTACH;FMTTYPE=image/jpeg:https://www.waa-isa.org/wp-content/uploads/2019/09/traqpic.jpg
END:VEVENT
BEGIN:VEVENT
DTSTART;TZID=America/Chicago:20210504T080000
DTEND;TZID=America/Chicago:20210504T170000
DTSTAMP:20260424T194952
CREATED:20210302T164536Z
LAST-MODIFIED:20210405T141905Z
UID:10000160-1620115200-1620147600@www.waa-isa.org
SUMMARY:ISA Tree Risk Assessment Qualification (TRAQ) RENEWAL
DESCRIPTION:BASIC INFORMATIONHotel Information: www.visitoconomowoc.comCourse Location: Oconomowoc Community Center \nAssembly Room 208C \n220 W. Wisconsin Ave.  \nOconomowoc\, WI 53066 \nFacility Map with Parking: https://www.oconomowoc-wi.gov/DocumentCenter/View/1792/DowntownPkg_Map_022619?bidId= \n \nSee Course Flyer for additional information. \nTo pay by check\, please use this form. \nCost: $220 ISA or WAA member/ $260 Non-member \nABOUT THE COURSEThe ISA Tree Risk Assessment Qualification (TRAQ) program provides an opportunity for professionals in the arboriculture industry to expand their knowledge through education and training in the fundamentals of tree risk assessment. This qualification promotes the safety of people and property by providing a standardized and systematic process for assessing tree risk.The results of a tree risk assessment can provide tree owners and risk managers with the information to make informed decisions to enhance tree benefits\, health\, and longevity. \nThe TRAQ Renewal Course consists of a 5 hour educational course followed by a 3 hour assessment that includes both a written and field component. It is required that you attend the course and successfully pass the assessment in order to renew this qualification. 5 CEUs available. \nHosted by: The Wisconsin Arborist AssociationInstructor: Mr. Don RoppoloDon Roppolo is the Manager of Arboricultural Training for Davey Tree. He has been working in the tree care industry for over twenty-five years. During his career he has worked in the following capacities: taught arboriculture skills at universities and technical colleges\, municipal forestry\, arboricultural research\, and for the past sixteen years has worked in commercial arboriculture. He holds a bachelor of science in Agriculture with an emphasis in urban forestry from Western Illinois University\, and a master of science in Natural Resources with and emphasis in urban forestry from the University of Wisconsin Stevens Point. \nCOURSE ELIGIBILITYCurrent TRAQ holders can complete the course as early as three and one-half (3 1/2) years into their Qualification (18 months before your expiration date). Once your current expiration date passes\, you will need to retake the full course and assessment to be reinstated.  Once you have successfully passed the renewal requirements\, you will be given five (5) years from the date of your previous expiration allowing you to take full advantage of the five-year period granted with the credential. \nTENTATIVE AGENDADay 1: Educational Session and Exam (8:00am – 5:00pm)Course OpeningModule 1: Introduction to Tree Risk AssessmentModule 2: Levels of AssessmentModule 3: Target AssessmentModule 4: Site AssessmentBreak (15 min)Module 5: Tree Biology and MechanicsModule 6: Tree Inspection and AssessmentModule 7: Data Analysis and Risk CategorizationLunch (1 hour)Module 8: MitigationModule 9: ReportingPerformance-based exam (approx. 3hrs)Written Exam \nIncluded in your registration: –   course registration –   exam fee –   the TRAQ renewal manual (shipped via UPS to the address you provide (No PO Boxes) –   Risk Assessment Clipboard (shipped via UPS to the address you provide (No PO Boxes) –   lunch\, beverages and snacks for the day \nTravel and lodging is on your own. \nWhat is required to bring to the class: – your government issued photo ID – your TRAQ Manual (shipped via UPS to the address you provide) – a mask\, your hard hat and high visibility vest or shirt (required) – #2 pencils and your clipboard for taking notes and completing worksheets – rain gear\, including a large ziplock bag (just in case!) – come prepared to spend part of the day outdoors – please dress for your comfort level indoors and outdoors;     we cannot always control the room temperature to suit everyone  \nSpecial Testing Accommodations Requests:If you have an accommodation request\, please complete the Special Accommodations Request Form and submit it with your application. You may find the form online at http://www.isa-arbor.com/Portals/0/Assets/PDF/Certification-Applications/TRAQ-App-Guide.pdf at the end of the TRAQ application guide. The process may take up to several months and may not allow enough time to attend this particular class.
URL:https://www.waa-isa.org/tribe-events/isa-tree-risk-assessment-qualification-traq-renewal-2/
LOCATION:City of Oconomowoc Community Center\, 220 W. Wisconsin Ave.\, Oconomowoc\, WI\, 53066\, United States
CATEGORIES:WAA Events
ATTACH;FMTTYPE=image/jpeg:https://www.waa-isa.org/wp-content/uploads/2019/09/traqpic.jpg
END:VEVENT
BEGIN:VEVENT
DTSTART;TZID=America/Chicago:20210506T120000
DTEND;TZID=America/Chicago:20210506T120000
DTSTAMP:20260424T194953
CREATED:20210308T215529Z
LAST-MODIFIED:20210308T215634Z
UID:10000161-1620302400-1620302400@www.waa-isa.org
SUMMARY:BCMA Exam Online Prep Course
DESCRIPTION:Course Description: \n\n\n\nThe highest credential a member of the International Society of Arboriculture can achieve is the Board-Certified Master Arborist certification. This course is designed to prepare practitioners for the BCMA exam through content lectures\, discussion\, exercises\, review\, and self-assessments. The course consists of nine\, 3-hour modules presented over nine consecutive weeks. The BCMA Guide for Exam Preparation provides the framework for instruction. The lectures\, and exercises developed by Duntemann Urban Forestry are intended to provide participants with a comprehensive review to prepare for their exam. \n\n\n\nCourse Structure:\n\n\n\nThe time and money any one individual invest to prepare for the BCMA exam can be considerable. Understanding this\, Mark created a training experience that strives to reinforce participant strengths and identify areas of needed concentration. The primary goal is to provide participants with the tools to think critically. The structure of the course was designed to facilitate these ends. \n\n\n\nOn registering\, registrants will be provided the preliminary assessment from the BCMA Guide. Mark will review and discuss the results of this preliminary assessment with each registrant in preparation for the course.Participants will complete and submit chapter practice questions at the end of each module.An analysis of responses from the previous module’s exams will be presented and reviewed at the beginning of the subsequent module.Two case studies will be provided for each module. One as a take home assignment for that week.Course participants will complete and submit the sample exam from the BCMA Guide at the series’ end.After the course’s completion participants will confer with Mark to review their practice test results. Mark will schedule a one-on-one conversation with each participant. Mentoring will include recommendations for additional study and targeted references.Workshop materials include a detailed narrative related to each module\, case studies\, exercises\, and sample exams. Additionally\, each participant will receive a certificate of participation will be provided. Modules are offered twice daily to accommodate international participation.\n\n\n\n \n\n\n\nCOURSE SCHEDULE\n\n\n\nThe course will be offered in nine modules on consecutive Thursdays in May\, June\, and July for a fee of six hundred and twenty-five dollars ($625 US).  The schedule for the nine – 3-hour modules are: \n\n\n\nModule 1 (May 6th) – Tree Biology & Biotic DisordersModule 2 (May 13th) – Abiotic Disorders & Tree PreservationModule 3 (May 20th) – Plant Identification\, Selection & InstallationModule 4 (May 27th) – Soil Science\, Treatment & Water RelationsModule 5 (June 3rd) – Climbing\, Rigging\, Removal & SupportModule 6 (June 10th) – Plant Health Care & Diagnostic ProcessesModule 7 (June 17th) – Tree Inventory & Management PlansModule 8 (June 24th) – Risk Assessment & Plant AppraisalModule 9 (July 1st) – Business Relations & Safety Management\n\n\n\nTo accommodate different time zones and international colleagues\, each module will be) -provided twice daily according to the schedule below: \n\n\n\nModule A – 13:00 (EDT) (GMT -4)Module B – 19:00 (EDT) (GMT -4)\n\n\n\nLECTURE DETAILS\n\n\n\nParticipants will have access to the nine modules\, webinar materials\, and a certificate of participation.  Twenty-seven (27) International Society of Arboriculture CEU’s are assigned to this course.
URL:https://www.waa-isa.org/tribe-events/bcma-exam-online-prep-course/
END:VEVENT
BEGIN:VEVENT
DTSTART;TZID=America/Chicago:20210511T120000
DTEND;TZID=America/Chicago:20210511T130000
DTSTAMP:20260424T194953
CREATED:20210115T180958Z
LAST-MODIFIED:20210115T181747Z
UID:10000123-1620734400-1620738000@www.waa-isa.org
SUMMARY:TREE Fund Webinar:  LiDAR based urban tree inventory permits a better evaluation of tree services:  an example from Montréal Canada
DESCRIPTION:Registration to open one-month prior to webinar. Follow the link below for more information! \n\n\n\nLiDAR based urban tree inventory permits a better evaluation of tree services: an example from Montréal Canada \n\n\n\nTuesday\, May 11\, 2021\, at 12 p.m. Central \n\n\n\nDan Kneeshaw\, PhD\, University of Quebec\, Montreal
URL:https://www.waa-isa.org/tribe-events/tree-fund-webinar-lidar-based-urban-tree-inventory-permits-a-better-evaluation-of-tree-services-an-example-from-montreal-canada/
CATEGORIES:Green Industry Events
END:VEVENT
BEGIN:VEVENT
DTSTART;TZID=America/Chicago:20210512T100000
DTEND;TZID=America/Chicago:20210512T110000
DTSTAMP:20260424T194953
CREATED:20210510T180024Z
LAST-MODIFIED:20210510T180025Z
UID:10000180-1620813600-1620817200@www.waa-isa.org
SUMMARY:EAB University Webinar: Thousand Canker Disease: Everything You Need to Know in Half an Hour
DESCRIPTION:Should you be concerned about this disease of walnut trees? Learn the latest about thousand cankers disease including: distribution\, management\, monitoring\, basic biology\, host-plant identification\, and more! \n\n\n\nCliff Sadof\, Elizabeth Barnes of Purdue University\, Department of Entomology\, and Carrie Tauscher of Indiana Department of Natural Resources\, Division of Forestry
URL:https://www.waa-isa.org/tribe-events/eab-university-webinar-thousand-canker-disease-everything-you-need-to-know-in-half-an-hour/
CATEGORIES:Green Industry Events
END:VEVENT
BEGIN:VEVENT
DTSTART;TZID=America/Chicago:20210512T120000
DTEND;TZID=America/Chicago:20210512T131500
DTSTAMP:20260424T194953
CREATED:20210510T172837Z
LAST-MODIFIED:20210510T172838Z
UID:10000179-1620820800-1620825300@www.waa-isa.org
SUMMARY:Urban Forest Connections Webinar: Taking Flight - Urban Forest Stewardship for Bird Conservation using i-Tree Eco Software
DESCRIPTION:Each May\, World Migratory Bird Day brings attention to one of the most important and spectacular events in the Americas – bird migration – and reminds us that many birds aren’t connected to a single place\, but survive and even thrive in diverse habitats during often long and arduous passage across a broad swath of landscapes and ecosystems in an increasingly urbanized planet. Dr. Wayne Arendt and Jerry Bauer\, both with the USDA Forest Service’sInternational Institute of Tropical Forestry based in San Juan\, Puerto Rico\, will share how the combination of decades of bird data linked to natural and innate variables generated by US Forest Service i-Tree and i-Tree Eco software can provide new insights into the many ways highly disparate and dispersed urban green areas\, including urban forests with their complex structure\, composition and diverse mixture of native and introduced species\, can influence urban bird biodiversity and promote natural and anthropogenic ecosystem services provided to Santo Domingo\, and the city’s reciprocity promoting sustainable and functional benefits to trees\, birds and all incumbent life forms. Robert Northrop\, an extension forester with the University of Florida\, will discuss what this means for urban forest stewardship\, and how local decisions can have a synergistic impact on urban terrestrial and marine resident and migratory birds\, ecosystem services and human well-being across a migratory landscape. \n\n\n\n1 ISA CEU available
URL:https://www.waa-isa.org/tribe-events/urban-forest-connections-webinar-taking-flight-urban-forest-stewardship-for-bird-conservation-using-i-tree-eco-software/
CATEGORIES:Green Industry Events
END:VEVENT
BEGIN:VEVENT
DTSTART;TZID=America/Chicago:20210513T100000
DTEND;TZID=America/Chicago:20210513T110000
DTSTAMP:20260424T194953
CREATED:20210510T180246Z
LAST-MODIFIED:20210510T180247Z
UID:10000181-1620900000-1620903600@www.waa-isa.org
SUMMARY:EAB University Webinar: Hemlock Wooly Adelgid: Everything You Need to Know in Half an Hour
DESCRIPTION:Hemlock woolly adelgid (HWA) is a deadly pest of hemlock trees. Learn the latest about HWA: current distribution\, biocontrol programs\, management\, monitoring\, basic biology\, host-plant identification\, and more! \n\n\n\nCliff Sadof\, Elizabeth Barnes of Purdue University\, Department of Entomology\, and Carrie Tauscher of Indiana Department of Natural Resources\, Division of Forestry
URL:https://www.waa-isa.org/tribe-events/eab-university-webinar-hemlock-wooly-adelgid-everything-you-need-to-know-in-half-an-hour/
CATEGORIES:Green Industry Events
END:VEVENT
BEGIN:VEVENT
DTSTART;TZID=UTC:20210518T080000
DTEND;TZID=UTC:20210521T170000
DTSTAMP:20260424T194953
CREATED:20200520T133835Z
LAST-MODIFIED:20201213T154730Z
UID:10000094-1621324800-1621616400@www.waa-isa.org
SUMMARY:ASCA Consulting Academy
DESCRIPTION:Successful Consulting Arborists have made sure they have a full understanding of the core components of consulting—including the function of a consultant\, best practices for report writing\, the dispute resolution process\, and the role a forensic investigation plays.
URL:https://www.waa-isa.org/tribe-events/asca-consulting-academy/
LOCATION:Loews Ventana Canyon\, 7000 N Resort Dr.\, Tuscon\, Arizona\, 85750\, United States
CATEGORIES:Green Industry Events
END:VEVENT
BEGIN:VEVENT
DTSTART;TZID=America/Chicago:20210520T110000
DTEND;TZID=America/Chicago:20210520T120000
DTSTAMP:20260424T194953
CREATED:20210510T172401Z
LAST-MODIFIED:20210510T172402Z
UID:10000178-1621508400-1621512000@www.waa-isa.org
SUMMARY:Urban Forestry Today Webinar: Diseases of Landscape Trees
DESCRIPTION:Join Nick Brazee\, PhD\, & Cameron McIntire\, PhD\, as they discuss tree-related diseases of importance that arborists & urban foresters may encounter during the 2021 growing season. Special discussion will be given to diseases of conifers\, including Eastern White Pine. \n\n\n\nAttend live & receive Free ISA/MCA CEU’s\, click here OR visit: http://www.joinwebinar.com & enter: 832-211-195 @ Noon (Eastern).  ​This LIVE BROADCAST is free and will offer the opportunity for arborists to earn 1.0 ISA CEU and 0.5 MCA credit.
URL:https://www.waa-isa.org/tribe-events/urban-forestry-today-webinar-diseases-of-landscape-trees/
CATEGORIES:Green Industry Events
END:VEVENT
BEGIN:VEVENT
DTSTART;TZID=UTC:20210522T080000
DTEND;TZID=UTC:20210525T170000
DTSTAMP:20260424T194953
CREATED:20200520T133110Z
LAST-MODIFIED:20201213T161813Z
UID:10000093-1621670400-1621962000@www.waa-isa.org
SUMMARY:ASCA All Access Spring Conference
DESCRIPTION:In Tucson\, AZ.   \n\n\n\nThe ASCA All Access Spring Conference is the meeting that focuses exclusively on providing you with the tools and knowledge you need to thrive as a Consulting Arborist. Not only will you be exposed to education you can’t find anywhere else\, but you will also gain access to the best resources in the industry—our attendees. \n\n\n\nWho Attends?\n\n\n\nRegistered Consulting Arborists (RCAs)Consulting ArboristsBoard Certified Master Arborists (BCMAs)Certified ArboristsMunicipal ArboristsState Licensed or Professional ForestersCertified Urban Foresters (CaUFC)Certified Foresters (SAF-CF)Utility ArboristsLandscape Architects/Landscape Designers Horticulturists
URL:https://www.waa-isa.org/tribe-events/asca-annual-conference/
LOCATION:Loews Ventana Canyon\, 7000 N Resort Dr.\, Tuscon\, Arizona\, 85750\, United States
CATEGORIES:Green Industry Events
END:VEVENT
BEGIN:VEVENT
DTSTART;TZID=America/Chicago:20210527T123000
DTEND;TZID=America/Chicago:20210527T163000
DTSTAMP:20260424T194953
CREATED:20210326T144419Z
LAST-MODIFIED:20210525T185627Z
UID:10000172-1622118600-1622133000@www.waa-isa.org
SUMMARY:ISA Certified Arborist\, Utility Specialist\, and Municipal Specialist Exam
DESCRIPTION:Registration Deadline: May 11\, 2021 \n\n\n\nSeats Available: 20 \n\n\n\nPlease check the ISA website (www.isa-arbor.com) for more information and for registration under Credentials/ Exam Information. Registration for the exam is made directly with the ISA\, and must be completed at least 12 working days in advance.  This is an application process that has certain requirements. Here is the webpage where you can find the application to apply for eligibility: https://www.isa-arbor.com/Credentials/Apply-Now/Apply-for-Eligibility. \n\n\n\nPlease contact ISA if you are having any difficulties with registration.  Do not wait until the last minute to register!
URL:https://www.waa-isa.org/tribe-events/isa-certified-arborist-utility-specialist-and-municipal-specialist-exam-3/
CATEGORIES:WAA Events
ATTACH;FMTTYPE=image/jpeg:https://www.waa-isa.org/wp-content/uploads/2019/08/ISA-Certified-Arborist-Logo-172x300.jpg
END:VEVENT
END:VCALENDAR