BEGIN:VCALENDAR
VERSION:2.0
PRODID:-//WAA-ISA - ECPv6.15.20//NONSGML v1.0//EN
CALSCALE:GREGORIAN
METHOD:PUBLISH
X-ORIGINAL-URL:https://www.waa-isa.org
X-WR-CALDESC:Events for WAA-ISA
REFRESH-INTERVAL;VALUE=DURATION:PT1H
X-Robots-Tag:noindex
X-PUBLISHED-TTL:PT1H
BEGIN:VTIMEZONE
TZID:America/Chicago
BEGIN:DAYLIGHT
TZOFFSETFROM:-0600
TZOFFSETTO:-0500
TZNAME:CDT
DTSTART:20200308T080000
END:DAYLIGHT
BEGIN:STANDARD
TZOFFSETFROM:-0500
TZOFFSETTO:-0600
TZNAME:CST
DTSTART:20201101T070000
END:STANDARD
BEGIN:DAYLIGHT
TZOFFSETFROM:-0600
TZOFFSETTO:-0500
TZNAME:CDT
DTSTART:20210314T080000
END:DAYLIGHT
BEGIN:STANDARD
TZOFFSETFROM:-0500
TZOFFSETTO:-0600
TZNAME:CST
DTSTART:20211107T070000
END:STANDARD
BEGIN:DAYLIGHT
TZOFFSETFROM:-0600
TZOFFSETTO:-0500
TZNAME:CDT
DTSTART:20220313T080000
END:DAYLIGHT
BEGIN:STANDARD
TZOFFSETFROM:-0500
TZOFFSETTO:-0600
TZNAME:CST
DTSTART:20221106T070000
END:STANDARD
END:VTIMEZONE
BEGIN:VEVENT
DTSTART;TZID=America/Chicago:20210323T080000
DTEND;TZID=America/Chicago:20210324T151000
DTSTAMP:20260424T170824
CREATED:20210217T140948Z
LAST-MODIFIED:20210217T140949Z
UID:10000158-1616486400-1616598600@www.waa-isa.org
SUMMARY:2021 Minnesota Shade Tree Short Course
DESCRIPTION:Due to continued safety concerns around COVID-19\, the Shade Tree Short Course has decided to go virtual in 2021. While we won’t be seeing you in person\, we are still thrilled to offer an exciting program lineup with keynotes and concurrent sessions\, exhibitors\, and plenty of opportunities to network with your peers! \n\n\n\nDiscuss\, debate and disseminate best practices on all things shade tree with fellow arborists at this two-day conference. The Minnesota Shade Tree Short Course has been ensuring tree health since 1963. \n\n\n\n \n\n\n\nFollow this link for Registration: https://conference.umn.edu/minnesota-shade-tree-short-course/registration
URL:https://www.waa-isa.org/tribe-events/2021-minnesota-shade-tree-short-course/
END:VEVENT
BEGIN:VEVENT
DTSTART;TZID=America/Chicago:20210331T130000
DTEND;TZID=America/Chicago:20210331T150000
DTSTAMP:20260424T170824
CREATED:20210326T140531Z
LAST-MODIFIED:20210326T140532Z
UID:10000168-1617195600-1617202800@www.waa-isa.org
SUMMARY:Tech Talk: Back to the Future-An Historical Look at Advancements in Arboriculture
DESCRIPTION:This two-hour Tech Talk will provide an historical perspective of advancements in arboriculture and how these advancements have moved safety\, and the industry\, forward.  \n\n\n\nPresenters: Mark Bridge\, TreeMagineers and Ed Carpenter\, North American Training Solutions
URL:https://www.waa-isa.org/tribe-events/tech-talk-back-to-the-future-an-historical-look-at-advancements-in-arboriculture/
END:VEVENT
END:VCALENDAR