BEGIN:VCALENDAR
VERSION:2.0
PRODID:-//WAA-ISA - ECPv6.15.20//NONSGML v1.0//EN
CALSCALE:GREGORIAN
METHOD:PUBLISH
X-WR-CALNAME:WAA-ISA
X-ORIGINAL-URL:https://www.waa-isa.org
X-WR-CALDESC:Events for WAA-ISA
REFRESH-INTERVAL;VALUE=DURATION:PT1H
X-Robots-Tag:noindex
X-PUBLISHED-TTL:PT1H
BEGIN:VTIMEZONE
TZID:America/Chicago
BEGIN:DAYLIGHT
TZOFFSETFROM:-0600
TZOFFSETTO:-0500
TZNAME:CDT
DTSTART:20190310T080000
END:DAYLIGHT
BEGIN:STANDARD
TZOFFSETFROM:-0500
TZOFFSETTO:-0600
TZNAME:CST
DTSTART:20191103T070000
END:STANDARD
BEGIN:DAYLIGHT
TZOFFSETFROM:-0600
TZOFFSETTO:-0500
TZNAME:CDT
DTSTART:20200308T080000
END:DAYLIGHT
BEGIN:STANDARD
TZOFFSETFROM:-0500
TZOFFSETTO:-0600
TZNAME:CST
DTSTART:20201101T070000
END:STANDARD
BEGIN:DAYLIGHT
TZOFFSETFROM:-0600
TZOFFSETTO:-0500
TZNAME:CDT
DTSTART:20210314T080000
END:DAYLIGHT
BEGIN:STANDARD
TZOFFSETFROM:-0500
TZOFFSETTO:-0600
TZNAME:CST
DTSTART:20211107T070000
END:STANDARD
END:VTIMEZONE
BEGIN:VEVENT
DTSTART;TZID=America/Chicago:20201203T130000
DTEND;TZID=America/Chicago:20201203T140000
DTSTAMP:20260424T125300
CREATED:20201119T164255Z
LAST-MODIFIED:20201119T165255Z
UID:10000141-1607000400-1607004000@www.waa-isa.org
SUMMARY:An Intro to Mapping & Spatial Data Applications for Arborists
DESCRIPTION:Join Dr. Forrest Bowlick\, Univ of Massachusetts\, on Thurs Dec 03 at 12pm (EST) for the ‘Urban Forestry Today’ broadcast as he introduces and outlines the science and practice of digital map-making and spatial techniques for arborists & urban foresters.  \n\n\n\nAttend live & receive Free ISA/MCA CEU’s by registering onlineOR by visiting www.joinwebinar.com & entering Webinar ID: 193-492-139
URL:https://www.waa-isa.org/tribe-events/an-intro-to-mapping-spatial-data-applications-for-arborists/
CATEGORIES:Green Industry Events
END:VEVENT
BEGIN:VEVENT
DTSTART;TZID=America/Chicago:20201207T080000
DTEND;TZID=America/Chicago:20201211T170000
DTSTAMP:20260424T125300
CREATED:20200914T163301Z
LAST-MODIFIED:20201207T162250Z
UID:10000136-1607328000-1607706000@www.waa-isa.org
SUMMARY:ISA Virtual Annual Conference & Trade Show
DESCRIPTION:ISA has made the difficult decision to cancel our in-person 2020 ISA Annual International Conference and Trade Show slated for 15-17 December 2020. The safety and well-being of our attendees\, members\, employees\, partners and vendors remains our top priority. This decision was made due to recent developments in COVID-19 cases\, the restrictions placed by public health officials on large gatherings through 2020 in Albuquerque\, New Mexico\, and the overall climate surrounding travel and meetings. We want to take this time to thank the ISA Rocky Mountain Chapter for their leadership throughout the entire planning process. The members of the Conference Planning Committee were prepared to host an exceptional conference and we cannot thank them enough for their insights and efforts. While we are disappointed we will not be able to meet in person this year\, we are excited to announce that ISA is working towards a virtual experience where attendees will have the opportunity to earn continuing education units\, listen to Keynote Speakers\, engage with presentations and presenters\, and network with their peers from the comfort of their homes. ISA plans on making this event accessible on a global scale reflecting our international community\, and we look forward to sharing more information in the coming weeks on how to participate in this virtual experience. ISA thanks all of its members\, attendees\, and partners for their continued support and enthusiasm for this event\, and we look forward to meeting virtually this year\, and in-person as soon as we are able to do so safely. \n\n\n\nMore information can be found on the ISA website.
URL:https://www.waa-isa.org/tribe-events/isa-virtual-annual-conference-trade-show/
CATEGORIES:Green Industry Events
END:VEVENT
BEGIN:VEVENT
DTSTART;TZID=America/Chicago:20201217T150000
DTEND;TZID=America/Chicago:20201217T160000
DTSTAMP:20260424T125300
CREATED:20201113T143833Z
LAST-MODIFIED:20201113T143835Z
UID:10000140-1608217200-1608220800@www.waa-isa.org
SUMMARY:Free Arborist Apprenticeship Webinar
DESCRIPTION:The Wisconsin Arborist Apprenticeship Program is a growing way for tree care companies and municipalities to train their work force. Learn about the program\, and it’s flexibility to fit your organization. This presentation will be hosted by City of Milwaukee Forestry Services Manager Randy Krouse along with a panel of apprenticeship instructors\, public employees and WI Bureau of Apprenticeship Representatives.
URL:https://www.waa-isa.org/tribe-events/free-arborist-apprenticeship-webinar/
CATEGORIES:Green Industry Events
END:VEVENT
BEGIN:VEVENT
DTSTART;TZID=America/Chicago:20201231T000000
DTEND;TZID=America/Chicago:20201231T235959
DTSTAMP:20260424T125300
CREATED:20201207T151219Z
LAST-MODIFIED:20201207T161606Z
UID:10000151-1609372800-1609459199@www.waa-isa.org
SUMMARY:WAA 2021 Student Scholarship Applications Due
DESCRIPTION:Fill out the application online using the button on the right or download this application\, fill it out completely\, and email to Nathan Schuettpelz – 2021 Student Scholarship Application. \n\n\n\nHere are the prerequisites to qualify for a scholarship – 2021 WAA Student Scholarship Criteria
URL:https://www.waa-isa.org/tribe-events/waa-2021-student-scholarship-applications-due/
CATEGORIES:WAA Events
ATTACH;FMTTYPE=image/png:https://www.waa-isa.org/wp-content/uploads/2019/07/waa-logo-gradient-3.png
END:VEVENT
BEGIN:VEVENT
DTSTART;TZID=America/Chicago:20201231T000000
DTEND;TZID=America/Chicago:20201231T235959
DTSTAMP:20260424T125300
CREATED:20201207T161934Z
LAST-MODIFIED:20201207T161937Z
UID:10000152-1609372800-1609459199@www.waa-isa.org
SUMMARY:WAA 2021 Nominations Due
DESCRIPTION:Please go to the Nomination link on the right to nominate someone online or use this form and email it to Nathan Schuettpelz – \n\n\n\n2021 WAA Nominations Form
URL:https://www.waa-isa.org/tribe-events/waa-2021-nominations-due/
CATEGORIES:WAA Events
ATTACH;FMTTYPE=image/jpeg:https://www.waa-isa.org/wp-content/uploads/2019/07/WAA_logo_slide.jpg
END:VEVENT
END:VCALENDAR