BEGIN:VCALENDAR
VERSION:2.0
PRODID:-//WAA-ISA - ECPv6.15.20//NONSGML v1.0//EN
CALSCALE:GREGORIAN
METHOD:PUBLISH
X-WR-CALNAME:WAA-ISA
X-ORIGINAL-URL:https://www.waa-isa.org
X-WR-CALDESC:Events for WAA-ISA
REFRESH-INTERVAL;VALUE=DURATION:PT1H
X-Robots-Tag:noindex
X-PUBLISHED-TTL:PT1H
BEGIN:VTIMEZONE
TZID:America/Chicago
BEGIN:DAYLIGHT
TZOFFSETFROM:-0600
TZOFFSETTO:-0500
TZNAME:CDT
DTSTART:20180311T080000
END:DAYLIGHT
BEGIN:STANDARD
TZOFFSETFROM:-0500
TZOFFSETTO:-0600
TZNAME:CST
DTSTART:20181104T070000
END:STANDARD
BEGIN:DAYLIGHT
TZOFFSETFROM:-0600
TZOFFSETTO:-0500
TZNAME:CDT
DTSTART:20190310T080000
END:DAYLIGHT
BEGIN:STANDARD
TZOFFSETFROM:-0500
TZOFFSETTO:-0600
TZNAME:CST
DTSTART:20191103T070000
END:STANDARD
BEGIN:DAYLIGHT
TZOFFSETFROM:-0600
TZOFFSETTO:-0500
TZNAME:CDT
DTSTART:20200308T080000
END:DAYLIGHT
BEGIN:STANDARD
TZOFFSETFROM:-0500
TZOFFSETTO:-0600
TZNAME:CST
DTSTART:20201101T070000
END:STANDARD
END:VTIMEZONE
BEGIN:VEVENT
DTSTART;TZID=America/Chicago:20191015T183000
DTEND;TZID=America/Chicago:20191015T210000
DTSTAMP:20260421T213735
CREATED:20190814T232840Z
LAST-MODIFIED:20190925T183523Z
UID:10000025-1571164200-1571173200@www.waa-isa.org
SUMMARY:Certified Arborist Study Group - Tree Establishment and Pruning
DESCRIPTION:10 Week Workshop\nSept. 10\, 2019 – November 12\, 2019\nTuesday evenings 6:30-9pm \nGateway Technical College\, Kenosha Campus\nPike Creek Horticulture Center\, Room T118 \nSpace is limited. Register Now to save your seat.\nEarn 2.5 CEU credits for each class. \nThe first 9 weeks\, we will be covering each of the domains associated with the Certified Arborist exam. In week-10\, we will be offering the test. Download the 2019 syllabus. \nLeading industry subject matter experts are the instructors and this study group is tailored to the working arborist. \nOur Instructors\nDenny Fermenich – City Forester\, City of Greenfield; Past president of WAA \nMatt Koepnick – City Forester\, City of Racine; WAA Secretary \nMelinda Myers – “The Plant Doctor” Nationally recognized horticulture and tree expert\, author and TV host\, past president of WAA \nDon Roppolo – Past President\, Illinois Arborist Association\, Davey Resource Group\, Manager of Arboricultural Training \nCindy Schwab – Davey Tree Expert Co\, Recruiting Coordinator for the Great Lakes Region \nMike Wendt – Retired Arboriculture/Hort. Instructor; Past WAA Tree Climbing Competition Champion
URL:https://www.waa-isa.org/tribe-events/certified-arborist-study-group-2019-10-15/
LOCATION:Gateway Technical College\, Kenosha Campus\, 3520 30th Ave\, Kenosha\, WI\, 53144\, United States
CATEGORIES:WAA Events
ATTACH;FMTTYPE=image/png:https://www.waa-isa.org/wp-content/uploads/2019/08/CASG-cover.png
END:VEVENT
BEGIN:VEVENT
DTSTART;TZID=America/Chicago:20191011T080000
DTEND;TZID=America/Chicago:20191011T153000
DTSTAMP:20260421T213735
CREATED:20190909T181046Z
LAST-MODIFIED:20191002T134806Z
UID:10000044-1570780800-1570807800@www.waa-isa.org
SUMMARY:TCIA’s 2019 SRT Climbing Workshop
DESCRIPTION:TCIA’s 2019 SRT Climbing Workshop\n7.5 ISA CEUs and CTSP credits available\nInstructor: Eric Freesmeyer from Capital City Tree Experts \nThis workshop is being funded in part by the Arborist Safety Training Institute. \nSRT Climber is a Tree Care Academy module that examines safe and efficient methods of work positioning through the tree on a stationary rope. Main topics of learning include anchoring\, support points\, redirecting the climbing line and vector forces as applied to tree strength for climbing. SRT equipment selections based on rope compatibility are emphasized. \nThis certificate program makes OSHA and ANSI-required employee training easy to implement and verify. TCIA provides support\, testing and transcript administration. The course can be used to help you qualify employees according to OSHA and ANSI Z133.1 guidelines. Designed to be used in conjunction with on-the-job training. The course offers a means of readying employees for advancement. \nStudents should bring helmets\, safety glasses\, and lawn chairs. Registration starts at 8:00am. Class to begin at 8:30am and be completed by 3:30pm. \nRegistration Deadline: October 1\, 2019 \nRegistration in closed for this event. \n\n	\n								\n		\n\n			\n	\n	\n		\n\n	\n		\n						\n							\n			\n						\n			\n	\n								\n		\n\n			\n	\n	\n		\n\n			SRT Questions\n	\n			Eric Romsos (920) 840-2243 \n	\n	\n	\n\n\n\n	\n		\n	\n\n			\n\n		\n	\n\n		\n\n\n\n	\n\n			\n							Volunteer or Questions\n							\n						\n		\n	\n\n\n\n\n\n	\n\n\n\n	\n		\n	\n\n\nWAA Member Price: $35\nWAA Non-Member Price: $35\nLunch is included.
URL:https://www.waa-isa.org/tribe-events/tcias-2019-srt-climbing-workshop/
LOCATION:Appleton Memorial Park  Scheig Center\, 1313 E. Wizke Blvd \, Appleton\, WI\, 54911\, United States
CATEGORIES:WAA Events
ATTACH;FMTTYPE=image/jpeg:https://www.waa-isa.org/wp-content/uploads/2019/09/srt-event-picture.jpg
END:VEVENT
BEGIN:VEVENT
DTSTART;TZID=America/Chicago:20191008T183000
DTEND;TZID=America/Chicago:20191008T210000
DTSTAMP:20260421T213735
CREATED:20190814T232840Z
LAST-MODIFIED:20190925T183434Z
UID:10000024-1570559400-1570568400@www.waa-isa.org
SUMMARY:Certified Arborist Study Group - Risk Management
DESCRIPTION:10 Week Workshop\nSept. 10\, 2019 – November 12\, 2019\nTuesday evenings 6:30-9pm \nGateway Technical College\, Kenosha Campus\nPike Creek Horticulture Center\, Room T118 \nSpace is limited. Register Now to save your seat.\nEarn 2.5 CEU credits for each class. \nThe first 9 weeks\, we will be covering each of the domains associated with the Certified Arborist exam. In week-10\, we will be offering the test. Download the 2019 syllabus. \nLeading industry subject matter experts are the instructors and this study group is tailored to the working arborist. \nOur Instructors\nDenny Fermenich – City Forester\, City of Greenfield; Past president of WAA \nMatt Koepnick – City Forester\, City of Racine; WAA Secretary \nMelinda Myers – “The Plant Doctor” Nationally recognized horticulture and tree expert\, author and TV host\, past president of WAA \nDon Roppolo – Past President\, Illinois Arborist Association\, Davey Resource Group\, Manager of Arboricultural Training \nCindy Schwab – Davey Tree Expert Co\, Recruiting Coordinator for the Great Lakes Region \nMike Wendt – Retired Arboriculture/Hort. Instructor; Past WAA Tree Climbing Competition Champion
URL:https://www.waa-isa.org/tribe-events/certified-arborist-study-group-2019-10-08/
LOCATION:Gateway Technical College\, Kenosha Campus\, 3520 30th Ave\, Kenosha\, WI\, 53144\, United States
CATEGORIES:WAA Events
ATTACH;FMTTYPE=image/png:https://www.waa-isa.org/wp-content/uploads/2019/08/CASG-cover.png
END:VEVENT
BEGIN:VEVENT
DTSTART;TZID=America/Chicago:20191001T183000
DTEND;TZID=America/Chicago:20191001T210000
DTSTAMP:20260421T213735
CREATED:20190814T232840Z
LAST-MODIFIED:20190925T183351Z
UID:10000023-1569954600-1569963600@www.waa-isa.org
SUMMARY:Certified Arborist Study Group - Tree Support and Protection
DESCRIPTION:10 Week Workshop\nSept. 10\, 2019 – November 12\, 2019\nTuesday evenings 6:30-9pm \nGateway Technical College\, Kenosha Campus\nPike Creek Horticulture Center\, Room T118 \nSpace is limited. Register Now to save your seat.\nEarn 2.5 CEU credits for each class. \nThe first 9 weeks\, we will be covering each of the domains associated with the Certified Arborist exam. In week-10\, we will be offering the test. Download the 2019 syllabus. \nLeading industry subject matter experts are the instructors and this study group is tailored to the working arborist. \nOur Instructors\nDenny Fermenich – City Forester\, City of Greenfield; Past president of WAA \nMatt Koepnick – City Forester\, City of Racine; WAA Secretary \nMelinda Myers – “The Plant Doctor” Nationally recognized horticulture and tree expert\, author and TV host\, past president of WAA \nDon Roppolo – Past President\, Illinois Arborist Association\, Davey Resource Group\, Manager of Arboricultural Training \nCindy Schwab – Davey Tree Expert Co\, Recruiting Coordinator for the Great Lakes Region \nMike Wendt – Retired Arboriculture/Hort. Instructor; Past WAA Tree Climbing Competition Champion
URL:https://www.waa-isa.org/tribe-events/certified-arborist-study-group-2019-10-01/
LOCATION:Gateway Technical College\, Kenosha Campus\, 3520 30th Ave\, Kenosha\, WI\, 53144\, United States
CATEGORIES:WAA Events
ATTACH;FMTTYPE=image/png:https://www.waa-isa.org/wp-content/uploads/2019/08/CASG-cover.png
END:VEVENT
BEGIN:VEVENT
DTSTART;TZID=America/Chicago:20190924T183000
DTEND;TZID=America/Chicago:20190924T210000
DTSTAMP:20260421T213735
CREATED:20190814T232840Z
LAST-MODIFIED:20190925T183946Z
UID:10000022-1569349800-1569358800@www.waa-isa.org
SUMMARY:Certified Arborist Study Group - Soil\, Water and Nutrition
DESCRIPTION:10 Week Workshop\nSept. 10\, 2019 – November 12\, 2019\nTuesday evenings 6:30-9pm \nGateway Technical College\, Kenosha Campus\nPike Creek Horticulture Center\, Room T118 \nSpace is limited. Register Now to save your seat.\nEarn 2.5 CEU credits for each class. \nThe first 9 weeks\, we will be covering each of the domains associated with the Certified Arborist exam. In week-10\, we will be offering the test. Download the 2019 syllabus. \nLeading industry subject matter experts are the instructors and this study group is tailored to the working arborist. \nOur Instructors\nDenny Fermenich – City Forester\, City of Greenfield; Past president of WAA \nMatt Koepnick – City Forester\, City of Racine; WAA Secretary \nMelinda Myers – “The Plant Doctor” Nationally recognized horticulture and tree expert\, author and TV host\, past president of WAA \nDon Roppolo – Past President\, Illinois Arborist Association\, Davey Resource Group\, Manager of Arboricultural Training \nCindy Schwab – Davey Tree Expert Co\, Recruiting Coordinator for the Great Lakes Region \nMike Wendt – Retired Arboriculture/Hort. Instructor; Past WAA Tree Climbing Competition Champion
URL:https://www.waa-isa.org/tribe-events/certified-arborist-study-group-2019-09-24/
LOCATION:Gateway Technical College\, Kenosha Campus\, 3520 30th Ave\, Kenosha\, WI\, 53144\, United States
CATEGORIES:WAA Events
ATTACH;FMTTYPE=image/png:https://www.waa-isa.org/wp-content/uploads/2019/08/CASG-cover.png
END:VEVENT
BEGIN:VEVENT
DTSTART;TZID=America/Chicago:20190917T183000
DTEND;TZID=America/Chicago:20190917T210000
DTSTAMP:20260421T213735
CREATED:20190814T232840Z
LAST-MODIFIED:20201201T172437Z
UID:10000021-1568745000-1568754000@www.waa-isa.org
SUMMARY:Certified Arborist Study Group - Plant Health Care/ Diseases and Treatment
DESCRIPTION:10 Week Workshop\nSept. 10\, 2019 – November 12\, 2019\nTuesday evenings 6:30-9pm\n\nGateway Technical College\, Kenosha Campus\nPike Creek Horticulture Center\, Room T118\n\nSpace is limited. Register Now to save your seat.\nEarn 2.5 CEU credits for each class.\n\nThe first 9 weeks\, we will be covering each of the domains associated with the Certified Arborist exam. In week-10\, we will be offering the test. Download the 2019 syllabus.\n\nLeading industry subject matter experts are the instructors and this study group is tailored to the working arborist.\nOur Instructors\nDenny Fermenich – City Forester\, City of Greenfield; Past president of WAA\n\nMatt Koepnick – City Forester\, City of Racine; WAA Secretary\n\nMelinda Myers – “The Plant Doctor” Nationally recognized horticulture and tree expert\, author and TV host\, past president of WAA\n\nDon Roppolo – Past President\, Illinois Arborist Association\, Davey Resource Group\, Manager of Arboricultural Training\n\nCindy Schwab – Davey Tree Expert Co\, Recruiting Coordinator for the Great Lakes Region\n\nMike Wendt – Retired Arboriculture/Hort. Instructor; Past WAA Tree Climbing Competition Champion
URL:https://www.waa-isa.org/tribe-events/certified-arborist-study-group-2019-09-17/
LOCATION:Gateway Technical College\, Kenosha Campus\, 3520 30th Ave\, Kenosha\, WI\, 53144\, United States
CATEGORIES:WAA Events
ATTACH;FMTTYPE=image/png:https://www.waa-isa.org/wp-content/uploads/2019/08/CASG-cover.png
END:VEVENT
BEGIN:VEVENT
DTSTART;VALUE=DATE:20190916
DTEND;VALUE=DATE:20190921
DTSTAMP:20260421T213735
CREATED:20190724T204230Z
LAST-MODIFIED:20190826T203359Z
UID:10000019-1568592000-1569023999@www.waa-isa.org
SUMMARY:Tour des Trees and the TREE Fund
DESCRIPTION:Registration to ride is closed for 2019; however we encourage you to meet the riders and pledge your support by donating to the Tree Research and Education Endowment Fund (TREE Fund). \n\n\n\nThe Tour des Trees is the flagship fundraiser for the TREE Fund. Bicycle riders from around the world participate\, each committed to raising a minimum of $3\,500 for the TREE Fund. The TREE Fund solicits sponsors to cover all the costs of the 7-day event so 100% of the funds raised by the riders go to support research and scholarship. This event not only raises money\, but it raises public awareness of the need for professional tree care. Along the route there are educational events for kids\, public tree planting ceremonies\, media interviews and TV\, radio\, magazine\, social media and newspaper coverage that reach millions of people nationally and around the world. \n\n\n\nThe benefits of this event to Wisconsin Arborists are huge. Nearly everything we do to care for trees is driven by research and education\, much of it funded in part by the TREE Fund through its grant programs and student scholarships including the Bob Skiera Memorial Fund which the WAA initiated and is working to endow. The WAA is committed to research-based arboriculture and encourages members to support the TREE Fund through donations to Wisconsin’s riders in the Tour des Trees. Despite that\, historically only about 15% of members donate. \n\n\n\nMeet the Wisconsin Riders and Pledge Your Support\n\n	\n								\n		\n\n			\n	\n\n			\n	\n	\n		\n		\n		\n	\n				\n				\n				\n					\n	\nDoug Drysdale\n			\n							Meet and Donate\n					\n	\n	\n	\n	\n\n\n\n			\n	\n	\n		\n		\n		\n	\n				\n				\n				\n					\n	\nJeffrey Edgar\n			\n							Meet and Donate\n					\n	\n	\n	\n	\n\n\n\n			\n	\n	\n		\n		\n		\n	\n				\n				\n				\n					\n	\nDick Rideout\n			\n							Meet and Donate\n					\n	\n	\n	\n	\n\n\n\n			\n	\n	\n		\n		\n		\n	\n				\n				\n				\n					\n	\nTeam Kitty\n			\n							Meet and Donate\n					\n	\n	\n	\n	\n\n\n\n	\n\n\n	\n		\n	\n\n\n\n\n\n	\n								\n		\n\n			\n	\n	\n		\n	Past Tour des Trees Photos
URL:https://www.waa-isa.org/tribe-events/tour-des-trees-and-the-tree-fund/
LOCATION:WI
CATEGORIES:Green Industry Events
ATTACH;FMTTYPE=image/png:https://www.waa-isa.org/wp-content/uploads/2019/07/Tour-des-Trees-fetaured-image.png
END:VEVENT
BEGIN:VEVENT
DTSTART;TZID=America/Chicago:20190914T090000
DTEND;TZID=America/Chicago:20190914T150000
DTSTAMP:20260421T213735
CREATED:20190827T162103Z
LAST-MODIFIED:20220721T144337Z
UID:10000042-1568451600-1568473200@www.waa-isa.org
SUMMARY:Arbor Fair
DESCRIPTION:Arbor Fair\n Goodman Park\, Madison\n\nBring your family\, children and neighbors for this year’s Arbor Fair event!\n\n 	Kids’ Climbing Opportunity\n 	Tree Part Obstacle Course\n 	Kids’ Tree Lab\n 	Tree Science Activities
URL:https://www.waa-isa.org/tribe-events/arbor-fair-2019/
LOCATION:Goodman Park\, Madison\, WI\, 1402 Wingra Creek Pkwy\, Madison\, WI\, 53715\, United States
ATTACH;FMTTYPE=image/jpeg:https://www.waa-isa.org/wp-content/uploads/2019/08/Arbor-Fair-photo.jpg
END:VEVENT
BEGIN:VEVENT
DTSTART;TZID=America/Chicago:20190913T120000
DTEND;TZID=America/Chicago:20190914T170000
DTSTAMP:20260421T213735
CREATED:20190723T165844Z
LAST-MODIFIED:20200519T135721Z
UID:10000018-1568376000-1568480400@www.waa-isa.org
SUMMARY:2019 Tree Climbing Championship & Arbor Fair
DESCRIPTION:Goodman Park\, Madison\, WI\nGear Inspection will be at 12 noon Friday\, September 13th. Followed by a walk-through of Preliminary Events. The first two preliminary events will start by 2pm on Friday the 13th. (Belayed Speed Climb & Ascent Events). \n\nSaturday 7am Check in\, 7:30am start\, 2pm Masters’ Challenge. \n\nThere will be a few new things at the TCC this year\, and we only have thirty spots for competitors. The success of our event would not be possible without the support of our many great Sponsors and Volunteers. Sign up early and come join us to compete or help\, you won’t regret the experience. \n\nYou must pre-register for this competition\, and competitors must be current WAA members.  30 spots are available for competitors.  Register on time\, as the number of contestants is limited.  In agreement with other ISA chapters\, competitors may compete in only one chapter championship per year\, preferably their home chapter.  Contestants will be scheduled for all 5 preliminary events. \n\nREGISTRATION DEADLINE: Friday\, August 30th.  Walk-ons not allowed!  \n\nRegistration is closed for this event. \n\nMust be a WAA MEMBER to compete! \n\nWant to VOLUNTEER or have any QUESTIONS?? \n\n\n	\n								\n		\n\n			\n	\n	\n		\n\n	\n		\n						\n							\n			\n						\n			\n	\n								\n		\n\n			\n	\n	\n		\n\n			SRT Questions\n	\n			Eric Romsos (920) 840-2243 \n	\n	\n	\n\n\n\n	\n		\n	\n\n			\n\n		\n	\n\n		\n\n\n\n	\n\n			\n							Volunteer or Questions\n							\n						\n		\n	\n\n\n\n\n\n	\n\n\n\n	\n		\n	\n\n\n\n2018 TCC Champions
URL:https://www.waa-isa.org/tribe-events/2019-tree-climbing-championship-arbor-fair/
LOCATION:Goodman Park\, Madison\, WI\, 1402 Wingra Creek Pkwy\, Madison\, WI\, 53715\, United States
ATTACH;FMTTYPE=image/jpeg:https://www.waa-isa.org/wp-content/uploads/2019/07/Tree_climber.jpg
END:VEVENT
BEGIN:VEVENT
DTSTART;TZID=America/Chicago:20190910T183000
DTEND;TZID=America/Chicago:20190910T210000
DTSTAMP:20260421T213735
CREATED:20190814T232840Z
LAST-MODIFIED:20201201T160859Z
UID:10000020-1568140200-1568149200@www.waa-isa.org
SUMMARY:Certified Arborist Study Group - Tree Physiology and Biology
DESCRIPTION:10 Week Workshop\nSept. 10\, 2019 – November 12\, 2019\nTuesday evenings 6:30-9pm \nGateway Technical College\, Kenosha Campus\nPike Creek Horticulture Center\, Room T118 \nSpace is limited. Register Now to save your seat.\nEarn 2.5 CEU credits for each class. \nThe first 9 weeks\, we will be covering each of the domains associated with the Certified Arborist exam. In week-10\, we will be offering the test. Download the 2019 syllabus. \nLeading industry subject matter experts are the instructors and this study group is tailored to the working arborist. \nOur Instructors\nDenny Fermenich – City Forester\, City of Greenfield; Past president of WAA \nMatt Koepnick – City Forester\, City of Racine; WAA Secretary \nMelinda Myers – “The Plant Doctor” Nationally recognized horticulture and tree expert\, author and TV host\, past president of WAA \nDon Roppolo – Past President\, Illinois Arborist Association\, Davey Resource Group\, Manager of Arboricultural Training \nCindy Schwab – Davey Tree Expert Co\, Recruiting Coordinator for the Great Lakes Region \nMike Wendt – Retired Arboriculture/Hort. Instructor; Past WAA Tree Climbing Competition Champion
URL:https://www.waa-isa.org/tribe-events/certified-arborist-study-group/
LOCATION:Gateway Technical College\, Kenosha Campus\, 3520 30th Ave\, Kenosha\, WI\, 53144\, United States
CATEGORIES:WAA Events
ATTACH;FMTTYPE=image/png:https://www.waa-isa.org/wp-content/uploads/2019/08/CASG-cover.png
END:VEVENT
END:VCALENDAR