BEGIN:VCALENDAR
VERSION:2.0
PRODID:-//WAA-ISA - ECPv6.15.20//NONSGML v1.0//EN
CALSCALE:GREGORIAN
METHOD:PUBLISH
X-ORIGINAL-URL:https://www.waa-isa.org
X-WR-CALDESC:Events for WAA-ISA
REFRESH-INTERVAL;VALUE=DURATION:PT1H
X-Robots-Tag:noindex
X-PUBLISHED-TTL:PT1H
BEGIN:VTIMEZONE
TZID:America/Chicago
BEGIN:DAYLIGHT
TZOFFSETFROM:-0600
TZOFFSETTO:-0500
TZNAME:CDT
DTSTART:20250309T080000
END:DAYLIGHT
BEGIN:STANDARD
TZOFFSETFROM:-0500
TZOFFSETTO:-0600
TZNAME:CST
DTSTART:20251102T070000
END:STANDARD
BEGIN:DAYLIGHT
TZOFFSETFROM:-0600
TZOFFSETTO:-0500
TZNAME:CDT
DTSTART:20260308T080000
END:DAYLIGHT
BEGIN:STANDARD
TZOFFSETFROM:-0500
TZOFFSETTO:-0600
TZNAME:CST
DTSTART:20261101T070000
END:STANDARD
BEGIN:DAYLIGHT
TZOFFSETFROM:-0600
TZOFFSETTO:-0500
TZNAME:CDT
DTSTART:20270314T080000
END:DAYLIGHT
BEGIN:STANDARD
TZOFFSETFROM:-0500
TZOFFSETTO:-0600
TZNAME:CST
DTSTART:20271107T070000
END:STANDARD
BEGIN:DAYLIGHT
TZOFFSETFROM:-0600
TZOFFSETTO:-0500
TZNAME:CDT
DTSTART:20280312T080000
END:DAYLIGHT
BEGIN:STANDARD
TZOFFSETFROM:-0500
TZOFFSETTO:-0600
TZNAME:CST
DTSTART:20281105T070000
END:STANDARD
END:VTIMEZONE
BEGIN:VEVENT
DTSTART;TZID=America/Chicago:20260714T073000
DTEND;TZID=America/Chicago:20260714T160000
DTSTAMP:20260419T192945
CREATED:20260305T130941Z
LAST-MODIFIED:20260305T130943Z
UID:10000704-1784014200-1784044800@www.waa-isa.org
SUMMARY:SAVE THE DATE: July 14\, 2026 - WAA SUMMER CONFERENCE
DESCRIPTION:Location: Klipstine Park\, Ashwaubenon \n\n\n\nMore information and registration will be forthcoming!
URL:https://www.waa-isa.org/tribe-events/save-the-date-july-14-2026-waa-summer-conference/
LOCATION:Klipstine Park\,\, 900 Anderson Dr\, Ashwaubenon\, Wisconsin\, 54304\, United States
CATEGORIES:WAA Events
ATTACH;FMTTYPE=image/jpeg:https://www.waa-isa.org/wp-content/uploads/2023/04/spicebush-vib-1-scaled.jpg
END:VEVENT
BEGIN:VEVENT
DTSTART;TZID=America/Chicago:20260721T120000
DTEND;TZID=America/Chicago:20260721T130000
DTSTAMP:20260419T192945
CREATED:20260331T121207Z
LAST-MODIFIED:20260331T121209Z
UID:10000714-1784635200-1784638800@www.waa-isa.org
SUMMARY:TREE Fund Webinars
DESCRIPTION:Efficacy of Aphidoletes aphidimyza predator releases to control aphid populations on linden street trees \n\n\n\nTuesday July 21 @ 12:00pm CST \n\n\n\nThomas Whitney\, PhD will present their 2023 John Z. Duling Grant Program titled\, “Efficacy of Aphidoletes aphidimyza predator releases to control aphid populations on linden street trees” \n\n\n\nRegistration not yet open for more information visit:
URL:https://www.waa-isa.org/tribe-events/tree-fund-webinars-8/
ATTACH;FMTTYPE=image/png:https://www.waa-isa.org/wp-content/uploads/2019/12/treefund-webinar.png
END:VEVENT
BEGIN:VEVENT
DTSTART;TZID=America/Chicago:20260810T080000
DTEND;TZID=America/Chicago:20260812T170000
DTSTAMP:20260419T192945
CREATED:20251229T131303Z
LAST-MODIFIED:20251229T131725Z
UID:10000686-1786348800-1786554000@www.waa-isa.org
SUMMARY:Save the Date: August 10-12\, 2026 ISA Annual International Conference Detroit\, Michigan
DESCRIPTION:ISA 2026 Annual International Conference in Detroit\, Michigan\, US \n\n\n\nThank you to everyone who joined us in Christchurch\, New Zealand for our 2025 Annual International Conference. We look forward to seeing you all on 10-12 August 2026 in Detroit\, Michigan\, US.  \n\n\n\nThe ISA Annual International Conference offers a forum for participants to learn and network with others in the arboricultural profession. This event provides a lineup of keynote speakers and educational breakout sessions led by industry leaders from around the globe\, sharing their thoughts and views about research\, practice\, and technology.
URL:https://www.waa-isa.org/tribe-events/save-the-date-august-10-12-2026-isa-annual-international-conference-detroit-michigan/
END:VEVENT
BEGIN:VEVENT
DTSTART;TZID=America/Chicago:20260821T073000
DTEND;TZID=America/Chicago:20260821T133000
DTSTAMP:20260419T192945
CREATED:20260305T131924Z
LAST-MODIFIED:20260305T131926Z
UID:10000705-1787297400-1787319000@www.waa-isa.org
SUMMARY:SAVE THE DATE: Friday\, August 21st - 2026 Golf Outing
DESCRIPTION:The Broadlands Golf Club\, North Prairie\, WI. \n\n\n\nMore information and registration will be forthcoming!
URL:https://www.waa-isa.org/tribe-events/save-the-date-friday-august-21st-2026-golf-outing/
LOCATION:Broadlands Golf Club\, 18 Augusta Way\, North Prairie\, 53153
CATEGORIES:WAA Events
ATTACH;FMTTYPE=image/jpeg:https://www.waa-isa.org/wp-content/uploads/2022/05/golf-tee.jpg
END:VEVENT
BEGIN:VEVENT
DTSTART;TZID=America/Chicago:20260918T160000
DTEND;TZID=America/Chicago:20260920T170000
DTSTAMP:20260419T192945
CREATED:20260224T153528Z
LAST-MODIFIED:20260309T141611Z
UID:10000703-1789747200-1789923600@www.waa-isa.org
SUMMARY:Save the Date: 2026 WAA Tree Climbing Championship - September 18-20\, 2026
DESCRIPTION:Location: Legion Park\, 1212 Charles St.\, De Pere\, WI 54115 \n\n\n\nClimbers from around WI compete to see who is the best of the best. The best man and best woman climbers will be sent to compete in the ITCC. More information to come.
URL:https://www.waa-isa.org/tribe-events/save-the-date-2026-waa-tree-climbing-championship/
LOCATION:Legion Park\, 1212 Charles Street\, De Pere\, Wisconsin\, 54115
ATTACH;FMTTYPE=image/jpeg:https://www.waa-isa.org/wp-content/uploads/2023/12/ascent-event-pic-e1702486506250.jpg
END:VEVENT
BEGIN:VEVENT
DTSTART;TZID=America/Chicago:20260930T073000
DTEND;TZID=America/Chicago:20260930T160000
DTSTAMP:20260419T192945
CREATED:20260306T120529Z
LAST-MODIFIED:20260306T120531Z
UID:10000706-1790753400-1790784000@www.waa-isa.org
SUMMARY:SAVE THE DATE: September 30\, 2026 - WAA FALL SEMINAR
DESCRIPTION:Location: West Bend Insurance Company Prairie Center\, West Bend WI \n\n\n\nMore information and registration will be forthcoming!
URL:https://www.waa-isa.org/tribe-events/save-the-date-september-30-2026-waa-fall-seminar/
LOCATION:West Bend Mutual Insurance Company\, 1900 S. 18th Ave\, West Bend\, Wisconsin\, 53095\, United States
CATEGORIES:WAA Events
ATTACH;FMTTYPE=image/png:https://www.waa-isa.org/wp-content/uploads/2025/08/fall-trees-2025.png
END:VEVENT
BEGIN:VEVENT
DTSTART;TZID=America/Chicago:20261004T090000
DTEND;TZID=America/Chicago:20261004T130000
DTSTAMP:20260419T192945
CREATED:20260406T123048Z
LAST-MODIFIED:20260415T120410Z
UID:10000732-1791104400-1791118800@www.waa-isa.org
SUMMARY:WAA Kids' Climb 2026
DESCRIPTION:Racine – River Bend Nature Center – 3600 North Green Bay Road\, Racine WI 53404  \n\nThis year the Milwaukee Area Kids Climb Task force is holding 3 kids climbs.    \n \n\nPort Washington Veterans Park on Saturday\, May 2nd.  This is part of their annual park clean up event. \nFox Point Village Hall on Saturday\, June 13th.  This is part of the Village’s 100th anniversary celebration.\nRiver Bend Nature Center on Sunday Oct. 4th.  This is part of the annual Chainsaw Carving and Art Festival.\n\n \nWe are seeking volunteers to help out with these events.  Each event needs the following: \n\n\nTree climbers to help kids in the trees\nPeople on the ground belaying the kids up the trees\nA couple logistical people  to outfit helmets and saddles and sign waiver forms. \n\nPlease use this link to view times for each event and to sign up:   https://www.signupgenius.com/go/5080B45A9A72EA7FA7-63327718-2026\n\n \nWe can use all the volunteers we can get.  This is great way to get active in the WAA\, even if you are not a tree climber. \n \nAny questions: contact August Hoppe  august@hoppetreeservice.com or 414-640-8714   \n\n \n 
URL:https://www.waa-isa.org/tribe-events/waa-kids-climb-2026-3/
LOCATION:Racine- Riverbend Nature Center\, 3600 North Green Bay Road\, Racine WI 53404\, Racine\, Wisconsin\, 53404\, United States
CATEGORIES:WAA Events
ATTACH;FMTTYPE=image/jpeg:https://www.waa-isa.org/wp-content/uploads/2024/04/EG-Kids-Climb-2021-Bex-smiling1.jpg
END:VEVENT
BEGIN:VEVENT
DTSTART;TZID=America/Chicago:20261009T080000
DTEND;TZID=America/Chicago:20261011T170000
DTSTAMP:20260419T192945
CREATED:20251229T133452Z
LAST-MODIFIED:20251229T133454Z
UID:10000688-1791532800-1791738000@www.waa-isa.org
SUMMARY:2026 International Tree Climbing Championship
DESCRIPTION:The International Tree Climbing Championship (ITCC) provides a competitive but educational opportunity for working arborists around the globe to demonstrate and exchange new climbing techniques and equipment\, as well as safe work practices. The ITCC also increases the interaction between ISA chapters and Associate Organizations and members\, and provides positive public exposure for the profession in that region of the world.
URL:https://www.waa-isa.org/tribe-events/2026-international-tree-climbing-championship/
ATTACH;FMTTYPE=image/jpeg:https://www.waa-isa.org/wp-content/uploads/2025/08/ISA_ITCC_Email-Banner_600x200-7-2.jpg
END:VEVENT
BEGIN:VEVENT
DTSTART;TZID=America/Chicago:20270202T000000
DTEND;TZID=America/Chicago:20270205T235959
DTSTAMP:20260419T192945
CREATED:20250523T131927Z
LAST-MODIFIED:20250523T131929Z
UID:10000581-1801526400-1801871999@www.waa-isa.org
SUMMARY:2027 WPRA Annual Conference & Trade Show
DESCRIPTION:Save the Date! \n\n\n\n2027 Wisconsin Park and Recreation Association Annual Conference & Trade Show
URL:https://www.waa-isa.org/tribe-events/2027-wpra-annual-conference-trade-show/
LOCATION:Kalahari Resort & Convention Center\, 1305 Kalahari Dr\, Baraboo\, Wisconsin\, 53913\, United States
CATEGORIES:Green Industry Events
ATTACH;FMTTYPE=image/webp:https://www.waa-isa.org/wp-content/uploads/2025/05/logo.webp
END:VEVENT
END:VCALENDAR