BEGIN:VCALENDAR
VERSION:2.0
PRODID:-//WAA-ISA - ECPv6.15.20//NONSGML v1.0//EN
CALSCALE:GREGORIAN
METHOD:PUBLISH
X-WR-CALNAME:WAA-ISA
X-ORIGINAL-URL:https://www.waa-isa.org
X-WR-CALDESC:Events for WAA-ISA
REFRESH-INTERVAL;VALUE=DURATION:PT1H
X-Robots-Tag:noindex
X-PUBLISHED-TTL:PT1H
BEGIN:VTIMEZONE
TZID:America/Chicago
BEGIN:DAYLIGHT
TZOFFSETFROM:-0600
TZOFFSETTO:-0500
TZNAME:CDT
DTSTART:20180311T080000
END:DAYLIGHT
BEGIN:STANDARD
TZOFFSETFROM:-0500
TZOFFSETTO:-0600
TZNAME:CST
DTSTART:20181104T070000
END:STANDARD
BEGIN:DAYLIGHT
TZOFFSETFROM:-0600
TZOFFSETTO:-0500
TZNAME:CDT
DTSTART:20190310T080000
END:DAYLIGHT
BEGIN:STANDARD
TZOFFSETFROM:-0500
TZOFFSETTO:-0600
TZNAME:CST
DTSTART:20191103T070000
END:STANDARD
BEGIN:DAYLIGHT
TZOFFSETFROM:-0600
TZOFFSETTO:-0500
TZNAME:CDT
DTSTART:20200308T080000
END:DAYLIGHT
BEGIN:STANDARD
TZOFFSETFROM:-0500
TZOFFSETTO:-0600
TZNAME:CST
DTSTART:20201101T070000
END:STANDARD
END:VTIMEZONE
BEGIN:VEVENT
DTSTART;TZID=America/Chicago:20190924T183000
DTEND;TZID=America/Chicago:20190924T210000
DTSTAMP:20260422T014256
CREATED:20190814T232840Z
LAST-MODIFIED:20190925T183946Z
UID:10000022-1569349800-1569358800@www.waa-isa.org
SUMMARY:Certified Arborist Study Group - Soil\, Water and Nutrition
DESCRIPTION:10 Week Workshop\nSept. 10\, 2019 – November 12\, 2019\nTuesday evenings 6:30-9pm \nGateway Technical College\, Kenosha Campus\nPike Creek Horticulture Center\, Room T118 \nSpace is limited. Register Now to save your seat.\nEarn 2.5 CEU credits for each class. \nThe first 9 weeks\, we will be covering each of the domains associated with the Certified Arborist exam. In week-10\, we will be offering the test. Download the 2019 syllabus. \nLeading industry subject matter experts are the instructors and this study group is tailored to the working arborist. \nOur Instructors\nDenny Fermenich – City Forester\, City of Greenfield; Past president of WAA \nMatt Koepnick – City Forester\, City of Racine; WAA Secretary \nMelinda Myers – “The Plant Doctor” Nationally recognized horticulture and tree expert\, author and TV host\, past president of WAA \nDon Roppolo – Past President\, Illinois Arborist Association\, Davey Resource Group\, Manager of Arboricultural Training \nCindy Schwab – Davey Tree Expert Co\, Recruiting Coordinator for the Great Lakes Region \nMike Wendt – Retired Arboriculture/Hort. Instructor; Past WAA Tree Climbing Competition Champion
URL:https://www.waa-isa.org/tribe-events/certified-arborist-study-group-2019-09-24/
LOCATION:Gateway Technical College\, Kenosha Campus\, 3520 30th Ave\, Kenosha\, WI\, 53144\, United States
CATEGORIES:WAA Events
ATTACH;FMTTYPE=image/png:https://www.waa-isa.org/wp-content/uploads/2019/08/CASG-cover.png
END:VEVENT
BEGIN:VEVENT
DTSTART;TZID=America/Chicago:20190917T183000
DTEND;TZID=America/Chicago:20190917T210000
DTSTAMP:20260422T014256
CREATED:20190814T232840Z
LAST-MODIFIED:20201201T172437Z
UID:10000021-1568745000-1568754000@www.waa-isa.org
SUMMARY:Certified Arborist Study Group - Plant Health Care/ Diseases and Treatment
DESCRIPTION:10 Week Workshop\nSept. 10\, 2019 – November 12\, 2019\nTuesday evenings 6:30-9pm\n\nGateway Technical College\, Kenosha Campus\nPike Creek Horticulture Center\, Room T118\n\nSpace is limited. Register Now to save your seat.\nEarn 2.5 CEU credits for each class.\n\nThe first 9 weeks\, we will be covering each of the domains associated with the Certified Arborist exam. In week-10\, we will be offering the test. Download the 2019 syllabus.\n\nLeading industry subject matter experts are the instructors and this study group is tailored to the working arborist.\nOur Instructors\nDenny Fermenich – City Forester\, City of Greenfield; Past president of WAA\n\nMatt Koepnick – City Forester\, City of Racine; WAA Secretary\n\nMelinda Myers – “The Plant Doctor” Nationally recognized horticulture and tree expert\, author and TV host\, past president of WAA\n\nDon Roppolo – Past President\, Illinois Arborist Association\, Davey Resource Group\, Manager of Arboricultural Training\n\nCindy Schwab – Davey Tree Expert Co\, Recruiting Coordinator for the Great Lakes Region\n\nMike Wendt – Retired Arboriculture/Hort. Instructor; Past WAA Tree Climbing Competition Champion
URL:https://www.waa-isa.org/tribe-events/certified-arborist-study-group-2019-09-17/
LOCATION:Gateway Technical College\, Kenosha Campus\, 3520 30th Ave\, Kenosha\, WI\, 53144\, United States
CATEGORIES:WAA Events
ATTACH;FMTTYPE=image/png:https://www.waa-isa.org/wp-content/uploads/2019/08/CASG-cover.png
END:VEVENT
BEGIN:VEVENT
DTSTART;TZID=America/Chicago:20190910T183000
DTEND;TZID=America/Chicago:20190910T210000
DTSTAMP:20260422T014256
CREATED:20190814T232840Z
LAST-MODIFIED:20201201T160859Z
UID:10000020-1568140200-1568149200@www.waa-isa.org
SUMMARY:Certified Arborist Study Group - Tree Physiology and Biology
DESCRIPTION:10 Week Workshop\nSept. 10\, 2019 – November 12\, 2019\nTuesday evenings 6:30-9pm \nGateway Technical College\, Kenosha Campus\nPike Creek Horticulture Center\, Room T118 \nSpace is limited. Register Now to save your seat.\nEarn 2.5 CEU credits for each class. \nThe first 9 weeks\, we will be covering each of the domains associated with the Certified Arborist exam. In week-10\, we will be offering the test. Download the 2019 syllabus. \nLeading industry subject matter experts are the instructors and this study group is tailored to the working arborist. \nOur Instructors\nDenny Fermenich – City Forester\, City of Greenfield; Past president of WAA \nMatt Koepnick – City Forester\, City of Racine; WAA Secretary \nMelinda Myers – “The Plant Doctor” Nationally recognized horticulture and tree expert\, author and TV host\, past president of WAA \nDon Roppolo – Past President\, Illinois Arborist Association\, Davey Resource Group\, Manager of Arboricultural Training \nCindy Schwab – Davey Tree Expert Co\, Recruiting Coordinator for the Great Lakes Region \nMike Wendt – Retired Arboriculture/Hort. Instructor; Past WAA Tree Climbing Competition Champion
URL:https://www.waa-isa.org/tribe-events/certified-arborist-study-group/
LOCATION:Gateway Technical College\, Kenosha Campus\, 3520 30th Ave\, Kenosha\, WI\, 53144\, United States
CATEGORIES:WAA Events
ATTACH;FMTTYPE=image/png:https://www.waa-isa.org/wp-content/uploads/2019/08/CASG-cover.png
END:VEVENT
END:VCALENDAR