BEGIN:VCALENDAR
VERSION:2.0
PRODID:-//WAA-ISA - ECPv6.15.20//NONSGML v1.0//EN
CALSCALE:GREGORIAN
METHOD:PUBLISH
X-ORIGINAL-URL:https://www.waa-isa.org
X-WR-CALDESC:Events for WAA-ISA
REFRESH-INTERVAL;VALUE=DURATION:PT1H
X-Robots-Tag:noindex
X-PUBLISHED-TTL:PT1H
BEGIN:VTIMEZONE
TZID:America/Chicago
BEGIN:DAYLIGHT
TZOFFSETFROM:-0600
TZOFFSETTO:-0500
TZNAME:CDT
DTSTART:20250309T080000
END:DAYLIGHT
BEGIN:STANDARD
TZOFFSETFROM:-0500
TZOFFSETTO:-0600
TZNAME:CST
DTSTART:20251102T070000
END:STANDARD
BEGIN:DAYLIGHT
TZOFFSETFROM:-0600
TZOFFSETTO:-0500
TZNAME:CDT
DTSTART:20260308T080000
END:DAYLIGHT
BEGIN:STANDARD
TZOFFSETFROM:-0500
TZOFFSETTO:-0600
TZNAME:CST
DTSTART:20261101T070000
END:STANDARD
BEGIN:DAYLIGHT
TZOFFSETFROM:-0600
TZOFFSETTO:-0500
TZNAME:CDT
DTSTART:20270314T080000
END:DAYLIGHT
BEGIN:STANDARD
TZOFFSETFROM:-0500
TZOFFSETTO:-0600
TZNAME:CST
DTSTART:20271107T070000
END:STANDARD
END:VTIMEZONE
BEGIN:VEVENT
DTSTART;TZID=America/Chicago:20260502T090000
DTEND;TZID=America/Chicago:20260502T130000
DTSTAMP:20260421T162717
CREATED:20260406T122855Z
LAST-MODIFIED:20260415T120307Z
UID:10000731-1777712400-1777726800@www.waa-isa.org
SUMMARY:WAA Kids' Climb 2026
DESCRIPTION:Veterans Memorial Park\, 410 North Lake Street\, Port Washington\, WI 53074 \n \nThis year the Milwaukee Area Kids Climb Task force is holding 3 kids climbs:\n \n\nPort Washington Veterans Park on Sat May 2nd.  This is part of their annual park clean up event.\nFox Point Village Hall on Sat June 13th.  This is part of the Village’s 100th anniversary celebration. \nRiver Bend Nature Center on Sunday Oct. 4th.  This is part of the annual Chainsaw Carving and Art Festival.  \n\n \nWe are seeking volunteers to help out with these events.  Each event needs the following: \n\n\nTree climbers to help kids in the trees\nPeople on the ground belaying the kids up the trees\nA couple logistical people  to outfit helmets and saddles and sign waiver forms. \n\nPlease use this link to view times for each event and to sign up:   https://www.signupgenius.com/go/5080B45A9A72EA7FA7-63327718-2026\n\n \nWe can use all the volunteers we can get.  This is great way to get active in the WAA\, even if you are not a tree climber. \n \nAny questions: contact August Hoppe  august@hoppetreeservice.com or 414-640-8714   \n \n 
URL:https://www.waa-isa.org/tribe-events/waa-kids-climb-2026/
LOCATION:Veteran’s Memorial Park\, 410 N. Lake St.\, Port Washington\, Wisconsin\, 53074
CATEGORIES:WAA Events
ATTACH;FMTTYPE=image/webp:https://www.waa-isa.org/wp-content/uploads/2025/09/IMG_6597_1692219481.webp
END:VEVENT
BEGIN:VEVENT
DTSTART;TZID=America/Chicago:20260509T080000
DTEND;TZID=America/Chicago:20260509T160000
DTSTAMP:20260421T162717
CREATED:20260415T183849Z
LAST-MODIFIED:20260415T183855Z
UID:10000735-1778313600-1778342400@www.waa-isa.org
SUMMARY:2026 WAA Day of Service
DESCRIPTION:VOLUNTEERS NEEDED! Click here for sign-up genius \n\n\n\nWe are hosting the first 2026 Day of Service at the WI Lion’s Camp. The site address is 3834 County Rd A\, Rosholt\, WI 54473. The event is scheduled for Saturday\, May 9th. \n\n\n\nThe Lion’s Camp in Rosholt\, WI is a 440 acre property that includes a 45 acre private lake to provide quality camp experiences for Wisconsin youth and adults with disabilities at no charge. The Wisconsin Arborist Association had a successful work day in April of 2017 but since then there have been some severe weather events on the grounds that caused damage. The camp is in need of various forms of tree care ranging from pruning to removals. Some of the work needed is over the camp cabins and recreation center as well as removing hazards from the site. It would be beneficial to have bucket trucks and chippers. The larger wood can be used at the camp fire pit and chips can be used on the trails so debris will not need to be hauled off site. \n\n\n\nOur work day will start at 8am. All volunteers bringing heavy equipment such as bucket trucks\, chip trucks\, and lifts\, please bring proper cones and signage to set up a safe work area. We plan to begin work around the main cabins and buildings before moving to the golf area to remove dead ash and other trees. This scope is dependent on the final number of participants.Lunch and refreshments will be provided by the Lion’s Camp. Students from a number of urban forestry programs will be doing some work the Friday before\, and some will be in attendance on Saturday.  This will be a great opportunity to mentor\, teach and advertise to the new generation of arborists! \n\n\n\nSafety: Personal Protective Equipment (PPE) is required for everyone entering the work zones\, including camp staff.Please contact Tina Johnson with any questions.  If you plan on attending\, please use the signup genius to let us know how many people are attending and what kind of equipment you can volunteer for the day by May 5th so we can plan accordingly.
URL:https://www.waa-isa.org/tribe-events/2026-waa-day-of-service/
LOCATION:Wisconsin Lion’s Camp\, 3834 County Rd A\, Rosholt\, Wisconsin\, 54473
CATEGORIES:WAA Events
ATTACH;FMTTYPE=image/jpeg:https://www.waa-isa.org/wp-content/uploads/2020/02/Lift-Operator-in-Tree-Canopy_Extended.jpg
END:VEVENT
BEGIN:VEVENT
DTSTART;TZID=America/Chicago:20260516T100000
DTEND;TZID=America/Chicago:20260516T150000
DTSTAMP:20260421T162717
CREATED:20260414T131424Z
LAST-MODIFIED:20260415T115631Z
UID:10000734-1778925600-1778943600@www.waa-isa.org
SUMMARY:WAA Kids' Climb
DESCRIPTION:Kiwanis Youth Outdoors Day at Kiwanis Lodge on Lake Wazeecha – 3221 80th St S\, Wisconsin Rapids\, WI 54494 \nBring your family\, children and neighbors for this Kids’ Climb event! \nVOLUNTEERS NEEDED\n \nTo make these events successful we need help. \n \n We are looking for volunteers to help. There are many ways to get involved such as collecting waiver forms\, fitting saddles and helmets on kids\, belaying climbers or being an arborist in the tree. We have some new hardware and gear to use this year! We’d love to have a great showing of WAA volunteers to help support our mission. \n \nTo volunteer or questions please contact Luke Haas:  lukehaas13@gmail.com\n \n 
URL:https://www.waa-isa.org/tribe-events/waa-kids-climb-14/
CATEGORIES:WAA Events
ATTACH;FMTTYPE=image/webp:https://www.waa-isa.org/wp-content/uploads/2025/09/IMG_6597_1692219481.webp
END:VEVENT
END:VCALENDAR