BEGIN:VCALENDAR
VERSION:2.0
PRODID:-//WAA-ISA - ECPv6.15.20//NONSGML v1.0//EN
CALSCALE:GREGORIAN
METHOD:PUBLISH
X-WR-CALNAME:WAA-ISA
X-ORIGINAL-URL:https://www.waa-isa.org
X-WR-CALDESC:Events for WAA-ISA
REFRESH-INTERVAL;VALUE=DURATION:PT1H
X-Robots-Tag:noindex
X-PUBLISHED-TTL:PT1H
BEGIN:VTIMEZONE
TZID:America/Chicago
BEGIN:DAYLIGHT
TZOFFSETFROM:-0600
TZOFFSETTO:-0500
TZNAME:CDT
DTSTART:20240310T080000
END:DAYLIGHT
BEGIN:STANDARD
TZOFFSETFROM:-0500
TZOFFSETTO:-0600
TZNAME:CST
DTSTART:20241103T070000
END:STANDARD
BEGIN:DAYLIGHT
TZOFFSETFROM:-0600
TZOFFSETTO:-0500
TZNAME:CDT
DTSTART:20250309T080000
END:DAYLIGHT
BEGIN:STANDARD
TZOFFSETFROM:-0500
TZOFFSETTO:-0600
TZNAME:CST
DTSTART:20251102T070000
END:STANDARD
BEGIN:DAYLIGHT
TZOFFSETFROM:-0600
TZOFFSETTO:-0500
TZNAME:CDT
DTSTART:20260308T080000
END:DAYLIGHT
BEGIN:STANDARD
TZOFFSETFROM:-0500
TZOFFSETTO:-0600
TZNAME:CST
DTSTART:20261101T070000
END:STANDARD
END:VTIMEZONE
BEGIN:VEVENT
DTSTART;TZID=America/Chicago:20250810T000000
DTEND;TZID=America/Chicago:20250810T235959
DTSTAMP:20260421T124935
CREATED:20250627T112540Z
LAST-MODIFIED:20250717T154522Z
UID:10000585-1754784000-1754870399@www.waa-isa.org
SUMMARY:WAA 3rd Annual Youth T-Shirt Design Contest
DESCRIPTION:We are pleased to announce the third year of our Youth T-shirt contest!  We hope all our members will encourage a child between the ages of 8 and 14 years old to submit a drawing.  \n\n\n\nOur 2025 theme will be “Trees in Song” \n\n\n\nHere are the rules: \n\n\n\n\n A child (or children) must simply be sponsored by a WAA member (there is no cost\, but you must be a current member).  The WAA member is responsible for submitting a scan of the drawing (Please keep the original!) to the Editorial Chair at briana@treehealthmgmt.com.\n\n\n\nAn E-Blast will be sent in early July when the contest will be live and announced on our website.\n\n\n\nThe drawing must be in black and white and must be submitted by August 10th\, 2025 by 5:00pm.\n\n\n\nOnly one drawing per child will be accepted.\n\n\n\nA panel of judges will meet on August 14th to select three finalists. The winning design will be voted on by current WAA members. All children’s names will be kept anonymous until a winner has been selected.\n\n\n\nThe winner will need to submit the original drawing via US Post or submit a high-quality digital scan (instructions will be provided).  The drawing will be the new apparel design for WAA clothing in 2026.  Apparel will be available for purchase to membership\, and our winner will receive a choice of a free WAA T-shirt or sweatshirt.\n\n\n\nAll participants will have their drawing showcased in a digital format on the WAA website.\n\n\n\nQuestions? Contact Tina at admin@waa-isa.org.\n\n\n\n\nTips and Tricks: \n\n\n\n\nA simple line drawing (vs any type of shading) makes for the best screen print on apparel.\n\n\n\nThicker\, solid lines also work best for printing (BOLD YOUR LINES).\n\n\n\nOur printer will work with the winning artist to refine areas for printing.\n\n\n\nPlease do include the theme “Trees in Song 2025” in the drawing.\n\n\n\nPlease do not sign the drawing.\n\n\n\nArtists are encouraged\, but not required\, to include a paragraph describing their work and what it means to them in the submission email.
URL:https://www.waa-isa.org/tribe-events/waa-3rd-annual-youth-t-shirt-design-contest/
CATEGORIES:WAA Events
ATTACH;FMTTYPE=image/jpeg:https://www.waa-isa.org/wp-content/uploads/2023/07/tshirt-contest-pic.jpg
END:VEVENT
BEGIN:VEVENT
DTSTART;TZID=America/Chicago:20250815T070000
DTEND;TZID=America/Chicago:20250815T140000
DTSTAMP:20260421T124935
CREATED:20250707T202632Z
LAST-MODIFIED:20250806T135735Z
UID:10000588-1755241200-1755266400@www.waa-isa.org
SUMMARY:WAA 5th Annual Golf Outing
DESCRIPTION:Donations made by: Goodmark Nurseries. THANK YOU VERY MUCH! \n\n\n\nNEW THIS YEAR! \n\n\n\n\nWe are working with a new vendor called GOLF STATUS to help run our golf outing.\n\n\n\nRegistration\, sponsorships\, raffle tickets and wristbands can be purchased at this link.\n\n\n\nRaffle tickets and wristbands can be purchased on site also.\n\n\n\n\nWhere: \n\n\n\n\nBroadlands Golf Club (18 Augusta Way\, North Prairie\, WI 53153)\n\n\n\n\nWhen: \n\n\n\n\nFriday\, August 15th\n\n\n\nShotgun Start: 8 am \n\n\n\nCheck In Begins at 7 am\n\n\n\n\nGolf Outing Package – $540/foursome includes (individuals welcome at $135 each): \n\n\n\n\n18 Holes\n\n\n\nFoursome Greens Fees & Cart\n\n\n\nMeals (Breakfast and Lunch) \n\n\n\n2 drink tickets per golfer\n\n\n\nSwag Bags\n\n\n\n\nSponsorships (sponsorship forms available here to pay by check) \n\n\n\n\nNEW SPONSORSHIPS AVAILABLE THIS YEAR! See GOLF STATUS website for details/ to pay by credit card.\n\nEvent Sponsor – $1200\n\n\n\nHole-in-One Sponsor – $1000\n\n\n\nFlag Sponsor – $1000\n\n\n\n\n\nHole Event Sponsors (Hole event sponsor also gets hole sponsorship)\n\n$250/hole event (6 4 available)\n\nClosest to the pin (par 3) (2 available on separate holes) – 2 SOLD\n\n\n\nLong Drive Men \n\n\n\nLong Drive Women\n\n\n\nClosest to the pin in 2\n\n\n\nLong putt\n\n\n\n\n\n$25 for all hole events – Prizes will be given out!\n\n\n\n\n\nHole Sponsors – $200/hole (12 11 available) – 1 SOLD\n\n\n\nMeal Sponsor -$500 (2 1 available)- 1 SOLD\n\n\n\nBeer Cart Sponsor -$500 (2  1 available) – 1 SOLD\n\n\n\n\nRaffle Ticket Sales – proceeds go towards Student Scholarships \n\n\n\nRegistration Deadline for Teams – August 7\, 2025 \n\n\n\nRegistration Deadline for Sponsorships – July 28\, 2025 \n\n\n\nRaffle Prizes and Donations are Still Needed!  We will accept these up until the event. \n\n\n\nREAD REGISTRATION DISCLAIMER CAREFULLY BEFORE REGISTERING\n\n\n\nThere will be no refunds for cancellations made within 14 days of the event\, although substitutions may be permitted.  Refunds will only be considered in emergency situations at the Wisconsin Arborist Association’s discretion.  Refunds will not be provided for registrants who do not attend the event. \n\n\n\nNotice of cancellation and/or substitutions must be made via email to Tina Johnson or by calling Tina Johnson at 262-899-0060.  A cancellation acknowledgement will be sent within 3 working days and fees refunded within 10 working days\, subject to this Return Policy.  We do not issue refunds once the event has occurred.
URL:https://www.waa-isa.org/tribe-events/waa-5th-annual-golf-outing/
LOCATION:Broadlands Golf Club\, 18 Augusta Way\, North Prairie\, 53153
CATEGORIES:WAA Events
ATTACH;FMTTYPE=image/jpeg:https://www.waa-isa.org/wp-content/uploads/2021/05/golf-tee.jpg
END:VEVENT
END:VCALENDAR