BEGIN:VCALENDAR
VERSION:2.0
PRODID:-//WAA-ISA - ECPv6.15.20//NONSGML v1.0//EN
CALSCALE:GREGORIAN
METHOD:PUBLISH
X-WR-CALNAME:WAA-ISA
X-ORIGINAL-URL:https://www.waa-isa.org
X-WR-CALDESC:Events for WAA-ISA
REFRESH-INTERVAL;VALUE=DURATION:PT1H
X-Robots-Tag:noindex
X-PUBLISHED-TTL:PT1H
BEGIN:VTIMEZONE
TZID:America/Chicago
BEGIN:DAYLIGHT
TZOFFSETFROM:-0600
TZOFFSETTO:-0500
TZNAME:CDT
DTSTART:20240310T080000
END:DAYLIGHT
BEGIN:STANDARD
TZOFFSETFROM:-0500
TZOFFSETTO:-0600
TZNAME:CST
DTSTART:20241103T070000
END:STANDARD
BEGIN:DAYLIGHT
TZOFFSETFROM:-0600
TZOFFSETTO:-0500
TZNAME:CDT
DTSTART:20250309T080000
END:DAYLIGHT
BEGIN:STANDARD
TZOFFSETFROM:-0500
TZOFFSETTO:-0600
TZNAME:CST
DTSTART:20251102T070000
END:STANDARD
BEGIN:DAYLIGHT
TZOFFSETFROM:-0600
TZOFFSETTO:-0500
TZNAME:CDT
DTSTART:20260308T080000
END:DAYLIGHT
BEGIN:STANDARD
TZOFFSETFROM:-0500
TZOFFSETTO:-0600
TZNAME:CST
DTSTART:20261101T070000
END:STANDARD
END:VTIMEZONE
BEGIN:VEVENT
DTSTART;TZID=America/Chicago:20250116T183000
DTEND;TZID=America/Chicago:20250116T210000
DTSTAMP:20260422T134949
CREATED:20241218T190136Z
LAST-MODIFIED:20241223T154030Z
UID:10000551-1737052200-1737061200@www.waa-isa.org
SUMMARY:2025 Virtual Certified Arborist Study Group
DESCRIPTION:5 Week Workshop – Tuesday and Thursday evenings starting January 16 – February 13\, 2025. Every Tuesday and Thursday will be 6:30pm – 9:00pm. Over the 5 weeks (9 sessions)\, we will be covering each of the domains associated with the certified arborist exam. The following week (Monday\, February 17th)\, we will be offering a certified arborist exam in conjunction with the Annual Conference in Green Bay\, WI. The cost of the exam is separate and paid directly to ISA. Information will be forthcoming on the exam. The exam will be available for everyone\, not just class participants. So if you want to take the exam\, it is best to start the application process early. The cost of the annual conference is a separate fee as well\, if you wish to attend. Information will be forthcoming on the WAA website. \n\n\n\nThis is an VIRTUAL course.  You are welcome to register for the full course.  You can also choose to attend individual sessions.  2.5 CEU credits are available per session. \n\n\n\nLeading industry subject matter experts are the instructors and this study group is tailored to the working arborist. \n\n\n\n\n\n\n\nLocation\n\n\n\nVirtual Zoom Meeting – Meeting invites will be sent out closer to the start of the course. \n\n\n\n\n\n\n\nCourse Syllabus\n\n\n\nDate                                  Instructor                              Class Domain \n\n\n\nThurs.\, January 16th\, 2025Jake KubisiakTree Physiology and BiologyTues.\, January 21st\, 2025Glen Stanosz  Plant Health Care/Diseases and TreatmentThurs.\, January 23rd\, 2025Aaron SchauerSoil\, Water and NutritionTues.\, January 28th\, 2025Mike WendtClimbing and SafetyThurs.\, January 30th\, 2025Nathan SchuettpelzRisk ManagementTues.\, February 4th\, 2025Denny Fermenich  Tree Establishment and PruningThurs.\, February 6th\, 2025Don RoppoloTree Support and ProtectionTues.\, February 11th\, 2025Denny FermenichTree ID and SelectionThurs.\, February 13th\, 2025Ian BrownTrees and Construction /Urban ForestryMon.\, February 17th\, 2025Franklin SeilheimerCertification Exam (NOT INCLUDED IN PRICING)\n\n\n\nOur instructors:\n\n\n\nJake Kubisiak– Consulting Arborist\, Wachtel Tree Science\, ISA Board Certified Master Arborist \n\n\n\nDr. Glen Stanosz– Emeritus Professor of Tree and Forest Health at UW-Madison\, and is an ISA Certified Arborist with the Tree Risk Assessment Qualification \n\n\n\nAaron Schauer– Program Director and Instructor of Arboriculture/Urban Forestry at Gateway Technical College \n\n\n\nMike Wendt- Retired Arboriculture/Hort. Instructor; Past WAA Tree Climbing Competition Champion \n\n\n\nNathan Schuettpelz– Consulting Department Manager\, Wachtel Tree Science \n\n\n\nDenny Fermenich– City Forester\, City of Greenfield; Past president of WAA \n\n\n\nDon Roppolo– Past President\, Illinois Arborist Association; Davey Institute\, Director of Arboricultural Training \n\n\n\nIan Brown– City Forester\, City of Madison \n\n\n\nFranklin Seilheimer– Urban Forestry District Manager\, City of Milwaukee\, DPW-Forestry \n\n\n\n\n\n\n\nCost:\n\n\n\n$225 – WAA Member – Full Course (the person attending the course must be a WAA member to receive this pricing!) \n\n\n\n$270 – Non-Member – Full Course (Includes one year membership) \n\n\n\n$35 – Single Session \n\n\n\n$90 – Study Guide (Recommended) \n\n\n\n$15 – ANSI Standards (Recommended) \n\n\n\nEXAM IS SEPARATE! \n\n\n\n\n\n\n\nCancellation and Refund Policy\n\n\n\n\nRefunds will be made if requested on or before January 13\, 2025 with a $25 processing fee.\n\n\n\nThere will be no refunds for cancellations made after January 13th\, although substitutions may be permitted prior to January 16th.  Refunds will only be considered in emergency situations at the Wisconsin Arborist Association’s discretion.  Refunds will not be provided for registrants who do not attend the event.\n\n\n\nNotice of cancellation and/or substitutions must be made by contacting Tina Johnson through the Contact Us page on our website or by calling Tina Johnson at 262-899-0060.  A cancellation acknowledgement will be sent within 3 working days and fees refunded within 10 working days\, subject to this Return Policy.  We do not issue refunds once the event has occurred/started.\n\n\n\n\n\n\n\n\nQuestions or Need Help Registering?\n\n\n\n\nContact Tina Johnson through the Contact Us page on our website.
URL:https://www.waa-isa.org/tribe-events/2025-virtual-certified-arborist-study-group/2025-01-16/
CATEGORIES:WAA Events
ATTACH;FMTTYPE=image/png:https://www.waa-isa.org/wp-content/uploads/2019/07/waa-logo-gradient-3.png
END:VEVENT
BEGIN:VEVENT
DTSTART;TZID=America/Chicago:20250121T183000
DTEND;TZID=America/Chicago:20250121T210000
DTSTAMP:20260422T134949
CREATED:20241218T190136Z
LAST-MODIFIED:20241223T154030Z
UID:10000552-1737484200-1737493200@www.waa-isa.org
SUMMARY:2025 Virtual Certified Arborist Study Group
DESCRIPTION:5 Week Workshop – Tuesday and Thursday evenings starting January 16 – February 13\, 2025. Every Tuesday and Thursday will be 6:30pm – 9:00pm. Over the 5 weeks (9 sessions)\, we will be covering each of the domains associated with the certified arborist exam. The following week (Monday\, February 17th)\, we will be offering a certified arborist exam in conjunction with the Annual Conference in Green Bay\, WI. The cost of the exam is separate and paid directly to ISA. Information will be forthcoming on the exam. The exam will be available for everyone\, not just class participants. So if you want to take the exam\, it is best to start the application process early. The cost of the annual conference is a separate fee as well\, if you wish to attend. Information will be forthcoming on the WAA website. \n\n\n\nThis is an VIRTUAL course.  You are welcome to register for the full course.  You can also choose to attend individual sessions.  2.5 CEU credits are available per session. \n\n\n\nLeading industry subject matter experts are the instructors and this study group is tailored to the working arborist. \n\n\n\n\n\n\n\nLocation\n\n\n\nVirtual Zoom Meeting – Meeting invites will be sent out closer to the start of the course. \n\n\n\n\n\n\n\nCourse Syllabus\n\n\n\nDate                                  Instructor                              Class Domain \n\n\n\nThurs.\, January 16th\, 2025Jake KubisiakTree Physiology and BiologyTues.\, January 21st\, 2025Glen Stanosz  Plant Health Care/Diseases and TreatmentThurs.\, January 23rd\, 2025Aaron SchauerSoil\, Water and NutritionTues.\, January 28th\, 2025Mike WendtClimbing and SafetyThurs.\, January 30th\, 2025Nathan SchuettpelzRisk ManagementTues.\, February 4th\, 2025Denny Fermenich  Tree Establishment and PruningThurs.\, February 6th\, 2025Don RoppoloTree Support and ProtectionTues.\, February 11th\, 2025Denny FermenichTree ID and SelectionThurs.\, February 13th\, 2025Ian BrownTrees and Construction /Urban ForestryMon.\, February 17th\, 2025Franklin SeilheimerCertification Exam (NOT INCLUDED IN PRICING)\n\n\n\nOur instructors:\n\n\n\nJake Kubisiak– Consulting Arborist\, Wachtel Tree Science\, ISA Board Certified Master Arborist \n\n\n\nDr. Glen Stanosz– Emeritus Professor of Tree and Forest Health at UW-Madison\, and is an ISA Certified Arborist with the Tree Risk Assessment Qualification \n\n\n\nAaron Schauer– Program Director and Instructor of Arboriculture/Urban Forestry at Gateway Technical College \n\n\n\nMike Wendt- Retired Arboriculture/Hort. Instructor; Past WAA Tree Climbing Competition Champion \n\n\n\nNathan Schuettpelz– Consulting Department Manager\, Wachtel Tree Science \n\n\n\nDenny Fermenich– City Forester\, City of Greenfield; Past president of WAA \n\n\n\nDon Roppolo– Past President\, Illinois Arborist Association; Davey Institute\, Director of Arboricultural Training \n\n\n\nIan Brown– City Forester\, City of Madison \n\n\n\nFranklin Seilheimer– Urban Forestry District Manager\, City of Milwaukee\, DPW-Forestry \n\n\n\n\n\n\n\nCost:\n\n\n\n$225 – WAA Member – Full Course (the person attending the course must be a WAA member to receive this pricing!) \n\n\n\n$270 – Non-Member – Full Course (Includes one year membership) \n\n\n\n$35 – Single Session \n\n\n\n$90 – Study Guide (Recommended) \n\n\n\n$15 – ANSI Standards (Recommended) \n\n\n\nEXAM IS SEPARATE! \n\n\n\n\n\n\n\nCancellation and Refund Policy\n\n\n\n\nRefunds will be made if requested on or before January 13\, 2025 with a $25 processing fee.\n\n\n\nThere will be no refunds for cancellations made after January 13th\, although substitutions may be permitted prior to January 16th.  Refunds will only be considered in emergency situations at the Wisconsin Arborist Association’s discretion.  Refunds will not be provided for registrants who do not attend the event.\n\n\n\nNotice of cancellation and/or substitutions must be made by contacting Tina Johnson through the Contact Us page on our website or by calling Tina Johnson at 262-899-0060.  A cancellation acknowledgement will be sent within 3 working days and fees refunded within 10 working days\, subject to this Return Policy.  We do not issue refunds once the event has occurred/started.\n\n\n\n\n\n\n\n\nQuestions or Need Help Registering?\n\n\n\n\nContact Tina Johnson through the Contact Us page on our website.
URL:https://www.waa-isa.org/tribe-events/2025-virtual-certified-arborist-study-group/2025-01-21/
CATEGORIES:WAA Events
ATTACH;FMTTYPE=image/png:https://www.waa-isa.org/wp-content/uploads/2019/07/waa-logo-gradient-3.png
END:VEVENT
BEGIN:VEVENT
DTSTART;TZID=America/Chicago:20250123T183000
DTEND;TZID=America/Chicago:20250123T210000
DTSTAMP:20260422T134949
CREATED:20241218T190136Z
LAST-MODIFIED:20241223T154030Z
UID:10000553-1737657000-1737666000@www.waa-isa.org
SUMMARY:2025 Virtual Certified Arborist Study Group
DESCRIPTION:5 Week Workshop – Tuesday and Thursday evenings starting January 16 – February 13\, 2025. Every Tuesday and Thursday will be 6:30pm – 9:00pm. Over the 5 weeks (9 sessions)\, we will be covering each of the domains associated with the certified arborist exam. The following week (Monday\, February 17th)\, we will be offering a certified arborist exam in conjunction with the Annual Conference in Green Bay\, WI. The cost of the exam is separate and paid directly to ISA. Information will be forthcoming on the exam. The exam will be available for everyone\, not just class participants. So if you want to take the exam\, it is best to start the application process early. The cost of the annual conference is a separate fee as well\, if you wish to attend. Information will be forthcoming on the WAA website. \n\n\n\nThis is an VIRTUAL course.  You are welcome to register for the full course.  You can also choose to attend individual sessions.  2.5 CEU credits are available per session. \n\n\n\nLeading industry subject matter experts are the instructors and this study group is tailored to the working arborist. \n\n\n\n\n\n\n\nLocation\n\n\n\nVirtual Zoom Meeting – Meeting invites will be sent out closer to the start of the course. \n\n\n\n\n\n\n\nCourse Syllabus\n\n\n\nDate                                  Instructor                              Class Domain \n\n\n\nThurs.\, January 16th\, 2025Jake KubisiakTree Physiology and BiologyTues.\, January 21st\, 2025Glen Stanosz  Plant Health Care/Diseases and TreatmentThurs.\, January 23rd\, 2025Aaron SchauerSoil\, Water and NutritionTues.\, January 28th\, 2025Mike WendtClimbing and SafetyThurs.\, January 30th\, 2025Nathan SchuettpelzRisk ManagementTues.\, February 4th\, 2025Denny Fermenich  Tree Establishment and PruningThurs.\, February 6th\, 2025Don RoppoloTree Support and ProtectionTues.\, February 11th\, 2025Denny FermenichTree ID and SelectionThurs.\, February 13th\, 2025Ian BrownTrees and Construction /Urban ForestryMon.\, February 17th\, 2025Franklin SeilheimerCertification Exam (NOT INCLUDED IN PRICING)\n\n\n\nOur instructors:\n\n\n\nJake Kubisiak– Consulting Arborist\, Wachtel Tree Science\, ISA Board Certified Master Arborist \n\n\n\nDr. Glen Stanosz– Emeritus Professor of Tree and Forest Health at UW-Madison\, and is an ISA Certified Arborist with the Tree Risk Assessment Qualification \n\n\n\nAaron Schauer– Program Director and Instructor of Arboriculture/Urban Forestry at Gateway Technical College \n\n\n\nMike Wendt- Retired Arboriculture/Hort. Instructor; Past WAA Tree Climbing Competition Champion \n\n\n\nNathan Schuettpelz– Consulting Department Manager\, Wachtel Tree Science \n\n\n\nDenny Fermenich– City Forester\, City of Greenfield; Past president of WAA \n\n\n\nDon Roppolo– Past President\, Illinois Arborist Association; Davey Institute\, Director of Arboricultural Training \n\n\n\nIan Brown– City Forester\, City of Madison \n\n\n\nFranklin Seilheimer– Urban Forestry District Manager\, City of Milwaukee\, DPW-Forestry \n\n\n\n\n\n\n\nCost:\n\n\n\n$225 – WAA Member – Full Course (the person attending the course must be a WAA member to receive this pricing!) \n\n\n\n$270 – Non-Member – Full Course (Includes one year membership) \n\n\n\n$35 – Single Session \n\n\n\n$90 – Study Guide (Recommended) \n\n\n\n$15 – ANSI Standards (Recommended) \n\n\n\nEXAM IS SEPARATE! \n\n\n\n\n\n\n\nCancellation and Refund Policy\n\n\n\n\nRefunds will be made if requested on or before January 13\, 2025 with a $25 processing fee.\n\n\n\nThere will be no refunds for cancellations made after January 13th\, although substitutions may be permitted prior to January 16th.  Refunds will only be considered in emergency situations at the Wisconsin Arborist Association’s discretion.  Refunds will not be provided for registrants who do not attend the event.\n\n\n\nNotice of cancellation and/or substitutions must be made by contacting Tina Johnson through the Contact Us page on our website or by calling Tina Johnson at 262-899-0060.  A cancellation acknowledgement will be sent within 3 working days and fees refunded within 10 working days\, subject to this Return Policy.  We do not issue refunds once the event has occurred/started.\n\n\n\n\n\n\n\n\nQuestions or Need Help Registering?\n\n\n\n\nContact Tina Johnson through the Contact Us page on our website.
URL:https://www.waa-isa.org/tribe-events/2025-virtual-certified-arborist-study-group/2025-01-23/
CATEGORIES:WAA Events
ATTACH;FMTTYPE=image/png:https://www.waa-isa.org/wp-content/uploads/2019/07/waa-logo-gradient-3.png
END:VEVENT
BEGIN:VEVENT
DTSTART;TZID=America/Chicago:20250128T183000
DTEND;TZID=America/Chicago:20250128T210000
DTSTAMP:20260422T134949
CREATED:20241218T190136Z
LAST-MODIFIED:20241223T154030Z
UID:10000554-1738089000-1738098000@www.waa-isa.org
SUMMARY:2025 Virtual Certified Arborist Study Group
DESCRIPTION:5 Week Workshop – Tuesday and Thursday evenings starting January 16 – February 13\, 2025. Every Tuesday and Thursday will be 6:30pm – 9:00pm. Over the 5 weeks (9 sessions)\, we will be covering each of the domains associated with the certified arborist exam. The following week (Monday\, February 17th)\, we will be offering a certified arborist exam in conjunction with the Annual Conference in Green Bay\, WI. The cost of the exam is separate and paid directly to ISA. Information will be forthcoming on the exam. The exam will be available for everyone\, not just class participants. So if you want to take the exam\, it is best to start the application process early. The cost of the annual conference is a separate fee as well\, if you wish to attend. Information will be forthcoming on the WAA website. \n\n\n\nThis is an VIRTUAL course.  You are welcome to register for the full course.  You can also choose to attend individual sessions.  2.5 CEU credits are available per session. \n\n\n\nLeading industry subject matter experts are the instructors and this study group is tailored to the working arborist. \n\n\n\n\n\n\n\nLocation\n\n\n\nVirtual Zoom Meeting – Meeting invites will be sent out closer to the start of the course. \n\n\n\n\n\n\n\nCourse Syllabus\n\n\n\nDate                                  Instructor                              Class Domain \n\n\n\nThurs.\, January 16th\, 2025Jake KubisiakTree Physiology and BiologyTues.\, January 21st\, 2025Glen Stanosz  Plant Health Care/Diseases and TreatmentThurs.\, January 23rd\, 2025Aaron SchauerSoil\, Water and NutritionTues.\, January 28th\, 2025Mike WendtClimbing and SafetyThurs.\, January 30th\, 2025Nathan SchuettpelzRisk ManagementTues.\, February 4th\, 2025Denny Fermenich  Tree Establishment and PruningThurs.\, February 6th\, 2025Don RoppoloTree Support and ProtectionTues.\, February 11th\, 2025Denny FermenichTree ID and SelectionThurs.\, February 13th\, 2025Ian BrownTrees and Construction /Urban ForestryMon.\, February 17th\, 2025Franklin SeilheimerCertification Exam (NOT INCLUDED IN PRICING)\n\n\n\nOur instructors:\n\n\n\nJake Kubisiak– Consulting Arborist\, Wachtel Tree Science\, ISA Board Certified Master Arborist \n\n\n\nDr. Glen Stanosz– Emeritus Professor of Tree and Forest Health at UW-Madison\, and is an ISA Certified Arborist with the Tree Risk Assessment Qualification \n\n\n\nAaron Schauer– Program Director and Instructor of Arboriculture/Urban Forestry at Gateway Technical College \n\n\n\nMike Wendt- Retired Arboriculture/Hort. Instructor; Past WAA Tree Climbing Competition Champion \n\n\n\nNathan Schuettpelz– Consulting Department Manager\, Wachtel Tree Science \n\n\n\nDenny Fermenich– City Forester\, City of Greenfield; Past president of WAA \n\n\n\nDon Roppolo– Past President\, Illinois Arborist Association; Davey Institute\, Director of Arboricultural Training \n\n\n\nIan Brown– City Forester\, City of Madison \n\n\n\nFranklin Seilheimer– Urban Forestry District Manager\, City of Milwaukee\, DPW-Forestry \n\n\n\n\n\n\n\nCost:\n\n\n\n$225 – WAA Member – Full Course (the person attending the course must be a WAA member to receive this pricing!) \n\n\n\n$270 – Non-Member – Full Course (Includes one year membership) \n\n\n\n$35 – Single Session \n\n\n\n$90 – Study Guide (Recommended) \n\n\n\n$15 – ANSI Standards (Recommended) \n\n\n\nEXAM IS SEPARATE! \n\n\n\n\n\n\n\nCancellation and Refund Policy\n\n\n\n\nRefunds will be made if requested on or before January 13\, 2025 with a $25 processing fee.\n\n\n\nThere will be no refunds for cancellations made after January 13th\, although substitutions may be permitted prior to January 16th.  Refunds will only be considered in emergency situations at the Wisconsin Arborist Association’s discretion.  Refunds will not be provided for registrants who do not attend the event.\n\n\n\nNotice of cancellation and/or substitutions must be made by contacting Tina Johnson through the Contact Us page on our website or by calling Tina Johnson at 262-899-0060.  A cancellation acknowledgement will be sent within 3 working days and fees refunded within 10 working days\, subject to this Return Policy.  We do not issue refunds once the event has occurred/started.\n\n\n\n\n\n\n\n\nQuestions or Need Help Registering?\n\n\n\n\nContact Tina Johnson through the Contact Us page on our website.
URL:https://www.waa-isa.org/tribe-events/2025-virtual-certified-arborist-study-group/2025-01-28/
CATEGORIES:WAA Events
ATTACH;FMTTYPE=image/png:https://www.waa-isa.org/wp-content/uploads/2019/07/waa-logo-gradient-3.png
END:VEVENT
BEGIN:VEVENT
DTSTART;TZID=America/Chicago:20250130T183000
DTEND;TZID=America/Chicago:20250130T210000
DTSTAMP:20260422T134949
CREATED:20241218T190136Z
LAST-MODIFIED:20241223T154030Z
UID:10000555-1738261800-1738270800@www.waa-isa.org
SUMMARY:2025 Virtual Certified Arborist Study Group
DESCRIPTION:5 Week Workshop – Tuesday and Thursday evenings starting January 16 – February 13\, 2025. Every Tuesday and Thursday will be 6:30pm – 9:00pm. Over the 5 weeks (9 sessions)\, we will be covering each of the domains associated with the certified arborist exam. The following week (Monday\, February 17th)\, we will be offering a certified arborist exam in conjunction with the Annual Conference in Green Bay\, WI. The cost of the exam is separate and paid directly to ISA. Information will be forthcoming on the exam. The exam will be available for everyone\, not just class participants. So if you want to take the exam\, it is best to start the application process early. The cost of the annual conference is a separate fee as well\, if you wish to attend. Information will be forthcoming on the WAA website. \n\n\n\nThis is an VIRTUAL course.  You are welcome to register for the full course.  You can also choose to attend individual sessions.  2.5 CEU credits are available per session. \n\n\n\nLeading industry subject matter experts are the instructors and this study group is tailored to the working arborist. \n\n\n\n\n\n\n\nLocation\n\n\n\nVirtual Zoom Meeting – Meeting invites will be sent out closer to the start of the course. \n\n\n\n\n\n\n\nCourse Syllabus\n\n\n\nDate                                  Instructor                              Class Domain \n\n\n\nThurs.\, January 16th\, 2025Jake KubisiakTree Physiology and BiologyTues.\, January 21st\, 2025Glen Stanosz  Plant Health Care/Diseases and TreatmentThurs.\, January 23rd\, 2025Aaron SchauerSoil\, Water and NutritionTues.\, January 28th\, 2025Mike WendtClimbing and SafetyThurs.\, January 30th\, 2025Nathan SchuettpelzRisk ManagementTues.\, February 4th\, 2025Denny Fermenich  Tree Establishment and PruningThurs.\, February 6th\, 2025Don RoppoloTree Support and ProtectionTues.\, February 11th\, 2025Denny FermenichTree ID and SelectionThurs.\, February 13th\, 2025Ian BrownTrees and Construction /Urban ForestryMon.\, February 17th\, 2025Franklin SeilheimerCertification Exam (NOT INCLUDED IN PRICING)\n\n\n\nOur instructors:\n\n\n\nJake Kubisiak– Consulting Arborist\, Wachtel Tree Science\, ISA Board Certified Master Arborist \n\n\n\nDr. Glen Stanosz– Emeritus Professor of Tree and Forest Health at UW-Madison\, and is an ISA Certified Arborist with the Tree Risk Assessment Qualification \n\n\n\nAaron Schauer– Program Director and Instructor of Arboriculture/Urban Forestry at Gateway Technical College \n\n\n\nMike Wendt- Retired Arboriculture/Hort. Instructor; Past WAA Tree Climbing Competition Champion \n\n\n\nNathan Schuettpelz– Consulting Department Manager\, Wachtel Tree Science \n\n\n\nDenny Fermenich– City Forester\, City of Greenfield; Past president of WAA \n\n\n\nDon Roppolo– Past President\, Illinois Arborist Association; Davey Institute\, Director of Arboricultural Training \n\n\n\nIan Brown– City Forester\, City of Madison \n\n\n\nFranklin Seilheimer– Urban Forestry District Manager\, City of Milwaukee\, DPW-Forestry \n\n\n\n\n\n\n\nCost:\n\n\n\n$225 – WAA Member – Full Course (the person attending the course must be a WAA member to receive this pricing!) \n\n\n\n$270 – Non-Member – Full Course (Includes one year membership) \n\n\n\n$35 – Single Session \n\n\n\n$90 – Study Guide (Recommended) \n\n\n\n$15 – ANSI Standards (Recommended) \n\n\n\nEXAM IS SEPARATE! \n\n\n\n\n\n\n\nCancellation and Refund Policy\n\n\n\n\nRefunds will be made if requested on or before January 13\, 2025 with a $25 processing fee.\n\n\n\nThere will be no refunds for cancellations made after January 13th\, although substitutions may be permitted prior to January 16th.  Refunds will only be considered in emergency situations at the Wisconsin Arborist Association’s discretion.  Refunds will not be provided for registrants who do not attend the event.\n\n\n\nNotice of cancellation and/or substitutions must be made by contacting Tina Johnson through the Contact Us page on our website or by calling Tina Johnson at 262-899-0060.  A cancellation acknowledgement will be sent within 3 working days and fees refunded within 10 working days\, subject to this Return Policy.  We do not issue refunds once the event has occurred/started.\n\n\n\n\n\n\n\n\nQuestions or Need Help Registering?\n\n\n\n\nContact Tina Johnson through the Contact Us page on our website.
URL:https://www.waa-isa.org/tribe-events/2025-virtual-certified-arborist-study-group/2025-01-30/
CATEGORIES:WAA Events
ATTACH;FMTTYPE=image/png:https://www.waa-isa.org/wp-content/uploads/2019/07/waa-logo-gradient-3.png
END:VEVENT
END:VCALENDAR