BEGIN:VCALENDAR
VERSION:2.0
PRODID:-//WAA-ISA - ECPv6.15.20//NONSGML v1.0//EN
CALSCALE:GREGORIAN
METHOD:PUBLISH
X-WR-CALNAME:WAA-ISA
X-ORIGINAL-URL:https://www.waa-isa.org
X-WR-CALDESC:Events for WAA-ISA
REFRESH-INTERVAL;VALUE=DURATION:PT1H
X-Robots-Tag:noindex
X-PUBLISHED-TTL:PT1H
BEGIN:VTIMEZONE
TZID:America/Chicago
BEGIN:DAYLIGHT
TZOFFSETFROM:-0600
TZOFFSETTO:-0500
TZNAME:CDT
DTSTART:20230312T080000
END:DAYLIGHT
BEGIN:STANDARD
TZOFFSETFROM:-0500
TZOFFSETTO:-0600
TZNAME:CST
DTSTART:20231105T070000
END:STANDARD
BEGIN:DAYLIGHT
TZOFFSETFROM:-0600
TZOFFSETTO:-0500
TZNAME:CDT
DTSTART:20240310T080000
END:DAYLIGHT
BEGIN:STANDARD
TZOFFSETFROM:-0500
TZOFFSETTO:-0600
TZNAME:CST
DTSTART:20241103T070000
END:STANDARD
BEGIN:DAYLIGHT
TZOFFSETFROM:-0600
TZOFFSETTO:-0500
TZNAME:CDT
DTSTART:20250309T080000
END:DAYLIGHT
BEGIN:STANDARD
TZOFFSETFROM:-0500
TZOFFSETTO:-0600
TZNAME:CST
DTSTART:20251102T070000
END:STANDARD
END:VTIMEZONE
BEGIN:VEVENT
DTSTART;TZID=America/Chicago:20240808T160000
DTEND;TZID=America/Chicago:20240808T170000
DTSTAMP:20260422T214120
CREATED:20240719T130953Z
LAST-MODIFIED:20240719T130955Z
UID:10000501-1723132800-1723136400@www.waa-isa.org
SUMMARY:WAA 2nd Annual Youth T-Shirt Design Contest
DESCRIPTION:We are pleased to announce the second year of our Youth T-shirt contest!  We hope all our members will encourage a child between the ages of 8 and 14 years old to submit a drawing.   \n\n\n\nOur 2024 theme will be “Trees of the Future”.  \n\n\n\nHere are the rules: \n\n\n\n\n A child (or children) must simply be sponsored by a WAA member (there is no cost\, but you must be a current member).  The WAA member is responsible for submitting a scan of the drawing (Please keep the original!) to the Editorial Chair at briana@treehealthmgmt.com.\n\n\n\nAn E-Blast will be sent during the third week of July when the contest will be live and announced on our website.\n\n\n\nThe drawing must be in black and white and must be submitted by August 8th\, 2024 by 5:00pm.\n\n\n\nOnly one drawing per child will be accepted.\n\n\n\nA panel of judges will meet on August 14th to select three finalists. The winning design will be voted on by current WAA members. All children’s names will be kept anonymous until a winner has been selected.\n\n\n\nThe winner will need to submit the original drawing via US Post or submit a high-quality digital scan (instructions will be provided).  The drawing will be the new apparel design for WAA clothing in 2025.  Apparel will be available for purchase to membership\, and our winner will receive a choice of a free WAA T-shirt or sweatshirt.\n\n\n\nAll participants will have their drawing showcased in a digital format on the WAA website.\n\n\n\nQuestions? Contact Tina at admin@waa-isa.org.\n\n\n\n\nTips and Tricks: \n\n\n\n\nA simple line drawing (vs any type of shading) makes for the best screen print on apparel.\n\n\n\nThicker\, solid lines also work best for printing.\n\n\n\nOur printer will work with the winning artist to refine areas for printing.\n\n\n\nPlease do include the theme “Trees of the Future 2024” in the drawing.\n\n\n\nPlease do not sign the drawing.
URL:https://www.waa-isa.org/tribe-events/waa-2nd-annual-youth-t-shirt-design-contest/
CATEGORIES:WAA Events
ATTACH;FMTTYPE=image/jpeg:https://www.waa-isa.org/wp-content/uploads/2023/07/tshirt-contest-pic.jpg
END:VEVENT
BEGIN:VEVENT
DTSTART;TZID=America/Chicago:20240814T110000
DTEND;TZID=America/Chicago:20240814T120000
DTSTAMP:20260422T214120
CREATED:20240703T201050Z
LAST-MODIFIED:20240703T201053Z
UID:10000498-1723633200-1723636800@www.waa-isa.org
SUMMARY:WEBINAR - Bur Oak Blight and Two-lined Chestnut Borer in the Midwest
DESCRIPTION:Identify the threats bur oak blight and two-lined chestnut borer have on native bur oaks in the Midwest and discuss the strategies involved to maintain healthy bur oaks.  \n\n\n\n \n\n\n\n\nJoin us for the informative webinar!\n\n\n\n\n \n\n\n\n\n\n\n\n\n\nSpeaker Jay Goughnour\, Arborjet|Ecologel – Upper Midwest Regional Technical Manager \n\n\n\nJay started at Arborjet in the winter of 2020. Growing up on a farm in central Iowa\, Jay spent a majority of his time outdoors. In that time\, he found a passion for turf in the golf industry\, which eventually led to him working at SiteOne Landscape supply. Through his work experiences\, Jay was able to broaden his expertise to tree care\, irrigation\, and landscape lighting.As an Upper Midwest Regional Technical Manager\, Jay’s responsibility is to expand sales\, provide technical support and share plant health care solutions with customers. With over 25 years in the green industry\, Jay has held positions such as golf course superintendent\, green industry sales management\, and even owned a golf course. In 2008\, Jay purchased his hometown golf course and operated it for four years. After the floods of 2008\, he represented the National Golf Course Owners Association on Capitol Hill in Washington D.C. to explain to lawmakers how golf’s exclusion from disaster-related tax relief was unfairly burdensome to golf course operators. Jay has also previously held the seat of President for the Iowa Golf Course Superintendents Association and is currently serving on the Iowa Turfgrass Institute board of directors representing the Iowa Professional Lawn Care Association. When not spending time his wife and children\, you can find Jay anywhere outdoors enjoying hunting\, fishing\, golfing\, and cheering on the Iowa State Cyclones. \n\n\n\n \n\n\n\nYour personal Zoom link to access the webinar will be emailed by Tuesday August 13\, 2024. You WILL NOT receive the link at the time of registration. \n\n\n\n \n\n\n\nRegistration Deadline: Friday\, August 09\, 2024 at 5:00 PM \n\n\n\nPrice: $25 WAA Members/ $40 Non-Members \n\n\n\n1.0 ISA CEU available. \n\n\n\n \n\n\n\nQuestions: \n\n\n\n\nContact Tina Johnson at admin@waa-isa.org\n\n\n\n\nCancellation and Refund Policy:\n\n\n\n\nRefunds will be made if requested on or before August 9\, 2024 with a $5 processing fee. \n\n\n\nThere will be no refunds for cancellations made after August 9th\, although substitutions may be permitted.  Refunds will only be considered in emergency situations at the Wisconsin Arborist Association’s discretion.  Refunds will not be provided for registrants who do not attend the event.\n\n\n\nNotice of cancellation and/or substitutions must be made by contacting Tina Johnson through the Contact Us page on our website or by calling Tina Johnson at 262-899-0060.  A cancellation acknowledgement will be sent within 3 working days and fees refunded within 10 working days\, subject to this Return Policy.  We do not issue refunds once the event has occurred.\n\n\n\n\nSpecial Thanks! \n\n\n\nThank you to ISA Michigan for coordinating this event!  We look forward to partnering on future events with our fellow ISA Chapters.
URL:https://www.waa-isa.org/tribe-events/webinar-bur-oak-blight-and-two-lined-chestnut-borer-in-the-midwest/
CATEGORIES:WAA Events
ATTACH;FMTTYPE=image/png:https://www.waa-isa.org/wp-content/uploads/2024/06/Partnering-ISA-Chapters-banner.png
END:VEVENT
BEGIN:VEVENT
DTSTART;TZID=America/Chicago:20240816T070000
DTEND;TZID=America/Chicago:20240816T140000
DTSTAMP:20260422T214120
CREATED:20240619T151817Z
LAST-MODIFIED:20240802T172557Z
UID:10000494-1723791600-1723816800@www.waa-isa.org
SUMMARY:WAA 4th Annual Golf Outing
DESCRIPTION:Donations made by: Goodmark Nurseries. THANK YOU VERY MUCH! \n\n\n\nWhere: \n\n\n\n\nBroadlands Golf Club (18 Augusta Way\, North Prairie\, WI 53153)\n\n\n\n\nWhen: \n\n\n\n\nFriday\, August 16th\n\n\n\nShotgun Start: 8 am \n\n\n\nCheck In Begins at 7 am\n\n\n\n\nGolf Outing Package – $500/foursome includes (individuals welcome at $125 each): \n\n\n\n\n18 Holes\n\n\n\nFoursome Greens Fees & Cart\n\n\n\nMeals (Breakfast and Lunch) \n\n\n\n2 drink tickets per golfer\n\n\n\nSwag Bags\n\n\n\n\nSponsorships (sponsorship forms available here) \n\n\n\n\nHole Event Sponsors (Hole event sponsor also gets hole sponsorship)\n\n$250/hole event (6 1 available)\n\nClosest to the pin (par 3) (2 available on separate holes) – 2 SOLD\n\n\n\nLong Drive Men – SOLD\n\n\n\nLong Drive Women\n\n\n\nClosest to the pin in 2 – SOLD\n\n\n\nLong putt\n\n\n\n$5/event (for golfers) or $20 for all 5 events – Prizes will be given out!\n\n\n\n\n\n\n\n\n\n\n\nHole Sponsors – $200/hole (12 7 available) – 5 SOLD\n\n\n\nMeal Sponsor -$500 (2 1 available)- 1 SOLD\n\n\n\nBeer Cart Sponsor -$500 (2  0 available) – 2 SOLD\n\n\n\n\nRaffle Ticket Sales – proceeds go towards Student Scholarships \n\n\n\nRegistration Deadline for Teams – August 2\, 2024 – EXTENDED THROUGH AUGUST 4th!! \n\n\n\nRegistration Deadline for Sponsorships – July 29\, 2024 \n\n\n\nRaffle Prizes and Donations are Still Needed!  We will accept these up until the event. \n\n\n\nREAD REGISTRATION DISCLAIMER CAREFULLY BEFORE REGISTERING\n\n\n\nThere will be no refunds for cancellations made within 14 days of the event\, although substitutions may be permitted.  Refunds will only be considered in emergency situations at the Wisconsin Arborist Association’s discretion.  Refunds will not be provided for registrants who do not attend the event. \n\n\n\nNotice of cancellation and/or substitutions must be made via email to Tina Johnson or by calling Tina Johnson at 262-899-0060.  A cancellation acknowledgement will be sent within 3 working days and fees refunded within 10 working days\, subject to this Return Policy.  We do not issue refunds once the event has occurred.
URL:https://www.waa-isa.org/tribe-events/waa-4th-annual-golf-outing/
LOCATION:Broadlands Golf Club\, 18 Augusta Way\, North Prairie\, 53153
CATEGORIES:WAA Events
ATTACH;FMTTYPE=image/jpeg:https://www.waa-isa.org/wp-content/uploads/2021/05/golf-tee.jpg
END:VEVENT
BEGIN:VEVENT
DTSTART;TZID=America/Chicago:20240820T110000
DTEND;TZID=America/Chicago:20240820T120000
DTSTAMP:20260422T214120
CREATED:20240605T171359Z
LAST-MODIFIED:20240618T135850Z
UID:10000490-1724151600-1724155200@www.waa-isa.org
SUMMARY:WEBINAR - Appraising Tree Losses for Insurance Adjusters
DESCRIPTION:When disaster strikes\, consulting arborists are called upon by insurance adjusters to assess and value the damage done to trees. This presentation shows case studies of collaboration between consulting arborists and insurance professionals\, focusing on claims from the Napa and Ventura fires\, the Santa Barbara mudslides\, and the Phoenix monsoonal windstorms.See what key data an adjuster needs from an arborist to process a claim. Watch application of techniques an arborist can use to inventory trees that have been completely obliterated. And learn how insurance policies and coverage affect the way the consultant arborist should collect data in the field.Join us for the informative webinar! \n\n\n\n\nSpeaker James Komen\, Class One Arboriculture\, is a consulting arborist in California specializing in risk assessment and tree appraisal. He helps clients make informed management decisions for individual trees and for tree inventories. His work has been published in Arboriculture & Urban Forestry\, Arboricultural Consultant\, Palms\, Ontario Arborist\, and Western Arborist. He is an ISA TRAQ instructor and has taught workshops on tree appraisal around the U.S. and Canada. \n\n\n\n\n\n\n\n\n\n\n \n\n\n\nYour personal Zoom link to access the webinar will be emailed by Monday\, August 19\, 2024. You WILL NOT receive the link at the time of registration. \n\n\n\n \n\n\n\nRegistration Deadline: Friday\, August 16\, 2024 at 5:00 pm \n\n\n\nPrice: $25 WAA Members/ $40 Non-Members \n\n\n\n1.0 ISA CEU available. \n\n\n\n \n\n\n\nQuestions: \n\n\n\n\nContact Tina Johnson at admin@waa-isa.org\n\n\n\n\nCancellation and Refund Policy:\n\n\n\n\nRefunds will be made if requested on or before August 16\, 2024 with a $5 processing fee. \n\n\n\nThere will be no refunds for cancellations made after August 16th\, although substitutions may be permitted.  Refunds will only be considered in emergency situations at the Wisconsin Arborist Association’s discretion.  Refunds will not be provided for registrants who do not attend the event.\n\n\n\nNotice of cancellation and/or substitutions must be made by contacting Tina Johnson through the Contact Us page on our website or by calling Tina Johnson at 262-899-0060.  A cancellation acknowledgement will be sent within 3 working days and fees refunded within 10 working days\, subject to this Return Policy.  We do not issue refunds once the event has occurred.\n\n\n\n\nSpecial Thanks! \n\n\n\nThank you to ISA Michigan for coordinating this event!  We look forward to partnering on future events with our fellow ISA Chapters.
URL:https://www.waa-isa.org/tribe-events/webinar-appraising-tree-losses-for-insurance-adjusters/
CATEGORIES:WAA Events
ATTACH;FMTTYPE=image/png:https://www.waa-isa.org/wp-content/uploads/2024/06/Partnering-ISA-Chapters-banner.png
END:VEVENT
BEGIN:VEVENT
DTSTART;TZID=America/Chicago:20240821T110000
DTEND;TZID=America/Chicago:20240821T120000
DTSTAMP:20260422T214120
CREATED:20240605T174034Z
LAST-MODIFIED:20240618T135934Z
UID:10000491-1724238000-1724241600@www.waa-isa.org
SUMMARY:WEBINAR - SLF: Threats and Management Strategies
DESCRIPTION:Spotted Lanternfly (SLF) has expanded across the country since it was first discovered in 2014 in eastern PA. In 2022\, it was found as far west as Iowa and as far south as North Carolina. With this expansion\, it has become crucial for communities\, tree care\, landscape\, and pest management professionals to be ready to protect their clients’ and constituents’ plants and property. This webinar will provide an introductory background on Spotted Lanternfly\, its life cycle\, biology\, behavior\, and management solutions. We will also discuss existing research and the available tools to protect trees and plants in the urban environment.Join us for the informative webinar! \n\n\n\n\n\n\n\n\nSpeaker Mark Ware is a Board-Certified Master Arborist on the Rainbow Ecoscience team\, covering the Northeast and Mid-Atlantic regions. Mark brings over ten years of practical experience in arboriculture\, plant health care and ornamental horticulture. Mark is responsible for providing PHC technical and application training to Rainbow’s clients and their crews. This includes providing technical support and training in Rainbow PHC protocols\, research and development of new products and protocols and in-field training with applicators. \n\n\n\n\n\n\n\n\n \n\n\n\n \n\n\n\nYour personal Zoom link to access the webinar will be emailed by Monday\, August 19\, 2024. You WILL NOT receive the link at the time of registration. \n\n\n\n \n\n\n\nRegistration Deadline: Friday\, August 16\, 2024 at 5:00 pm \n\n\n\nPrice: $25 WAA Members/ $40 Non-Members \n\n\n\n1.0 ISA CEU available. \n\n\n\n \n\n\n\nQuestions: \n\n\n\n\nContact Tina Johnson at admin@waa-isa.org\n\n\n\n\nCancellation and Refund Policy:\n\n\n\n\nRefunds will be made if requested on or before August 16\, 2024 with a $5 processing fee. \n\n\n\nThere will be no refunds for cancellations made after August 16th\, although substitutions may be permitted.  Refunds will only be considered in emergency situations at the Wisconsin Arborist Association’s discretion.  Refunds will not be provided for registrants who do not attend the event.\n\n\n\nNotice of cancellation and/or substitutions must be made by contacting Tina Johnson through the Contact Us page on our website or by calling Tina Johnson at 262-899-0060.  A cancellation acknowledgement will be sent within 3 working days and fees refunded within 10 working days\, subject to this Return Policy.  We do not issue refunds once the event has occurred.\n\n\n\n\nSpecial Thanks! \n\n\n\nThank you to ISA Michigan for coordinating this event!  We look forward to partnering on future events with our fellow ISA Chapters.
URL:https://www.waa-isa.org/tribe-events/webinar-slf-threats-and-management-strategies/
CATEGORIES:WAA Events
ATTACH;FMTTYPE=image/png:https://www.waa-isa.org/wp-content/uploads/2024/06/Partnering-ISA-Chapters-banner.png
END:VEVENT
BEGIN:VEVENT
DTSTART;TZID=America/Chicago:20240829T110000
DTEND;TZID=America/Chicago:20240829T120000
DTSTAMP:20260422T214120
CREATED:20240628T185931Z
LAST-MODIFIED:20240628T185932Z
UID:10000497-1724929200-1724932800@www.waa-isa.org
SUMMARY:WEBINAR - Rehabilitating Drought Stressed Trees
DESCRIPTION:Learn the impact of severe drought on trees\, identify symptoms\, and discuss prevention\, management and recovery strategies for a the most valuable plants in the landscape. We will cover various plant health care products and application techniques to consider when treating drought-stricken trees. \n\n\n\n\nSymptoms of drought stress\n\n\n\nPhysiological impacts related to drought\n\n\n\nManagement and recovery strategies for trees impacted by drought\n\n\n\n\n \n\n\n\n \n\n\n\n\nJoin us for the informative webinar!\n\n\n\n\n \n\n\n\n\n\n\n\n\n\nSpeaker Emmett Muennink\, Arborjet|Ecologel – South Central Technical Manager \n\n\n\nEmmett holds a B.S. in Agronomy and a M.S. in Crop Science from Texas Tech University. He has performed nearly every job in the tree care industry: from dragging brush and grinding stumps to pesticide applications and sales. His passion for arboriculture led him to achieve the Board Certified Master Arborist credential in 2017. Emmett’s 10 years with Arborjet has allowed him to help other arborists and landscape professionals grow their PHC programs and fine tune their treatment protocols. He’s eager to share his experience and knowledge with anyone who will listen! \n\n\n\n \n\n\n\nYour personal Zoom link to access the webinar will be emailed by Tuesday August 26\, 2024. You WILL NOT receive the link at the time of registration. \n\n\n\n \n\n\n\nRegistration Deadline: Monday\, August 26\, 2024 at 5:00 PM \n\n\n\nPrice: $25 WAA Members/ $40 Non-Members \n\n\n\n1.0 ISA CEU available. \n\n\n\n \n\n\n\nQuestions: \n\n\n\n\nContact Tina Johnson at admin@waa-isa.org\n\n\n\n\nCancellation and Refund Policy:\n\n\n\n\nRefunds will be made if requested on or before August 26\, 2024 with a $5 processing fee. \n\n\n\nThere will be no refunds for cancellations made after August 26th\, although substitutions may be permitted.  Refunds will only be considered in emergency situations at the Wisconsin Arborist Association’s discretion.  Refunds will not be provided for registrants who do not attend the event.\n\n\n\nNotice of cancellation and/or substitutions must be made by contacting Tina Johnson through the Contact Us page on our website or by calling Tina Johnson at 262-899-0060.  A cancellation acknowledgement will be sent within 3 working days and fees refunded within 10 working days\, subject to this Return Policy.  We do not issue refunds once the event has occurred.\n\n\n\n\nSpecial Thanks! \n\n\n\nThank you to ISA Michigan for coordinating this event!  We look forward to partnering on future events with our fellow ISA Chapters.
URL:https://www.waa-isa.org/tribe-events/webinar-rehabilitating-drought-stressed-trees/
CATEGORIES:WAA Events
ATTACH;FMTTYPE=image/png:https://www.waa-isa.org/wp-content/uploads/2024/06/Partnering-ISA-Chapters-banner.png
END:VEVENT
END:VCALENDAR