BEGIN:VCALENDAR
VERSION:2.0
PRODID:-//WAA-ISA - ECPv6.15.20//NONSGML v1.0//EN
CALSCALE:GREGORIAN
METHOD:PUBLISH
X-ORIGINAL-URL:https://www.waa-isa.org
X-WR-CALDESC:Events for WAA-ISA
REFRESH-INTERVAL;VALUE=DURATION:PT1H
X-Robots-Tag:noindex
X-PUBLISHED-TTL:PT1H
BEGIN:VTIMEZONE
TZID:America/Chicago
BEGIN:DAYLIGHT
TZOFFSETFROM:-0600
TZOFFSETTO:-0500
TZNAME:CDT
DTSTART:20230312T080000
END:DAYLIGHT
BEGIN:STANDARD
TZOFFSETFROM:-0500
TZOFFSETTO:-0600
TZNAME:CST
DTSTART:20231105T070000
END:STANDARD
BEGIN:DAYLIGHT
TZOFFSETFROM:-0600
TZOFFSETTO:-0500
TZNAME:CDT
DTSTART:20240310T080000
END:DAYLIGHT
BEGIN:STANDARD
TZOFFSETFROM:-0500
TZOFFSETTO:-0600
TZNAME:CST
DTSTART:20241103T070000
END:STANDARD
BEGIN:DAYLIGHT
TZOFFSETFROM:-0600
TZOFFSETTO:-0500
TZNAME:CDT
DTSTART:20250309T080000
END:DAYLIGHT
BEGIN:STANDARD
TZOFFSETFROM:-0500
TZOFFSETTO:-0600
TZNAME:CST
DTSTART:20251102T070000
END:STANDARD
END:VTIMEZONE
BEGIN:VEVENT
DTSTART;TZID=America/Chicago:20240601T083000
DTEND;TZID=America/Chicago:20240601T153000
DTSTAMP:20260423T004707
CREATED:20240424T125415Z
LAST-MODIFIED:20240424T132053Z
UID:10000478-1717230600-1717255800@www.waa-isa.org
SUMMARY:WAA Kids' Climb
DESCRIPTION:Kiwanis Youth Outdoor Days- South Wood County Park\, 7111 South Park Road\, WI Rapids\, WI 54494 \nBring your family\, children and neighbors for this Kids’ Climb event! \nVOLUNTEERS NEEDED\n \nTo make these events successful we need help.  We need volunteers to be on the ground and also up in the tree.  Tasks include:  helping parents fill out waiver forms\, outfitting kids in helmets and saddles\, belaying kids up into the tree using pulley systems\, and climbing in the tree assisting kids in learning limb walking\, how to hang upside and things like that.\n \nQuestions???  Contact Luke Haas\n \n 
URL:https://www.waa-isa.org/tribe-events/waa-kids-climb-10/
LOCATION:South Wood County Park\, 7111 South Park Road\, Wisconsin Rapids\, Wisconsin\, 54494\, United States
CATEGORIES:WAA Events
ATTACH;FMTTYPE=image/jpeg:https://www.waa-isa.org/wp-content/uploads/2019/08/Arbor-Fair-photo.jpg
END:VEVENT
BEGIN:VEVENT
DTSTART;TZID=America/Chicago:20240615T090000
DTEND;TZID=America/Chicago:20240615T140000
DTSTAMP:20260423T004707
CREATED:20240422T175212Z
LAST-MODIFIED:20240422T175213Z
UID:10000476-1718442000-1718460000@www.waa-isa.org
SUMMARY:WAA Kids' Climb
DESCRIPTION:Fox Point Village Hall – 7200 North Santa Monica Blvd.\, Fox Point\, WI 53217 \nBring your family\, children and neighbors for this Kids’ Climb event! \nVOLUNTEERS NEEDED\n \nTo make these events successful we need help.  We need volunteers to be on the ground and also up in the tree.  Tasks include:  helping parents fill out waiver forms\, outfitting kids in helmets and saddles\, belaying kids up into the tree using pulley systems\, and climbing in the tree assisting kids in learning limb walking\, how to hang upside and things like that.\n \nPlease use the sign up genius to sign up to help: https://www.signupgenius.com/go/5080b45a9a72ea7fa7-2023#/\n \nQuestions???  Contact August Hoppe\n \n 
URL:https://www.waa-isa.org/tribe-events/waa-kids-climb-8/
LOCATION:Fox Point Village Hall\, 7200 North Santa Monica Blvd.\, Fox Point\, Wisconsin\, 53217\, United States
CATEGORIES:WAA Events
ATTACH;FMTTYPE=image/jpeg:https://www.waa-isa.org/wp-content/uploads/2023/04/EG-Kids-Climb-2021-girl-close-up-black-hair.jpg
END:VEVENT
BEGIN:VEVENT
DTSTART;TZID=America/Chicago:20240618T110000
DTEND;TZID=America/Chicago:20240618T120000
DTSTAMP:20260423T004707
CREATED:20240605T165123Z
LAST-MODIFIED:20240618T135627Z
UID:10000486-1718708400-1718712000@www.waa-isa.org
SUMMARY:WEBINAR - Combating Boring Insects in Trees
DESCRIPTION:This Webinar offers a comprehensive examination of wood-boring insects and their implications for tree health. We will dissect the biology\, behavior and ecological significance of key species such as the emerald ash borer and Asian longhorn beetle. Arborists and landscape managers will gain valuable insights into proactive management strategies\, including cultural practices and emerging biological controls. By exploring science-based approaches\, attendees will be equipped to mitigate the impact of wood boring insects on urban and natural landscapes\, fostering resilience and sustainability in tree care practices. Join us for the informative webinar! \n\n\n\n \n\n\n\n\n\n\n\n\n\nSpeaker Kendra Wagner: Rainbow Ecoscience \n\n\n\nAs a PhD candidate\, Kendra joined the Rainbow Ecoscience team in 2022\, as Research Scientist developing new protocols and innovative solutions for the plant health care and landscape maintenance industry. In her role as Research Scientist\, she leads research projects with Rainbow’s research partners to develop new protocols and the next generation of products for the green industry. Kendra has experience as an emerald ash borer technician\, plant health care crew lead\, arborist\, and forest research technician. She has a Bachelor of Science in Forestry from the University of New Brunswick and a PhD in Forest Entomology from Mississippi State University. In her free time\, she enjoys hunting\, hiking\, and fishing. \n\n\n\n \n\n\n\nYour personal Zoom link to access the webinar will be emailed by Monday\, June 17\, 2024. You WILL NOT receive the link at the time of registration. \n\n\n\n \n\n\n\nRegistration Deadline: Friday\, June 14\, 2024 at 5:00 pm \n\n\n\nPrice: $25 WAA Members/ $40 Non-Members \n\n\n\n1.0 ISA CEU available. \n\n\n\n \n\n\n\nQuestions: \n\n\n\n\nContact Tina Johnson at admin@waa-isa.org\n\n\n\n\nCancellation and Refund Policy:\n\n\n\n\nRefunds will be made if requested on or before June 14\, 2024 with a $5 processing fee. \n\n\n\nThere will be no refunds for cancellations made after June 14th\, although substitutions may be permitted.  Refunds will only be considered in emergency situations at the Wisconsin Arborist Association’s discretion.  Refunds will not be provided for registrants who do not attend the event.\n\n\n\nNotice of cancellation and/or substitutions must be made by contacting Tina Johnson through the Contact Us page on our website or by calling Tina Johnson at 262-899-0060.  A cancellation acknowledgement will be sent within 3 working days and fees refunded within 10 working days\, subject to this Return Policy.  We do not issue refunds once the event has occurred.\n\n\n\n\nSpecial Thanks! \n\n\n\nThank you to ISA Michigan for coordinating this event!  We look forward to partnering on future events with our fellow ISA Chapters.
URL:https://www.waa-isa.org/tribe-events/webinar-combating-boring-insects-in-trees/
CATEGORIES:WAA Events
ATTACH;FMTTYPE=image/png:https://www.waa-isa.org/wp-content/uploads/2024/06/Partnering-ISA-Chapters-banner.png
END:VEVENT
BEGIN:VEVENT
DTSTART;TZID=America/Chicago:20240619T110000
DTEND;TZID=America/Chicago:20240619T120000
DTSTAMP:20260423T004707
CREATED:20240605T165427Z
LAST-MODIFIED:20240618T135715Z
UID:10000484-1718794800-1718798400@www.waa-isa.org
SUMMARY:WEBINAR - Tree Appraisal and the Principle of Substitution
DESCRIPTION:One of the foundational concepts in tree appraisal is the Principal of Substitution. A thing cannot appraise for more than a substitute of equivalent utility. Possibly the hardest step in applying this principal is selecting a “functional equivalent” to the subject tree or trees. When selecting the best appraisal technique\, an appraiser must ask: “Is there a way the benefits provided by this tree could be replaced at a lower cost?” Depending on the facts of a case\, the answer could be very different. This presentation reviews 10 court cases that applied the Principle of Substitution to tree appraisal.Join us for the informative webinar! \n\n\n\n \n\n\n\n\n\n\n\n\n\nSpeaker James Komen is a consulting arborist in California specializing in risk assessment and tree appraisal. He helps clients make informed management decisions for individual trees and for tree inventories. \n\n\n\nHis work has been published in Arboriculture & Urban Forestry\, Arboricultural Consultant\, Palms\, Ontario Arborist\, and Western Arborist. He is an ISA TRAQ instructor and has taught workshops on tree appraisal around the U.S. and Canada. \n\n\n\n \n\n\n\nYour personal Zoom link to access the webinar will be emailed by Monday\, June 17\, 2024. You WILL NOT receive the link at the time of registration. \n\n\n\n \n\n\n\nRegistration Deadline: Friday\, June 14\, 2024 at 5:00 pm \n\n\n\nPrice: $25 WAA Members/ $40 Non-Members \n\n\n\n1.0 ISA CEU available. \n\n\n\n \n\n\n\nQuestions: \n\n\n\n\nContact Tina Johnson at admin@waa-isa.org\n\n\n\n\nCancellation and Refund Policy:\n\n\n\n\nRefunds will be made if requested on or before June 14\, 2024 with a $5 processing fee. \n\n\n\nThere will be no refunds for cancellations made after June 14th\, although substitutions may be permitted.  Refunds will only be considered in emergency situations at the Wisconsin Arborist Association’s discretion.  Refunds will not be provided for registrants who do not attend the event.\n\n\n\nNotice of cancellation and/or substitutions must be made by contacting Tina Johnson through the Contact Us page on our website or by calling Tina Johnson at 262-899-0060.  A cancellation acknowledgement will be sent within 3 working days and fees refunded within 10 working days\, subject to this Return Policy.  We do not issue refunds once the event has occurred.\n\n\n\n\nSpecial Thanks! \n\n\n\nThank you to ISA Michigan for coordinating this event!  We look forward to partnering on future events with our fellow ISA Chapters.
URL:https://www.waa-isa.org/tribe-events/webinar-tree-appraisal-and-the-principle-of-substitution/
CATEGORIES:WAA Events
ATTACH;FMTTYPE=image/png:https://www.waa-isa.org/wp-content/uploads/2024/06/Partnering-ISA-Chapters-banner.png
END:VEVENT
BEGIN:VEVENT
DTSTART;TZID=America/Chicago:20240626T120000
DTEND;TZID=America/Chicago:20240626T123000
DTSTAMP:20260423T004708
CREATED:20240610T173607Z
LAST-MODIFIED:20240610T173609Z
UID:10000492-1719403200-1719405000@www.waa-isa.org
SUMMARY:FREE Urban Forestry Webinar: Trees and Storm Loading Events in the Upper Midwest: Predicting Damage\, Preventing It When Possible\, & Recovering Damaged Trees & Landscapes - A Prelude to the WAA Summer Conference
DESCRIPTION:This webinar will be an amended version of the full presentation at the WAA Summer Workshop to be held at the University of Wisconsin River Falls campus on July 26. \n\n\n\nUrban tree damage due to weather events in the upper Midwest are usually the result of wind loading events\, as well as snow and ice loading. If damage from these events is inevitable\, why don’t all trees suffer the same fate? This session will rank the loading events from incidental to catastrophic and predict which trees are more likely to suffer the most\, what can be done to prevent the preventable damage to trees\, and what steps can be taken to recover damaged trees (when they are worth it) as well as planting more resilient landscapes as part of the prevention and recovery steps. Key words or phrases to consider include tree defects\, construction activities\, tree species profiling\, species selection\, and planting practices. \n\n\n\nJoin us for this FREE live webinar that is a prelude to the WAA Summer Conference which ties into Gary Johnson’s talk called  “Storm Damage to Trees: Predicting\, Preventing\, Recovering.” \n\n\n\n0.5 CEUs available \n\n\n\nPre-registration is required. Click on ‘Register Online’ on the right side of the screen to register. \n\n\n\nAbout the Speaker\n\n\n\n\n\n\n\nGary Johnson is Professor Emeritus in the Department of Forest Resources\, University of Minnesota (UMN) Twin Cities campus. He has been a researcher and teacher with the department as well as the UMN Extension for 32 years\, focusing his efforts on minimizing construction damage to trees\, predicting and preventing storm damage to trees\, tree production and planting practices\, and urban tree health. \n\n\n\nSpecial Thanks!\n\n\n\nThank you to UW-Extension for coordinating this event with us.  We look forward to partnering on future events with you!
URL:https://www.waa-isa.org/tribe-events/free-urban-forestry-webinar-trees-and-storm-loading-events-in-the-upper-midwest-predicting-damage-preventing-it-when-possible-recovering-damaged-trees-landscapes-a-prelude-to-the-waa/
CATEGORIES:WAA Events
ATTACH;FMTTYPE=image/jpeg:https://www.waa-isa.org/wp-content/uploads/2023/06/waa-uwex-logos-paired.jpg
END:VEVENT
END:VCALENDAR