BEGIN:VCALENDAR
VERSION:2.0
PRODID:-//WAA-ISA - ECPv6.15.20//NONSGML v1.0//EN
CALSCALE:GREGORIAN
METHOD:PUBLISH
X-WR-CALNAME:WAA-ISA
X-ORIGINAL-URL:https://www.waa-isa.org
X-WR-CALDESC:Events for WAA-ISA
REFRESH-INTERVAL;VALUE=DURATION:PT1H
X-Robots-Tag:noindex
X-PUBLISHED-TTL:PT1H
BEGIN:VTIMEZONE
TZID:America/Chicago
BEGIN:DAYLIGHT
TZOFFSETFROM:-0600
TZOFFSETTO:-0500
TZNAME:CDT
DTSTART:20230312T080000
END:DAYLIGHT
BEGIN:STANDARD
TZOFFSETFROM:-0500
TZOFFSETTO:-0600
TZNAME:CST
DTSTART:20231105T070000
END:STANDARD
BEGIN:DAYLIGHT
TZOFFSETFROM:-0600
TZOFFSETTO:-0500
TZNAME:CDT
DTSTART:20240310T080000
END:DAYLIGHT
BEGIN:STANDARD
TZOFFSETFROM:-0500
TZOFFSETTO:-0600
TZNAME:CST
DTSTART:20241103T070000
END:STANDARD
BEGIN:DAYLIGHT
TZOFFSETFROM:-0600
TZOFFSETTO:-0500
TZNAME:CDT
DTSTART:20250309T080000
END:DAYLIGHT
BEGIN:STANDARD
TZOFFSETFROM:-0500
TZOFFSETTO:-0600
TZNAME:CST
DTSTART:20251102T070000
END:STANDARD
END:VTIMEZONE
BEGIN:VEVENT
DTSTART;TZID=America/Chicago:20240504T090000
DTEND;TZID=America/Chicago:20240504T130000
DTSTAMP:20260423T022916
CREATED:20240422T142948Z
LAST-MODIFIED:20240422T180101Z
UID:10000475-1714813200-1714827600@www.waa-isa.org
SUMMARY:WAA Kids' Climb
DESCRIPTION:Veterans Memorial Park\, 410 North Lake Street\, Port Washington\, WI 53074 \nBring your family\, children and neighbors for this Kids’ Climb event! \nVOLUNTEERS NEEDED\n \nTo make these events successful we need help.  We need volunteers to be on the ground and also up in the tree.  Tasks include:  helping parents fill out waiver forms\, outfitting kids in helmets and saddles\, belaying kids up into the tree using pulley systems\, and climbing in the tree assisting kids in learning limb walking\, how to hang upside and things like that.\n \nPlease use the sign up genius to sign up to help: https://www.signupgenius.com/go/5080b45a9a72ea7fa7-2023#/\n \nQuestions???  Contact August Hoppe\n \n 
URL:https://www.waa-isa.org/tribe-events/waa-kids-climb-7/
LOCATION:Veteran’s Memorial Park\, 410 N. Lake St.\, Port Washington\, Wisconsin\, 53074
CATEGORIES:WAA Events
ATTACH;FMTTYPE=image/jpeg:https://www.waa-isa.org/wp-content/uploads/2023/04/EG-Kids-Climb-2021-girl-close-up-black-hair.jpg
END:VEVENT
END:VCALENDAR