BEGIN:VCALENDAR
VERSION:2.0
PRODID:-//WAA-ISA - ECPv6.15.20//NONSGML v1.0//EN
CALSCALE:GREGORIAN
METHOD:PUBLISH
X-ORIGINAL-URL:https://www.waa-isa.org
X-WR-CALDESC:Events for WAA-ISA
REFRESH-INTERVAL;VALUE=DURATION:PT1H
X-Robots-Tag:noindex
X-PUBLISHED-TTL:PT1H
BEGIN:VTIMEZONE
TZID:America/Chicago
BEGIN:DAYLIGHT
TZOFFSETFROM:-0600
TZOFFSETTO:-0500
TZNAME:CDT
DTSTART:20230312T080000
END:DAYLIGHT
BEGIN:STANDARD
TZOFFSETFROM:-0500
TZOFFSETTO:-0600
TZNAME:CST
DTSTART:20231105T070000
END:STANDARD
BEGIN:DAYLIGHT
TZOFFSETFROM:-0600
TZOFFSETTO:-0500
TZNAME:CDT
DTSTART:20240310T080000
END:DAYLIGHT
BEGIN:STANDARD
TZOFFSETFROM:-0500
TZOFFSETTO:-0600
TZNAME:CST
DTSTART:20241103T070000
END:STANDARD
BEGIN:DAYLIGHT
TZOFFSETFROM:-0600
TZOFFSETTO:-0500
TZNAME:CDT
DTSTART:20250309T080000
END:DAYLIGHT
BEGIN:STANDARD
TZOFFSETFROM:-0500
TZOFFSETTO:-0600
TZNAME:CST
DTSTART:20251102T070000
END:STANDARD
END:VTIMEZONE
BEGIN:VEVENT
DTSTART;TZID=America/Chicago:20240117T120000
DTEND;TZID=America/Chicago:20240117T123000
DTSTAMP:20260425T080615
CREATED:20231211T202323Z
LAST-MODIFIED:20231212T134247Z
UID:10000428-1705492800-1705494600@www.waa-isa.org
SUMMARY:FREE Urban Forestry Webinar: Do You Know the Ascomycete Wood Decayers of Urban Trees? - A Prelude to the WAA/DNR Annual Conference
DESCRIPTION:Most arborists recognize that mushrooms\, brackets and conks of the basidiomycete fungi on urban trees indicate internal decay. However\, one of the most important wood decay fungi is also one of the most obscure. Kretzschmaria deusta is an ascomycete wood decay pathogen with a very wide host range and one that can break barrier and reaction zones and cause extensive decay in the lower trunk and buttress roots. This presentation will discuss ascomycete wood decay by focusing on Kretzschmaria deusta and other ascomycete wood decay fungi. \n\n\n\nJoin us for this FREE live webinar that is a prelude to the WAA/DNR Annual Conference which ties into Dr. Luley’s talk called “Biology\, Identification and Management of Wood Decay in Urban Trees.” \n\n\n\n0.5 CEUs available \n\n\n\nPre-registration is required. Click on ‘Register Online’ on the right side of the screen to register. \n\n\n\nAbout the Speaker\n\n\n\n\n\n\n\nChristopher J. Luley\, Ph.D. has BS and MS from SUNY ESF in Syracuse in Forest Pathology. His Ph.D. is from Iowa State University in plant pathology where he also managed the Plant Diagnostic Clinic. He was Forest Pathologist for the State of Missouri\, and has been a consultant since 1991. In 2017 he started Urban Forest Diagnostic. Dr. Luley has over 70 scientific\, technical and popular press articles and received the R. W. Harris Authors Award from the International Society of Arboriculture. He developed TreeRot.com and recently received the Brian Skinner Lifetime Achievement Award from the NYS Arborist\, ISA Chapter and author award from the Midwest Chapter of ISA.   \n\n\n\nSpecial Thanks!\n\n\n\nThank you to UW-Extension for coordinating this event with us.  We look forward to partnering on future events with you!
URL:https://www.waa-isa.org/tribe-events/free-urban-forestry-webinar-do-you-know-the-ascomycete-wood-decayers-of-urban-trees-a-prelude-to-the-waa-dnr-annual-conference/
CATEGORIES:WAA Events
ATTACH;FMTTYPE=image/jpeg:https://www.waa-isa.org/wp-content/uploads/2023/06/waa-uwex-logos-paired.jpg
END:VEVENT
BEGIN:VEVENT
DTSTART;TZID=America/Chicago:20240122T183000
DTEND;TZID=America/Chicago:20240122T210000
DTSTAMP:20260425T080615
CREATED:20231102T143531Z
LAST-MODIFIED:20240205T201923Z
UID:10000416-1705948200-1705957200@www.waa-isa.org
SUMMARY:2024 Virtual Certified Arborist Study Group
DESCRIPTION:5 Week Workshop – Monday and Thursday evenings starting January 22 – February 19\, 2024. Every Monday and Thursday will be 6:30pm – 9:00pm.  Over the 5 weeks (9 sessions)\, we will be covering each of the domains associated with the certified arborist exam.  The following week (Monday\, February 26th)\,  we will be offering a certified arborist exam in conjunction with the Annual Conference in Green Bay\, WI.  The cost of the exam is separate and paid directly to ISA. Information will be forthcoming on the exam.  The exam will be available for everyone\, not just class participants.  So if you want to take the exam\, it is best to start the application process early. The cost of the annual conference is a separate fee as well\, if you wish to attend.  Information will be forthcoming on the WAA website. \n\n\n\nThis is an VIRTUAL course.  You are welcome to register for the full course.  You can also choose to attend individual sessions.  2.5 CEU credits are available per session. \n\n\n\nLeading industry subject matter experts are the instructors and this study group is tailored to the working arborist. \n\n\n\n\n\n\n\nLocation\n\n\n\nVirtual Zoom Meeting – Meeting invites will be sent out closer to the start of the course. \n\n\n\n\n\n\n\nCourse Syllabus\n\n\n\nDate                                  Instructor                              Class Domain \n\n\n\nMon.\, January 22nd\, 2024Jake KubisiakTree Physiology and BiologyThurs.\, January 25th\, 2024Glen Stanosz  Plant Health Care/Diseases and TreatmentMon.\, January 29th\, 2024Aaron SchauerSoil\, Water and NutritionThurs.\, February 1st\, 2024Mike WendtClimbing and SafetyMon.\, February 5th\, 2024Nathan SchuettpelzRisk ManagementThurs.\, February 8th\, 2024Denny Fermenich  Tree Establishment and PruningMon.\, February 12th\, 2024Don RoppoloTree Support and ProtectionThurs.\, February 15th\, 2024Denny FermenichTree ID and SelectionMon.\, February 19th\, 2024Jeff LaufenbergTrees and Construction /Urban ForestryMon.\, February 26th\, 2024Erin StoeklCertification Exam (NOT INCLUDED IN PRICING)\n\n\n\nOur instructors:\n\n\n\nJake Kubisiak– Consulting Arborist\, Wachtel Tree Science\, ISA Board Certified Master Arborist \n\n\n\nDr. Glen Stanosz– Emeritus Professor of Tree and Forest Health at UW-Madison\, and is an ISA Certified Arborist with the Tree Risk Assessment Qualification \n\n\n\nAaron Schauer– Program Director and Instructor of Arboriculture/Urban Forestry at Gateway Technical College \n\n\n\nMike Wendt- Retired Arboriculture/Hort. Instructor; Past WAA Tree Climbing Competition Champion \n\n\n\nNathan Schuettpelz– Consulting Department Manager\, Wachtel Tree Science \n\n\n\nDenny Fermenich– City Forester\, City of Greenfield; Past president of WAA \n\n\n\nDon Roppolo– Past President\, Illinois Arborist Association; Davey Institute\, Director of Arboricultural Training \n\n\n\nJeff Laufenberg– Urban Forestry District Manager\, City of Milwaukee\, DPW-Forestry \n\n\n\nErin Stoekl– Urban Forestry District Manager\, City of Milwaukee\, DPW-Forestry \n\n\n\n\n\n\n\nCost:\n\n\n\n$225 – WAA Member – Full Course (the person attending the course must be a WAA member to receive this pricing!) \n\n\n\n$270 – Non-Member – Full Course (Includes one year membership) \n\n\n\n$35 – Single Session \n\n\n\n$90 – Study Guide (Recommended) \n\n\n\n$15 – ANSI Standards (Recommended) \n\n\n\nEXAM IS SEPARATE! \n\n\n\n\n\n\n\nCancellation and Refund Policy\n\n\n\n\nRefunds will be made if requested on or before January 15\, 2024 with a $10 processing fee. \n\n\n\nThere will be no refunds for cancellations made after January 15th\, although substitutions may be permitted prior to January 15th.  Refunds will only be considered in emergency situations at the Wisconsin Arborist Association’s discretion.  Refunds will not be provided for registrants who do not attend the event.\n\n\n\nNotice of cancellation and/or substitutions must be made by contacting Tina Johnson through the Contact Us page on our website or by calling Tina Johnson at 262-899-0060.  A cancellation acknowledgement will be sent within 3 working days and fees refunded within 10 working days\, subject to this Return Policy.  We do not issue refunds once the event has occurred/started.\n\n\n\n\n\n\n\n\nQuestions or Need Help Registering?\n\n\n\n\nContact Tina Johnson through the Contact Us page on our website.
URL:https://www.waa-isa.org/tribe-events/2024-virtual-certified-arborist-study-group/2024-01-22/
CATEGORIES:WAA Events
ATTACH;FMTTYPE=image/png:https://www.waa-isa.org/wp-content/uploads/2019/07/waa-logo-gradient-3.png
END:VEVENT
BEGIN:VEVENT
DTSTART;TZID=America/Chicago:20240125T183000
DTEND;TZID=America/Chicago:20240125T210000
DTSTAMP:20260425T080615
CREATED:20231102T143531Z
LAST-MODIFIED:20240205T201923Z
UID:10000417-1706207400-1706216400@www.waa-isa.org
SUMMARY:2024 Virtual Certified Arborist Study Group
DESCRIPTION:5 Week Workshop – Monday and Thursday evenings starting January 22 – February 19\, 2024. Every Monday and Thursday will be 6:30pm – 9:00pm.  Over the 5 weeks (9 sessions)\, we will be covering each of the domains associated with the certified arborist exam.  The following week (Monday\, February 26th)\,  we will be offering a certified arborist exam in conjunction with the Annual Conference in Green Bay\, WI.  The cost of the exam is separate and paid directly to ISA. Information will be forthcoming on the exam.  The exam will be available for everyone\, not just class participants.  So if you want to take the exam\, it is best to start the application process early. The cost of the annual conference is a separate fee as well\, if you wish to attend.  Information will be forthcoming on the WAA website. \n\n\n\nThis is an VIRTUAL course.  You are welcome to register for the full course.  You can also choose to attend individual sessions.  2.5 CEU credits are available per session. \n\n\n\nLeading industry subject matter experts are the instructors and this study group is tailored to the working arborist. \n\n\n\n\n\n\n\nLocation\n\n\n\nVirtual Zoom Meeting – Meeting invites will be sent out closer to the start of the course. \n\n\n\n\n\n\n\nCourse Syllabus\n\n\n\nDate                                  Instructor                              Class Domain \n\n\n\nMon.\, January 22nd\, 2024Jake KubisiakTree Physiology and BiologyThurs.\, January 25th\, 2024Glen Stanosz  Plant Health Care/Diseases and TreatmentMon.\, January 29th\, 2024Aaron SchauerSoil\, Water and NutritionThurs.\, February 1st\, 2024Mike WendtClimbing and SafetyMon.\, February 5th\, 2024Nathan SchuettpelzRisk ManagementThurs.\, February 8th\, 2024Denny Fermenich  Tree Establishment and PruningMon.\, February 12th\, 2024Don RoppoloTree Support and ProtectionThurs.\, February 15th\, 2024Denny FermenichTree ID and SelectionMon.\, February 19th\, 2024Jeff LaufenbergTrees and Construction /Urban ForestryMon.\, February 26th\, 2024Erin StoeklCertification Exam (NOT INCLUDED IN PRICING)\n\n\n\nOur instructors:\n\n\n\nJake Kubisiak– Consulting Arborist\, Wachtel Tree Science\, ISA Board Certified Master Arborist \n\n\n\nDr. Glen Stanosz– Emeritus Professor of Tree and Forest Health at UW-Madison\, and is an ISA Certified Arborist with the Tree Risk Assessment Qualification \n\n\n\nAaron Schauer– Program Director and Instructor of Arboriculture/Urban Forestry at Gateway Technical College \n\n\n\nMike Wendt- Retired Arboriculture/Hort. Instructor; Past WAA Tree Climbing Competition Champion \n\n\n\nNathan Schuettpelz– Consulting Department Manager\, Wachtel Tree Science \n\n\n\nDenny Fermenich– City Forester\, City of Greenfield; Past president of WAA \n\n\n\nDon Roppolo– Past President\, Illinois Arborist Association; Davey Institute\, Director of Arboricultural Training \n\n\n\nJeff Laufenberg– Urban Forestry District Manager\, City of Milwaukee\, DPW-Forestry \n\n\n\nErin Stoekl– Urban Forestry District Manager\, City of Milwaukee\, DPW-Forestry \n\n\n\n\n\n\n\nCost:\n\n\n\n$225 – WAA Member – Full Course (the person attending the course must be a WAA member to receive this pricing!) \n\n\n\n$270 – Non-Member – Full Course (Includes one year membership) \n\n\n\n$35 – Single Session \n\n\n\n$90 – Study Guide (Recommended) \n\n\n\n$15 – ANSI Standards (Recommended) \n\n\n\nEXAM IS SEPARATE! \n\n\n\n\n\n\n\nCancellation and Refund Policy\n\n\n\n\nRefunds will be made if requested on or before January 15\, 2024 with a $10 processing fee. \n\n\n\nThere will be no refunds for cancellations made after January 15th\, although substitutions may be permitted prior to January 15th.  Refunds will only be considered in emergency situations at the Wisconsin Arborist Association’s discretion.  Refunds will not be provided for registrants who do not attend the event.\n\n\n\nNotice of cancellation and/or substitutions must be made by contacting Tina Johnson through the Contact Us page on our website or by calling Tina Johnson at 262-899-0060.  A cancellation acknowledgement will be sent within 3 working days and fees refunded within 10 working days\, subject to this Return Policy.  We do not issue refunds once the event has occurred/started.\n\n\n\n\n\n\n\n\nQuestions or Need Help Registering?\n\n\n\n\nContact Tina Johnson through the Contact Us page on our website.
URL:https://www.waa-isa.org/tribe-events/2024-virtual-certified-arborist-study-group/2024-01-25/
CATEGORIES:WAA Events
ATTACH;FMTTYPE=image/png:https://www.waa-isa.org/wp-content/uploads/2019/07/waa-logo-gradient-3.png
END:VEVENT
BEGIN:VEVENT
DTSTART;TZID=America/Chicago:20240129T183000
DTEND;TZID=America/Chicago:20240129T210000
DTSTAMP:20260425T080615
CREATED:20231102T143531Z
LAST-MODIFIED:20240205T201923Z
UID:10000418-1706553000-1706562000@www.waa-isa.org
SUMMARY:2024 Virtual Certified Arborist Study Group
DESCRIPTION:5 Week Workshop – Monday and Thursday evenings starting January 22 – February 19\, 2024. Every Monday and Thursday will be 6:30pm – 9:00pm.  Over the 5 weeks (9 sessions)\, we will be covering each of the domains associated with the certified arborist exam.  The following week (Monday\, February 26th)\,  we will be offering a certified arborist exam in conjunction with the Annual Conference in Green Bay\, WI.  The cost of the exam is separate and paid directly to ISA. Information will be forthcoming on the exam.  The exam will be available for everyone\, not just class participants.  So if you want to take the exam\, it is best to start the application process early. The cost of the annual conference is a separate fee as well\, if you wish to attend.  Information will be forthcoming on the WAA website. \n\n\n\nThis is an VIRTUAL course.  You are welcome to register for the full course.  You can also choose to attend individual sessions.  2.5 CEU credits are available per session. \n\n\n\nLeading industry subject matter experts are the instructors and this study group is tailored to the working arborist. \n\n\n\n\n\n\n\nLocation\n\n\n\nVirtual Zoom Meeting – Meeting invites will be sent out closer to the start of the course. \n\n\n\n\n\n\n\nCourse Syllabus\n\n\n\nDate                                  Instructor                              Class Domain \n\n\n\nMon.\, January 22nd\, 2024Jake KubisiakTree Physiology and BiologyThurs.\, January 25th\, 2024Glen Stanosz  Plant Health Care/Diseases and TreatmentMon.\, January 29th\, 2024Aaron SchauerSoil\, Water and NutritionThurs.\, February 1st\, 2024Mike WendtClimbing and SafetyMon.\, February 5th\, 2024Nathan SchuettpelzRisk ManagementThurs.\, February 8th\, 2024Denny Fermenich  Tree Establishment and PruningMon.\, February 12th\, 2024Don RoppoloTree Support and ProtectionThurs.\, February 15th\, 2024Denny FermenichTree ID and SelectionMon.\, February 19th\, 2024Jeff LaufenbergTrees and Construction /Urban ForestryMon.\, February 26th\, 2024Erin StoeklCertification Exam (NOT INCLUDED IN PRICING)\n\n\n\nOur instructors:\n\n\n\nJake Kubisiak– Consulting Arborist\, Wachtel Tree Science\, ISA Board Certified Master Arborist \n\n\n\nDr. Glen Stanosz– Emeritus Professor of Tree and Forest Health at UW-Madison\, and is an ISA Certified Arborist with the Tree Risk Assessment Qualification \n\n\n\nAaron Schauer– Program Director and Instructor of Arboriculture/Urban Forestry at Gateway Technical College \n\n\n\nMike Wendt- Retired Arboriculture/Hort. Instructor; Past WAA Tree Climbing Competition Champion \n\n\n\nNathan Schuettpelz– Consulting Department Manager\, Wachtel Tree Science \n\n\n\nDenny Fermenich– City Forester\, City of Greenfield; Past president of WAA \n\n\n\nDon Roppolo– Past President\, Illinois Arborist Association; Davey Institute\, Director of Arboricultural Training \n\n\n\nJeff Laufenberg– Urban Forestry District Manager\, City of Milwaukee\, DPW-Forestry \n\n\n\nErin Stoekl– Urban Forestry District Manager\, City of Milwaukee\, DPW-Forestry \n\n\n\n\n\n\n\nCost:\n\n\n\n$225 – WAA Member – Full Course (the person attending the course must be a WAA member to receive this pricing!) \n\n\n\n$270 – Non-Member – Full Course (Includes one year membership) \n\n\n\n$35 – Single Session \n\n\n\n$90 – Study Guide (Recommended) \n\n\n\n$15 – ANSI Standards (Recommended) \n\n\n\nEXAM IS SEPARATE! \n\n\n\n\n\n\n\nCancellation and Refund Policy\n\n\n\n\nRefunds will be made if requested on or before January 15\, 2024 with a $10 processing fee. \n\n\n\nThere will be no refunds for cancellations made after January 15th\, although substitutions may be permitted prior to January 15th.  Refunds will only be considered in emergency situations at the Wisconsin Arborist Association’s discretion.  Refunds will not be provided for registrants who do not attend the event.\n\n\n\nNotice of cancellation and/or substitutions must be made by contacting Tina Johnson through the Contact Us page on our website or by calling Tina Johnson at 262-899-0060.  A cancellation acknowledgement will be sent within 3 working days and fees refunded within 10 working days\, subject to this Return Policy.  We do not issue refunds once the event has occurred/started.\n\n\n\n\n\n\n\n\nQuestions or Need Help Registering?\n\n\n\n\nContact Tina Johnson through the Contact Us page on our website.
URL:https://www.waa-isa.org/tribe-events/2024-virtual-certified-arborist-study-group/2024-01-29/
CATEGORIES:WAA Events
ATTACH;FMTTYPE=image/png:https://www.waa-isa.org/wp-content/uploads/2019/07/waa-logo-gradient-3.png
END:VEVENT
END:VCALENDAR