BEGIN:VCALENDAR
VERSION:2.0
PRODID:-//WAA-ISA - ECPv6.15.20//NONSGML v1.0//EN
CALSCALE:GREGORIAN
METHOD:PUBLISH
X-ORIGINAL-URL:https://www.waa-isa.org
X-WR-CALDESC:Events for WAA-ISA
REFRESH-INTERVAL;VALUE=DURATION:PT1H
X-Robots-Tag:noindex
X-PUBLISHED-TTL:PT1H
BEGIN:VTIMEZONE
TZID:America/Chicago
BEGIN:DAYLIGHT
TZOFFSETFROM:-0600
TZOFFSETTO:-0500
TZNAME:CDT
DTSTART:20220313T080000
END:DAYLIGHT
BEGIN:STANDARD
TZOFFSETFROM:-0500
TZOFFSETTO:-0600
TZNAME:CST
DTSTART:20221106T070000
END:STANDARD
BEGIN:DAYLIGHT
TZOFFSETFROM:-0600
TZOFFSETTO:-0500
TZNAME:CDT
DTSTART:20230312T080000
END:DAYLIGHT
BEGIN:STANDARD
TZOFFSETFROM:-0500
TZOFFSETTO:-0600
TZNAME:CST
DTSTART:20231105T070000
END:STANDARD
BEGIN:DAYLIGHT
TZOFFSETFROM:-0600
TZOFFSETTO:-0500
TZNAME:CDT
DTSTART:20240310T080000
END:DAYLIGHT
BEGIN:STANDARD
TZOFFSETFROM:-0500
TZOFFSETTO:-0600
TZNAME:CST
DTSTART:20241103T070000
END:STANDARD
END:VTIMEZONE
BEGIN:VEVENT
DTSTART;TZID=America/Chicago:20231001T100000
DTEND;TZID=America/Chicago:20231001T140000
DTSTAMP:20260425T123401
CREATED:20230421T162025Z
LAST-MODIFIED:20230421T162026Z
UID:10000350-1696154400-1696168800@www.waa-isa.org
SUMMARY:WAA Kids' Climb
DESCRIPTION: Chainsaw Carving & Forest Arts Festival at River Bend Nature Center\, Racine \n\nRiver Bend Nature Center – 3600 N. Green Bay Rd.\, Racine 53404\n\nBring your family\, children and neighbors for this Kids’ Climb event! \nVOLUNTEERS NEEDED\n \nTo make these events successful we need help.  We need volunteers to be on the ground and also up in the tree.  Tasks include:  helping parents fill out waiver forms\, outfitting kids in helmets and saddles\, belaying kids up into the tree using pulley systems\, and climbing in the tree assisting kids in learning limb walking\, how to hang upside and things like that.\n \nPlease use the sign up genius to sign up to help: https://www.signupgenius.com/go/5080b45a9a72ea7fa7-2023#/\n \nQuestions???  Contact August Hoppe\n \n 
URL:https://www.waa-isa.org/tribe-events/waa-kids-climb-5/
LOCATION:River Bend Nature Center\, 3600 N. Green Bay Rd.\, Racine\, Wisconsin\, 53404
CATEGORIES:WAA Events
ATTACH;FMTTYPE=image/jpeg:https://www.waa-isa.org/wp-content/uploads/2023/04/EG-Kids-Climb-2021-Casey-girl-silhouette.jpg
END:VEVENT
BEGIN:VEVENT
DTSTART;TZID=America/Chicago:20231017T073000
DTEND;TZID=America/Chicago:20231017T113000
DTSTAMP:20260425T123401
CREATED:20230831T173050Z
LAST-MODIFIED:20230831T173050Z
UID:10000374-1697527800-1697542200@www.waa-isa.org
SUMMARY:ISA Certified Arborist\, Utility Specialist\, and Municipal Specialist Exam
DESCRIPTION:Registration Deadline: September 28\, 2023 \n\n\n\nSeats Available: 32 \n\n\n\nMinimum Seating: 5 \n\n\n\nPlease check the ISA website (www.isa-arbor.com) for more information and for registration under Credentials/ Exam Information. Registration for the exam is made directly with the ISA\, and must be completed at least 12 working days in advance.  This is an application process that has certain requirements. Here is the webpage where you can find the application to apply for eligibility: https://www.isa-arbor.com/Credentials/Apply-Now/Apply-for-Eligibility. \n\n\n\nPlease contact ISA if you are having any difficulties with registration.  Do not wait until the last minute to register! \n\n\n\nCheck-in starts at 7:30am and exam begins promptly at 8:00am.  This exam is being held in conjunction with the WAA Fall Seminar in West Bend\, WI.
URL:https://www.waa-isa.org/tribe-events/isa-certified-arborist-utility-specialist-and-municipal-specialist-exam-11/
CATEGORIES:WAA Events
ATTACH;FMTTYPE=image/jpeg:https://www.waa-isa.org/wp-content/uploads/2021/01/ISA-Cert-Arborist-logo.jpg
END:VEVENT
BEGIN:VEVENT
DTSTART;TZID=America/Chicago:20231017T073000
DTEND;TZID=America/Chicago:20231017T161500
DTSTAMP:20260425T123401
CREATED:20230901T143857Z
LAST-MODIFIED:20231012T135154Z
UID:10000375-1697527800-1697559300@www.waa-isa.org
SUMMARY:WAA 2023 Fall Seminar
DESCRIPTION:‘Below-Ground Safety and PHC in Arboriculture’\n\n\n\nJoin the WAA in-person for the 2023 Fall Seminar at West Bend Mutual Insurance Company in West Bend\, WI on Tuesday\, October 17th. The Program Committee has outdone itself again with this line-up!  We are offering Two Tracks of Education\, one indoors and one outdoors\, covering information on below-ground root issues and safety in arboriculture.  Many sessions will be repeated\, so you won’t miss a thing!  We look forward to seeing you in West Bend! Click the links below for presentation descriptions and speaker bios. \n\n\n\n \n\n\n\nEarly Bird Registration Deadline: Tuesday\, October 3\, 2023.   \n\n\n\nOn-line Registration Deadline: Tuesday\, October 11\, 2023.   WALK-UPS WILL BE WELCOME! (at delayed pricing). \n\n\n\nRegistration Fees: \n\n\n\nEarly Bird Pricing                                       Members – $125  /  Non-Members – $135 \n\n\n\nDelayed Registration (after Oct. 3rd)        Members – $150  /  Non-Members – $160 \n\n\n\nFull-Time Students                                     FREE            \n\n\n\n\nWAA Member Dues/ Renewal: $45.  Click here to renew or become a WAA member.(Membership is on an individual basis\, not per company.  Please pay the correct pricing – per individual!)\n\n\n\nFor more details about the program and to pay by check\, please print off this BROCHURE.\n\n\n\n\n\n\n\n\n\n\n\n\nParking\n\n\n\n\n\n\n\n\nPark in Prairie Center Guest Parking lot.\n\n\n\nRegistration is in the Prairie Building near Prairie Center Entrance.\n\n\n\n\n\n\n\n\n\n\n\n\n\n\n\n\nSponsorship Information\n\n\n\n\nALL SPONSORSHIPS HAVE BEEN FILLED!  THANK YOU SO MUCH!  Click here for more information.\n\n\n\n\n\n\n\n\nProgram\n\n\n\n \n\n\n\n7:30am – 8:15am    Registration \n\n\n\nPlenary Indoor Sessions \n\n\n\n8:15am – 8:30am    Welcome – Todd Haefke\, WAA President \n\n\n\n8:30am – 9:30 am   Tree Root Systems: The Misunderstood and Forgotten 50% – Gary Johnson \n\n\n\nTrack One – Concurrent Indoor Sessions \n\n\n\n9:35am – 10:35am   Quit Going in Circles: Managing Roots of Container-Grown Trees – Bert Cregg \n\n\n\n10:35am – 11:00am  Morning Break \n\n\n\n11:00am – 12:00pm    A Preventative and Curative Approach to Treating Iron Chlorosis for Landscape Trees – Lee Fredericks \n\n\n\n12:00pm – 1:00pm  Lunch \n\n\n\n1:00pm – 2:00pm    Quit Going in Circles: Managing Roots of Container-Grown Trees – Bert Cregg \n\n\n\n2:05pm – 3:05pm    A Preventative and Curative Approach to Treating Iron Chlorosis for Landscape Trees – Lee Fredericks \n\n\n\n3:10pm – 4:10pm    GIS to Improve Your TCO! Layman’s Terms: Computers Improve Your Tree Care Operations – Nathan Schuettpelz \n\n\n\nTrack Two – Concurrent Outdoor Sessions  \n\n\n\n9:35am – 10:35am    Putting Trees in Holes – Adam Alves\, Zac Eckberg\, Theresa Williams \n\n\n\n10:35am – 11:00am  Morning Break \n\n\n\n11:00am – 12:00pm    Autumn Arbor Care: A Hands-On Approach for Essential Tree Treatments in the Fall Season – Cory McCurry \n\n\n\n12:00pm – 1:00pm  Lunch \n\n\n\n1:00pm – 2:00pm    Putting Trees in Holes – Adam Alves\, Zac Eckberg\, Theresa Williams \n\n\n\n2:05pm – 3:05pm    Autumn Arbor Care: A Hands-On Approach for Essential Tree Treatments in the Fall Season – Cory McCurry \n\n\n\n3:10pm – 4:10pm     Root Collar Exams as a Diagnostic Tactic and a Treatment Tool – Gary Johnson \n\n\n\n \n\n\n\nUp to six CEUs are possible if you attend the full conference. (Please allow ISA 6-8 weeks to process CEUs.) \n\n\n\n \n\n\n\nCancellation and Refund Policy\n\n\n\n\nRefunds will be made if requested on or before October 3\, 2023 with a $10 processing fee. \n\n\n\nThere will be no refunds for cancellations made after October 3rd\, although substitutions may be permitted.  Refunds will only be considered in emergency situations at the Wisconsin Arborist Association’s discretion.  Refunds will not be provided for registrants who do not attend the event.\n\n\n\nNotice of cancellation and/or substitutions must be made by contacting Tina Johnson through the Contact Us page on our website or by calling Tina Johnson at 262-899-0060.  A cancellation acknowledgement will be sent within 3 working days and fees refunded within 10 working days\, subject to this Return Policy.  \n\n\n\nWe do not issue refunds once the event has occurred.\n\n\n\n\n \n\n\n\nQuestions or Need Help Registering?\n\n\n\n\nContact Tina Johnson through the Contact Us page on our website.
URL:https://www.waa-isa.org/tribe-events/waa-2023-fall-seminar/
CATEGORIES:WAA Events
ATTACH;FMTTYPE=image/jpeg:https://www.waa-isa.org/wp-content/uploads/2023/08/maple-1-scaled.jpg
END:VEVENT
END:VCALENDAR