BEGIN:VCALENDAR
VERSION:2.0
PRODID:-//WAA-ISA - ECPv6.15.20//NONSGML v1.0//EN
CALSCALE:GREGORIAN
METHOD:PUBLISH
X-ORIGINAL-URL:https://www.waa-isa.org
X-WR-CALDESC:Events for WAA-ISA
REFRESH-INTERVAL;VALUE=DURATION:PT1H
X-Robots-Tag:noindex
X-PUBLISHED-TTL:PT1H
BEGIN:VTIMEZONE
TZID:America/Chicago
BEGIN:DAYLIGHT
TZOFFSETFROM:-0600
TZOFFSETTO:-0500
TZNAME:CDT
DTSTART:20220313T080000
END:DAYLIGHT
BEGIN:STANDARD
TZOFFSETFROM:-0500
TZOFFSETTO:-0600
TZNAME:CST
DTSTART:20221106T070000
END:STANDARD
BEGIN:DAYLIGHT
TZOFFSETFROM:-0600
TZOFFSETTO:-0500
TZNAME:CDT
DTSTART:20230312T080000
END:DAYLIGHT
BEGIN:STANDARD
TZOFFSETFROM:-0500
TZOFFSETTO:-0600
TZNAME:CST
DTSTART:20231105T070000
END:STANDARD
BEGIN:DAYLIGHT
TZOFFSETFROM:-0600
TZOFFSETTO:-0500
TZNAME:CDT
DTSTART:20240310T080000
END:DAYLIGHT
BEGIN:STANDARD
TZOFFSETFROM:-0500
TZOFFSETTO:-0600
TZNAME:CST
DTSTART:20241103T070000
END:STANDARD
END:VTIMEZONE
BEGIN:VEVENT
DTSTART;TZID=America/Chicago:20230920T120000
DTEND;TZID=America/Chicago:20230920T123000
DTSTAMP:20260425T141736
CREATED:20230823T151414Z
LAST-MODIFIED:20230828T140502Z
UID:10000373-1695211200-1695213000@www.waa-isa.org
SUMMARY:FREE Urban Forestry Webinar: Approaches to Dealing With Circling Roots on Container-Grown Trees - A Prelude to the WAA Fall Seminar
DESCRIPTION:Container-grown trees are increasingly popular in a range of urban forestry and landscape applications. However\, arborists and landscapers are often concerned about defects associated with container growing. Dr. Bert Cregg and members of his lab have researched various approaches to dealing with root systems of container-grown trees over the past decade. In this webinar\, Dr. Cregg will highlight key findings from his group’s research and discuss practical implications for tree planters. \n\n\n\nJoin us for this FREE live webinar that is a prelude to the WAA Fall Seminar which ties into Dr. Cregg’s talk called “Quit Going in Circles: Managing Roots of Container-Grown Trees.” \n\n\n\n0.5 CEUs available \n\n\n\nPre-registration is required. Click on ‘Register Online’ on the right side of the screen to register. \n\n\n\nAbout the Speaker\n\n\n\n\n\n\n\nDr. Bert Cregg is a Professor in the Departments of Horticulture and Forestry at Michigan State University. He conducts research and extension programming on the physiology and management of trees\, with a focus on nursery and Christmas tree production and urban forestry. Dr. Cregg has a Ph.D. in Forest Resources from the University of Georgia and was a research plant physiologist for the USDA Forest Service and International Paper before joining the faculty at MSU. \n\n\n\nSpecial Thanks!\n\n\n\nThank you to UW-Extension for coordinating this event with us.  We look forward to partnering on future events with you!
URL:https://www.waa-isa.org/tribe-events/free-urban-forestry-webinar-managing-container-grown-trees-a-prelude-to-the-waa-fall-seminar/
CATEGORIES:WAA Events
ATTACH;FMTTYPE=image/jpeg:https://www.waa-isa.org/wp-content/uploads/2023/06/waa-uwex-logos-paired.jpg
END:VEVENT
BEGIN:VEVENT
DTSTART;TZID=America/Chicago:20230922T070000
DTEND;TZID=America/Chicago:20230924T170000
DTSTAMP:20260425T141736
CREATED:20230606T131916Z
LAST-MODIFIED:20230919T183434Z
UID:10000363-1695366000-1695574800@www.waa-isa.org
SUMMARY:2023 WAA Tree Climbing Championship
DESCRIPTION:Cedar Creek Park\, Cedarburg\, WI\n\n\n\nN52W5882 Portland Rd\, Cedarburg\, WI 53012\n\n\n\n\n\n\n\nFriday will be educational seminars\, gear check and the ascent event.  \n\n\n\nSaturday will be the other 4 preliminary events and preliminary awards. \n\n\n\nSunday will be the Master’s Challenge and final awards. \n\n\n\n\n\n\n\n\nThe success of our event would not be possible without the support of our many great Sponsors and Volunteers. Sign up early and come join us to compete or help\, you won’t regret the experience!\n\n\n\n\n\nClimbers and volunteers will receive CEUs!\n\n\n\n\n\nYou must pre-register for this competition\, and competitors must be current WAA members.  We are accepting 35 Wisconsin competitors and 5 Out of State competitors.  Register on time\, as the number of contestants is limited.  In agreement with other ISA chapters\, competitors may compete in only one chapter championship per year\, preferably their home chapter.  Contestants will be scheduled for all 5 preliminary events.  OUT OF STATE SPOTS HAVE BEEN FILLED!!\n\n\n\n\n\nIf registration fills up\, please contact Tina to be put on a waiting list\, including Out-of-State!\n\n\n\n\n\n\n\nWinners of the 2023 TCC will represent WI at the International TCC in 2024.\n\n\n\n\n\nA small ArborFair will be held this year.\n\n\n\n\n\nNEW THIS YEAR – Educational sessions for competitors and volunteers!\n\n\n\n\n\nUPDATES: View new rule book at  https://www.itcc-isa.com/rules.  Hard copies are also available for purchase on the ISA website.\n\n\n\n\n\nREGISTRATION DEADLINE: August 21\, 2023.  Walk-ons not allowed! \n\n\n\n\n \n\n\n\n\nCompetitor Registration Fee: $100\n\n\n\n\n \n\n\n\n\nMust be a WAA MEMBER to compete!\n\n\n\n\n\n\n\n\nHOTEL INFORMATION \n\n\n\nHotel Blocks: book by August 21st\, 2023 for special rate \n\n\n\nHoliday Inn Express Milwaukee N-Brown Deer/Mequon\, an IHG Hotel: 4443 W Schroeder Dr\, Brown Deer\, WI 53223 Call for reservations 414-355-1300 ask for the Wisconsin Arborist Association block $120.00 plus tax per night. Continental breakfast available. \n\n\n\nFour Points by Sheraton: 8900 N Kildeer Court\, Milwaukee\, WI 53209. Book online at https://www.marriott.com/events/start.mi?id=1684953976197&key=GRP or call at 414-355-8585 ask for the Wisconsin Arborist Association block.  King or 2 queen bed rooms available.  $149.00 plus tax per night.  Continental and hot breakfast available.  \n\n\n\nRecommended Camping Site: Waubedonia – https://www.co.ozaukee.wi.us/DocumentCenter/View/7641/Waubedonia-Brochure \n\n\n\n\n\n\n\nTentative Schedule\n\n\n\nFriday \n\n\n\n7am Registration check in opens \n\n\n\n8am-9:15am Mike Castle: Tips and Tricks for TCC \n\n\n\n9:15am-9:30am Break \n\n\n\nJudges meeting for gear check \n\n\n\n9:30am-10:30am Andrew Gollnick and Kristen Gollnick: Climbing Ergonomics \n\n\n\n10:45am Eric Freesmeyer presents: Gear Check \n\n\n\n11am Gear Check \n\n\n\n12pm Gear Check Continues and Lunch \n\n\n\n1:30pm Ascent Event Begins \n\n\n\n5pm Dinner \n\n\n\nSaturday \n\n\n\n7am Check in \n\n\n\nMandatory Judges Meeting \n\n\n\n7:30am Welcome\, national anthem and event walk through \n\n\n\n8:30am Events begin and run continuous all day until complete \n\n\n\n11:30am Lunch \n\n\n\n6pm Dinner and preliminary awards on site at the park\, Social BYOB\, food provided \n\n\n\nSunday \n\n\n\n7am set up \n\n\n\n8am Climber check in and walk through. \n\n\n\n9am First climber \n\n\n\n9:45am Second climber \n\n\n\n10:30am Third climber \n\n\n\n11:15am Fourth climber \n\n\n\n12:00pm Lunch AND Fifth climber \n\n\n\n12:45pm Sixth climber \n\n\n\n1:30 Seventh climber \n\n\n\n2:15 Eighth Climber \n\n\n\n3pm Break down \n\n\n\n3:30pm Awards \n\n\n\n\n\n\n\nWant to VOLUNTEER or have any QUESTIONS about TCC?? Contact Shelly Wollerman \n\n\n\n\n\n\n\nREAD REGISTRATION DISCLAIMER CAREFULLY BEFORE REGISTERING\n\n\n\nThere will be no refunds for cancellations made within 14 days of the event\, although substitutions may be permitted as long as they are a WAA member or become a WAA member.  Refunds will only be considered in emergency situations at the Wisconsin Arborist Association’s discretion.  Refunds will not be provided for registrants who do not attend the event. \n\n\n\nNotice of cancellation and/or substitutions must be made via email to Tina Johnson.  A cancellation acknowledgement will be sent within 3 working days and fees refunded within 10 working days\, subject to this Return Policy.  We do not issue refunds once the event has occurred. \n\n\n\n\n\n\n\nRegistration Questions?? Contact Tina Johnson \n\n\n\n\n\n\n\n2022 TCC Champions!: Alison Holets and Andrew Gollnick.  They are showing off their ArborMaster prize packages.  Photo courtesy of David Graham.
URL:https://www.waa-isa.org/tribe-events/2023-waa-tree-climbing-championship/
LOCATION:Cedar Creek Park\, N52W5882 Portland Rd.\, Cedarburg\, Wisconsin\, 53012
CATEGORIES:WAA Events
ATTACH;FMTTYPE=image/jpeg:https://www.waa-isa.org/wp-content/uploads/2020/06/Mens-champ-Andrew-Gollnick-scaled.jpg
END:VEVENT
END:VCALENDAR