BEGIN:VCALENDAR
VERSION:2.0
PRODID:-//WAA-ISA - ECPv6.15.20//NONSGML v1.0//EN
CALSCALE:GREGORIAN
METHOD:PUBLISH
X-WR-CALNAME:WAA-ISA
X-ORIGINAL-URL:https://www.waa-isa.org
X-WR-CALDESC:Events for WAA-ISA
REFRESH-INTERVAL;VALUE=DURATION:PT1H
X-Robots-Tag:noindex
X-PUBLISHED-TTL:PT1H
BEGIN:VTIMEZONE
TZID:America/Chicago
BEGIN:DAYLIGHT
TZOFFSETFROM:-0600
TZOFFSETTO:-0500
TZNAME:CDT
DTSTART:20180311T080000
END:DAYLIGHT
BEGIN:STANDARD
TZOFFSETFROM:-0500
TZOFFSETTO:-0600
TZNAME:CST
DTSTART:20181104T070000
END:STANDARD
BEGIN:DAYLIGHT
TZOFFSETFROM:-0600
TZOFFSETTO:-0500
TZNAME:CDT
DTSTART:20190310T080000
END:DAYLIGHT
BEGIN:STANDARD
TZOFFSETFROM:-0500
TZOFFSETTO:-0600
TZNAME:CST
DTSTART:20191103T070000
END:STANDARD
BEGIN:DAYLIGHT
TZOFFSETFROM:-0600
TZOFFSETTO:-0500
TZNAME:CDT
DTSTART:20200308T080000
END:DAYLIGHT
BEGIN:STANDARD
TZOFFSETFROM:-0500
TZOFFSETTO:-0600
TZNAME:CST
DTSTART:20201101T070000
END:STANDARD
BEGIN:DAYLIGHT
TZOFFSETFROM:-0600
TZOFFSETTO:-0500
TZNAME:CDT
DTSTART:20210314T080000
END:DAYLIGHT
BEGIN:STANDARD
TZOFFSETFROM:-0500
TZOFFSETTO:-0600
TZNAME:CST
DTSTART:20211107T070000
END:STANDARD
END:VTIMEZONE
BEGIN:VTIMEZONE
TZID:UTC
BEGIN:STANDARD
TZOFFSETFROM:+0000
TZOFFSETTO:+0000
TZNAME:UTC
DTSTART:20190101T000000
END:STANDARD
END:VTIMEZONE
BEGIN:VEVENT
DTSTART;TZID=America/Chicago:20200506T080000
DTEND;TZID=America/Chicago:20200506T170000
DTSTAMP:20260422T093804
CREATED:20200221T215629Z
LAST-MODIFIED:20200501T153711Z
UID:10000060-1588752000-1588784400@www.waa-isa.org
SUMMARY:Cancelled: SAWW Level 2 Chainsaw Safety Training
DESCRIPTION:Join SAWW trainer Luke Saunders\, Forester\, Adaptive Restoration LLC\, for a hands-on training in chainsaw use\, maintenance\, and technique. Spend time both outside and in the classroom\, practicing how to operate chainsaws safely\, comfortably\, and productively.   \n\n\n\nThis class is part two of a four level series through the Safety and Woods Working training program (SAWW).   \n\n\n\nTopics include: basic chainsaw maintenance; review of the cutter tooth and hands-on sharpening; introduction to wedges; planning and executing tree felling; planning and executing limbing and bucking. \n\n\n\nHands-on training gives participants the opportunity to fell at least one tree. You are encouraged to bring your own equipment and lunch; helmets are mandatory.
URL:https://www.waa-isa.org/tribe-events/saww-level-2-chainsaw-safety-training/
LOCATION:Riveredge Nature Center\, 4458 County HWY Y\, Saukville\, Wisconsin\, 53080\, United States
CATEGORIES:Green Industry Events
ORGANIZER;CN="Luke Saunders%2C Forester%2C Adaptive Restoration LLC":MAILTO:luke.saunders@adaptiverestoration.com
END:VEVENT
BEGIN:VEVENT
DTSTART;TZID=UTC:20200505T110000
DTEND;TZID=UTC:20200505T120000
DTSTAMP:20260422T093804
CREATED:20200501T153535Z
LAST-MODIFIED:20200501T153537Z
UID:10000076-1588676400-1588680000@www.waa-isa.org
SUMMARY:Free NICH Webinar: Doing Business Under Difficult Circumstances - Finding the Resources You Need!
DESCRIPTION:As Covid-19 continues to change our lives on a weekly and sometimes daily basis\, this webinar will provide you with direction to useful resources for continuing to conduct business during these interesting times. Over the past weeks\, companies and organizations have been working on creative ideas to help their networks. This webinar will help to organize some of these resources and connect you to our Consumer Horticulture Network. Whether you’re looking for help with holding crops\, managing plant diseases\, selling online\, social media marketing\, or a combination of all of those things\, we seek to help you find the resources you’re looking for in a time where we all need to lean on each other – from 6ft away. We hope you’ll put on your creative thinking hats and join us for a webinar full of inspiration and hope for the consumer horticulture industry! Restrictions and regulations are best monitored at a state and local level\, while we would love to provide accurate information on those issues\, we acknowledge those matters should be left to your local trade organizations and extension offices. \n\n\n\nBrought to you by NICH – The National Initiative for Consumer Horticulture www.consumerhort.org \n\n\n\nNO CEU’S PROVIDED!
URL:https://www.waa-isa.org/tribe-events/free-nich-webinar-doing-business-under-difficult-circumstances-finding-the-resources-you-need/
LOCATION:WI
CATEGORIES:Green Industry Events
END:VEVENT
BEGIN:VEVENT
DTSTART;TZID=America/Chicago:20200429T150000
DTEND;TZID=America/Chicago:20200429T160000
DTSTAMP:20260422T093804
CREATED:20200414T210820Z
LAST-MODIFIED:20200414T210823Z
UID:10000074-1588172400-1588176000@www.waa-isa.org
SUMMARY:Free Webinar: Being Invaded by Invasives
DESCRIPTION:Presenter: Dawn Fluharty\, Northwest Regional Technical Manager \n\n\n\nThis course will focus on identification of various invasive tree pests and diseases. We will review the severity of the threat and possible treatment options following the integrated pest management process with a trunk injection focus. Intro to IPM defined by DPR. Identification of invasive pests and their life cycles and potential spread and damage. Review of possible IPM for SAPW\, GSOB\, ISHB\, SOD\, BOB\, SLF\, EAB\, ALB and Gypsy moth\, etc. \n\n\n\nCEU’s will be provided.
URL:https://www.waa-isa.org/tribe-events/free-webinar-being-invaded-by-invasives/
LOCATION:WI
CATEGORIES:Green Industry Events
END:VEVENT
BEGIN:VEVENT
DTSTART;TZID=America/Chicago:20200429T100000
DTEND;TZID=America/Chicago:20200429T110000
DTSTAMP:20260422T093804
CREATED:20200414T164839Z
LAST-MODIFIED:20200414T164842Z
UID:10000064-1588154400-1588158000@www.waa-isa.org
SUMMARY:Free EAB University Webinar: Forest Invaders to Watch for and How to Manage Them Part 2: Spotted Lanternfly\, Gypsy Moth\, and Hemlock Wooly Adelgid
DESCRIPTION:Cliff Sadof\, Carrie Tauscher\, and Elizabeth Barnes (Purdue University) \n\n\n\nWhat’s that on your tree?!? We’ll tell you about how to identify\, treat\, and where to find three invasive species to watch out for on the outside of your trees: spotted lanternfly\, hemlock wooly adelgid\, and gypsy moth.
URL:https://www.waa-isa.org/tribe-events/free-eab-university-webinar-forest-invaders-to-watch-for-and-how-to-manage-them-part-2-spotted-lanternfly-gypsy-moth-and-hemlock-wooly-adelgid/
LOCATION:WI
CATEGORIES:Green Industry Events
END:VEVENT
BEGIN:VEVENT
DTSTART;TZID=America/Chicago:20200428T113000
DTEND;TZID=America/Chicago:20200428T160000
DTSTAMP:20260422T093804
CREATED:20200421T190235Z
LAST-MODIFIED:20200421T190516Z
UID:10000075-1588073400-1588089600@www.waa-isa.org
SUMMARY:Chipper Safety Webinar
DESCRIPTION:Join us online for this informative workshop taught by Jeff Thierbach\, BCMA\, Utility Specialist\, CTSP\, and RCA. This 4.5 hour class covers ANSI and OSHA standards\, accident prevention\, types of chippers\, chipper safety devices\, transporting a chipper\, setting up at a job site\, traffic control\, and much more! \n\n\n\n4.0 CEU’s will be available.
URL:https://www.waa-isa.org/tribe-events/chipper-safety-webinar/
LOCATION:WI
CATEGORIES:Green Industry Events
ORGANIZER;CN="Streamside Green%2C LLC":MAILTO:info@streamsidegreen.com
END:VEVENT
BEGIN:VEVENT
DTSTART;TZID=America/Chicago:20200427T160000
DTEND;TZID=America/Chicago:20200427T170000
DTSTAMP:20260422T093804
CREATED:20200414T210332Z
LAST-MODIFIED:20200414T210335Z
UID:10000073-1588003200-1588006800@www.waa-isa.org
SUMMARY:Free Webinar: Beetlemania
DESCRIPTION:Presenter: Dawn Fluharty\, Northwest Regional Technical Manager \n\n\n\nThis course will focus on identification of different types of beetles and some of the diseases they carry. We will review treatment options following the integrated pest management process with a trunk injection update. Intro to IPM defined by DPR. Review pest ID and life cycles and IPM for PBB\, GSOB\, ISHB\, Elm leaf beetle\, tortoise beetle\, Bronze Birch Borer\, Western oak bark beetle\, etc. \n\n\n\nCEU’s will be provided.
URL:https://www.waa-isa.org/tribe-events/free-webinar-beetlemania/
LOCATION:WI
CATEGORIES:Green Industry Events
END:VEVENT
BEGIN:VEVENT
DTSTART;TZID=America/Chicago:20200427T140000
DTEND;TZID=America/Chicago:20200427T150000
DTSTAMP:20260422T093804
CREATED:20200414T205613Z
LAST-MODIFIED:20200414T205616Z
UID:10000072-1587996000-1587999600@www.waa-isa.org
SUMMARY:Free Webinar: Plant Health Care
DESCRIPTION:Presenter: Kevin Brewer\, Northeast Regional Technical Manager \n\n\n\nPreventative PHC\, techniques to avoid decline in tree health. \n\n\n\nCEU’s will be provided.
URL:https://www.waa-isa.org/tribe-events/free-webinar-plant-health-care/
LOCATION:WI
CATEGORIES:Green Industry Events
END:VEVENT
BEGIN:VEVENT
DTSTART;TZID=America/Chicago:20200424T030000
DTEND;TZID=America/Chicago:20200424T160000
DTSTAMP:20260422T093804
CREATED:20200414T204646Z
LAST-MODIFIED:20200414T204649Z
UID:10000071-1587697200-1587744000@www.waa-isa.org
SUMMARY:Free Webinar: Diagnosing and Managing Abiotic Disorders
DESCRIPTION:Presenter: Emmett Muennink\, BCMA\, South Central Regional Technical Manager \n\n\n\nWe’ll discuss the tree diagnostic process\, show examples of common abiotic disorders and present practical management strategies to implement in your PHC program. \n\n\n\nCEU’s will be provided.
URL:https://www.waa-isa.org/tribe-events/free-webinar-diagnosing-and-managing-abiotic-disorders/
LOCATION:WI
CATEGORIES:Green Industry Events
END:VEVENT
BEGIN:VEVENT
DTSTART;TZID=America/Chicago:20200422T130000
DTEND;TZID=America/Chicago:20200422T140000
DTSTAMP:20260422T093804
CREATED:20200414T202450Z
LAST-MODIFIED:20200414T202453Z
UID:10000070-1587560400-1587564000@www.waa-isa.org
SUMMARY:Free Webinar: Bur Oak Blight & Two-lined Chestnut Borer
DESCRIPTION:Presenter: Jay Goughnour\, Upper Midwest Regional Technical Manager \n\n\n\nWe’ll talk about Bur Oak Blight identification\, symptoms and treatment protocols. We’ll also discuss the secondary pest\, Two-Lined Chestnut borer\, and how using a combination of treatment protocols can help save these trees from both of these issues. \n\n\n\nCEUs will be provided.
URL:https://www.waa-isa.org/tribe-events/free-webinar-bur-oak-blight-two-lined-chestnut-borer/
LOCATION:WI
CATEGORIES:Green Industry Events
END:VEVENT
BEGIN:VEVENT
DTSTART;TZID=America/Chicago:20200422T100000
DTEND;TZID=America/Chicago:20200422T100000
DTSTAMP:20260422T093804
CREATED:20200414T164612Z
LAST-MODIFIED:20200414T164616Z
UID:10000063-1587549600-1587549600@www.waa-isa.org
SUMMARY:Free EAB University Webinar: Forest Invaders to Watch for and How to Manage Them Part 1: Emerald Ash Borer\, Thousand Cankers Disease\, and Asian Longhorned Beetle
DESCRIPTION:Cliff Sadof\, Carrie Tauscher\, and Elizabeth Barnes (Purdue University) \n\n\n\nSomething chewing up your tree trunks? This webinar will cover the basics of identification and treatment of three major invasive woodborers: emerald ash borer\, Asian longhorned beetle\, and thousand cankers disease and the identification of their host plants.
URL:https://www.waa-isa.org/tribe-events/free-eab-university-webinar-forest-invaders-to-watch-for-and-how-to-manage-them-part-1-emerald-ash-borer-thousand-cankers-disease-and-asian-longhorned-beetle/
LOCATION:WI
CATEGORIES:Green Industry Events
END:VEVENT
BEGIN:VEVENT
DTSTART;TZID=America/Chicago:20200421T120000
DTEND;TZID=America/Chicago:20200421T120000
DTSTAMP:20260422T093804
CREATED:20200414T145253Z
LAST-MODIFIED:20200414T145614Z
UID:10000032-1587470400-1587470400@www.waa-isa.org
SUMMARY:Free TREE Fund Webinar: A simple technique for online street tree inventories – is it right for my community?
DESCRIPTION:Street tree inventories are fundamentally important for municipal urban forest management\, but collecting and maintaining inventory data is expensive and time-consuming. So we asked the question\, “Can we generate high-quality data about street trees remotely using online street-level photos?” This presentation discusses the level of detail and data quality associated with virtual surveys conducted using Google Street View. Attendees will learn about some pros and cons of these virtual surveys\, and consider whether this simple online technique might be useful for generating street tree data in their own communities. \n\n\n\nBio: Dr. Adam Berland is an Assistant Professor of Geography at Ball State University. He studies patterns and drivers of change in the geographic distribution of urban trees using field data and geospatial technologies. Recently he has been studying innovative ways of generating street tree data using free tools and simple techniques. \n\n\n\n1 CEU with live broadcast.
URL:https://www.waa-isa.org/tribe-events/free-tree-fund-webinar-a-simple-technique-for-online-street-tree-inventories-is-it-right-for-my-community/
LOCATION:WI
CATEGORIES:Green Industry Events
ATTACH;FMTTYPE=image/png:https://www.waa-isa.org/wp-content/uploads/2019/12/treefund-webinar.png
END:VEVENT
BEGIN:VEVENT
DTSTART;TZID=America/Chicago:20200420T130000
DTEND;TZID=America/Chicago:20200420T140000
DTSTAMP:20260422T093804
CREATED:20200414T202120Z
LAST-MODIFIED:20200414T202124Z
UID:10000069-1587387600-1587391200@www.waa-isa.org
SUMMARY:Free Webinar: Turf Health
DESCRIPTION:Presenter: Rebecca Knapp\, Western Division Sales Manager Golf\, Sports Turf\, Nursery \n\n\n\nWe will discuss nutrient availability and the soil relationship and maintaining proper levels of nutrients and soil moisture can lead to a successful stand of turf grass. \n\n\n\nCEU’s will be provided.
URL:https://www.waa-isa.org/tribe-events/free-webinar-turf-health/
LOCATION:WI
CATEGORIES:Green Industry Events
END:VEVENT
BEGIN:VEVENT
DTSTART;TZID=America/Chicago:20200417T140000
DTEND;TZID=America/Chicago:20200417T150000
DTSTAMP:20260422T093804
CREATED:20200414T201637Z
LAST-MODIFIED:20200414T201640Z
UID:10000068-1587132000-1587135600@www.waa-isa.org
SUMMARY:Free Webinar: Marketing Tools & Support
DESCRIPTION:Presenter: Kristin Nikodemski\, Arborjet Marketing Manager \n\n\n\nReview of the marketing assets available and how to use them to retain and grow your business this spring. \n\n\n\nCEU’s will be provided.
URL:https://www.waa-isa.org/tribe-events/free-webinar-marketing-tools-support/
LOCATION:WI
CATEGORIES:Green Industry Events
END:VEVENT
BEGIN:VEVENT
DTSTART;TZID=America/Chicago:20200416T150000
DTEND;TZID=America/Chicago:20200416T160000
DTSTAMP:20260422T093804
CREATED:20200414T201148Z
LAST-MODIFIED:20200414T201151Z
UID:10000067-1587049200-1587052800@www.waa-isa.org
SUMMARY:Free Webinar: Hiring\, Selling & Selling Tree injection
DESCRIPTION:Presenter: Rob Gorden\, Director of Urban Forestry and Business Development \n\n\n\nUnderstanding the differences between natural salespeople and those who have become sales people\, along with the traits expected in both groups. Interviewing to identify these traits in prospective candidates for sales positions. \n\n\n\nCEU’s will be provided.
URL:https://www.waa-isa.org/tribe-events/free-webinar-hiring-selling-selling-tree-injection/
LOCATION:WI
CATEGORIES:Green Industry Events
END:VEVENT
BEGIN:VEVENT
DTSTART;TZID=America/Chicago:20200415T140000
DTEND;TZID=America/Chicago:20200415T150000
DTSTAMP:20260422T093804
CREATED:20200414T200752Z
LAST-MODIFIED:20200414T200755Z
UID:10000066-1586959200-1586962800@www.waa-isa.org
SUMMARY:Free Webinar: Increasing The Profitability Of Your Service Company
DESCRIPTION:Presenter: Eric Steffensen\, Eastern Division Sales Manager Golf\, Sports Turf\, Nursery \n\n\n\nRunning a successful\, profitable business is much more than just providing your services to an end-user. In this webinar\, we’ll discuss strategies to maximize your profits\, pitfalls\, and the interrelated nature of many of the decisions you make. \n\n\n\nCEU’s will be provided.
URL:https://www.waa-isa.org/tribe-events/free-webinar-increasing-the-profitability-of-your-service-company/
LOCATION:WI
CATEGORIES:Green Industry Events
END:VEVENT
BEGIN:VEVENT
DTSTART;TZID=America/Chicago:20200311T080000
DTEND;TZID=America/Chicago:20200311T170000
DTSTAMP:20260422T093804
CREATED:20200221T220038Z
LAST-MODIFIED:20200221T220040Z
UID:10000027-1583913600-1583946000@www.waa-isa.org
SUMMARY:SAWW Level 1 Chainsaw Safety Training
DESCRIPTION:Join SAWW trainer Luke Saunders\, Forester\, Adaptive Restoration LLC\, for a hands-on training in chainsaw use\, maintenance\, and technique. Spend time both outside and in the classroom\, practicing how to operate chainsaws safely\, comfortably\, and productively.   \n\n\n\nThis class is part one of a four level series through the Safety and Woods Working (SAWW) training program. \n\n\n\nTopics include: personal protective equipment (PPE); body mechanics; chainsaw safety features; the chain and the cutter tooth; reactive forces; planning and executing tree felling\, limbing\, and bucking; introductory bore cutting and open face felling. \n\n\n\nHands-on training gives participants the opportunity to fell at least one tree. You are encouraged to bring your own equipment and lunch; helmets are mandatory.
URL:https://www.waa-isa.org/tribe-events/saww-level-1-chainsaw-safety-training-2/
LOCATION:Riveredge Nature Center\, 4458 County HWY Y\, Saukville\, Wisconsin\, 53080\, United States
CATEGORIES:Green Industry Events
ORGANIZER;CN="Luke Saunders%2C Forester%2C Adaptive Restoration LLC":MAILTO:luke.saunders@adaptiverestoration.com
END:VEVENT
BEGIN:VEVENT
DTSTART;TZID=America/Chicago:20200310T080000
DTEND;TZID=America/Chicago:20200310T170000
DTSTAMP:20260422T093804
CREATED:20200221T215934Z
LAST-MODIFIED:20200221T215936Z
UID:10000061-1583827200-1583859600@www.waa-isa.org
SUMMARY:SAWW Level 1 Chainsaw Safety Training
DESCRIPTION:Join SAWW trainer Luke Saunders\, Forester\, Adaptive Restoration LLC\, for a hands-on training in chainsaw use\, maintenance\, and technique. Spend time both outside and in the classroom\, practicing how to operate chainsaws safely\, comfortably\, and productively.   \n\n\n\nThis class is part one of a four level series through the Safety and Woods Working (SAWW) training program. \n\n\n\nTopics include: personal protective equipment (PPE); body mechanics; chainsaw safety features; the chain and the cutter tooth; reactive forces; planning and executing tree felling\, limbing\, and bucking; introductory bore cutting and open face felling. \n\n\n\nHands-on training gives participants the opportunity to fell at least one tree. You are encouraged to bring your own equipment and lunch; helmets are mandatory.
URL:https://www.waa-isa.org/tribe-events/saww-level-1-chainsaw-safety-training/
LOCATION:Riveredge Nature Center\, 4458 County HWY Y\, Saukville\, Wisconsin\, 53080\, United States
CATEGORIES:Green Industry Events
ORGANIZER;CN="Luke Saunders%2C Forester%2C Adaptive Restoration LLC":MAILTO:luke.saunders@adaptiverestoration.com
END:VEVENT
BEGIN:VEVENT
DTSTART;TZID=America/Chicago:20200303T080000
DTEND;TZID=America/Chicago:20200304T160000
DTSTAMP:20260422T093804
CREATED:20200103T154951Z
LAST-MODIFIED:20200103T155208Z
UID:10000056-1583222400-1583337600@www.waa-isa.org
SUMMARY:Landscape Professionals Conference
DESCRIPTION:UW-Madison\, Division of Extension and the Wisconsin Landscape Contractors Association\, Fox Valley Chapter team up to provide the Landscape Professionals Conference March 3-4\, 2020 in Kimberly\, WI. This two-day conference is designed to enhance your professional landscape skills and appreciation for sustainable landscapes. The program offers half day sessions the first day and three tracks of education the second day in landscaping\, lawn care\, and hardscape. Please join us to learn the latest in research and industry developments\, while networking with other horticultural professionals. ISA and NALP Continuing Education Unit (CEU’s) credits available. Register by January 31\, 2020 for early bird pricing. Please see http://www.landscapeprofessionalsworkshop.com/ for more information.
URL:https://www.waa-isa.org/tribe-events/landscape-professionals-conference/
LOCATION:Liberty Hall\, 800 Eisenhower Drive\, Kimberly\, WI\, 54136\, United States
CATEGORIES:Green Industry Events
ATTACH;FMTTYPE=image/jpeg:https://www.waa-isa.org/wp-content/uploads/2020/01/Landscape-Cover-2020-scaled.jpg
END:VEVENT
BEGIN:VEVENT
DTSTART;TZID=America/Chicago:20200204T070000
DTEND;TZID=America/Chicago:20200204T163000
DTSTAMP:20260422T093804
CREATED:20200115T173011Z
LAST-MODIFIED:20220713T191557Z
UID:10000058-1580799600-1580833800@www.waa-isa.org
SUMMARY:Plant Healthcare Seminar: Preserving Majestic Oak Trees in the Landscape
DESCRIPTION:Oaks play a major role in our urban landscape. From their massive structure to their iconic leaves\, these trees are truly majestic. In this seminar we will have various speakers from across the industry talk about how best to manage these trees and protect them from insects and diseases. We will also touch on popular oak cultivars and where they thrive in the landscape.\n\nGo to https://www.treecarescience.com/articles/events/2020-seminar-boerner for more information and to register.\nCEU’s will be provided.\n\nPresented by Rainbow Treecare Scientific Advancements
URL:https://www.waa-isa.org/tribe-events/plant-healthcare-seminar-preserving-majestic-oak-trees-in-the-landscape/
LOCATION:Boerner Botanical Gardens\, 9400 Boerner Drive\, Hales Corners\, WI\, 53130\, United States
CATEGORIES:Green Industry Events
ATTACH;FMTTYPE=image/jpeg:https://www.waa-isa.org/wp-content/uploads/2020/01/oak-tree-below.jpg
END:VEVENT
BEGIN:VEVENT
DTSTART;TZID=America/Chicago:20200114T130000
DTEND;TZID=America/Chicago:20200114T140000
DTSTAMP:20260422T093804
CREATED:20190524T052633Z
LAST-MODIFIED:20191223T171448Z
UID:10000017-1579006800-1579010400@www.waa-isa.org
SUMMARY:Free TREE Fund Webinar: Soil Assessment for Urban Trees
DESCRIPTION:Dr. Bryant Scharenbroch\nAssistant Professor\, UW-Stevens Point\nThe Morton Arboretum\, will cover how soil quality is assessed and discuss how this can be used for urban tree management in his upcoming webinar. Join him as he explores how this information can be applied to real world situations for the arborist and urban forester. Space is limited\, so please sign up early to join the live broadcast! \nCEU’s are available. \nBrought to you by Utah State University Forestry Extension. \n 
URL:https://www.waa-isa.org/tribe-events/free-tree-fund-webinar-remediating-compacted-soils-compromised-%ef%bb%bfby-urban-construction/
LOCATION:WI
CATEGORIES:Green Industry Events
ATTACH;FMTTYPE=image/png:https://www.waa-isa.org/wp-content/uploads/2019/12/treefund-webinar.png
END:VEVENT
BEGIN:VEVENT
DTSTART;TZID=America/Chicago:20200109T110000
DTEND;TZID=America/Chicago:20200109T120000
DTSTAMP:20260422T093804
CREATED:20200106T161205Z
LAST-MODIFIED:20200106T161205Z
UID:10000057-1578567600-1578571200@www.waa-isa.org
SUMMARY:Free Webinar: Urban Forestry Today - Using Facebook & Social Media to Promote Urban Forestry
DESCRIPTION:Join Dr. Bret Shaw\, University of Wisconsin\, on the Thursday January 09 ‘Urban Forestry Today’ Noonhour (Eastern) webcast\, as he discusses “Using Facebook & Social Media to Promote Urban Forestry.” \nGo to http://www.urbanforestrytoday.org/ for more information. \nAttend live & receive Free ISA/MCA CEU’s by visiting: http://www.joinwebinar.com & enter: 597-568-355 @ Noon (Eastern) \n​This broadcast is free and will offer the opportunity for arborists to earn 1.0 ISA CEU and 0.5 MCA credit.
URL:https://www.waa-isa.org/tribe-events/free-webinar-urban-forestry-today-using-facebook-social-media-to-promote-urban-forestry/
LOCATION:WI
CATEGORIES:Green Industry Events
END:VEVENT
BEGIN:VEVENT
DTSTART;VALUE=DATE:20190916
DTEND;VALUE=DATE:20190921
DTSTAMP:20260422T093804
CREATED:20190724T204230Z
LAST-MODIFIED:20190826T203359Z
UID:10000019-1568592000-1569023999@www.waa-isa.org
SUMMARY:Tour des Trees and the TREE Fund
DESCRIPTION:Registration to ride is closed for 2019; however we encourage you to meet the riders and pledge your support by donating to the Tree Research and Education Endowment Fund (TREE Fund). \n\n\n\nThe Tour des Trees is the flagship fundraiser for the TREE Fund. Bicycle riders from around the world participate\, each committed to raising a minimum of $3\,500 for the TREE Fund. The TREE Fund solicits sponsors to cover all the costs of the 7-day event so 100% of the funds raised by the riders go to support research and scholarship. This event not only raises money\, but it raises public awareness of the need for professional tree care. Along the route there are educational events for kids\, public tree planting ceremonies\, media interviews and TV\, radio\, magazine\, social media and newspaper coverage that reach millions of people nationally and around the world. \n\n\n\nThe benefits of this event to Wisconsin Arborists are huge. Nearly everything we do to care for trees is driven by research and education\, much of it funded in part by the TREE Fund through its grant programs and student scholarships including the Bob Skiera Memorial Fund which the WAA initiated and is working to endow. The WAA is committed to research-based arboriculture and encourages members to support the TREE Fund through donations to Wisconsin’s riders in the Tour des Trees. Despite that\, historically only about 15% of members donate. \n\n\n\nMeet the Wisconsin Riders and Pledge Your Support\n\n	\n								\n		\n\n			\n	\n\n			\n	\n	\n		\n		\n		\n	\n				\n				\n				\n					\n	\nDoug Drysdale\n			\n							Meet and Donate\n					\n	\n	\n	\n	\n\n\n\n			\n	\n	\n		\n		\n		\n	\n				\n				\n				\n					\n	\nJeffrey Edgar\n			\n							Meet and Donate\n					\n	\n	\n	\n	\n\n\n\n			\n	\n	\n		\n		\n		\n	\n				\n				\n				\n					\n	\nDick Rideout\n			\n							Meet and Donate\n					\n	\n	\n	\n	\n\n\n\n			\n	\n	\n		\n		\n		\n	\n				\n				\n				\n					\n	\nTeam Kitty\n			\n							Meet and Donate\n					\n	\n	\n	\n	\n\n\n\n	\n\n\n	\n		\n	\n\n\n\n\n\n	\n								\n		\n\n			\n	\n	\n		\n	Past Tour des Trees Photos
URL:https://www.waa-isa.org/tribe-events/tour-des-trees-and-the-tree-fund/
LOCATION:WI
CATEGORIES:Green Industry Events
ATTACH;FMTTYPE=image/png:https://www.waa-isa.org/wp-content/uploads/2019/07/Tour-des-Trees-fetaured-image.png
END:VEVENT
END:VCALENDAR