BEGIN:VCALENDAR
VERSION:2.0
PRODID:-//WAA-ISA - ECPv6.15.20//NONSGML v1.0//EN
CALSCALE:GREGORIAN
METHOD:PUBLISH
X-ORIGINAL-URL:https://www.waa-isa.org
X-WR-CALDESC:Events for WAA-ISA
REFRESH-INTERVAL;VALUE=DURATION:PT1H
X-Robots-Tag:noindex
X-PUBLISHED-TTL:PT1H
BEGIN:VTIMEZONE
TZID:America/Chicago
BEGIN:DAYLIGHT
TZOFFSETFROM:-0600
TZOFFSETTO:-0500
TZNAME:CDT
DTSTART:20240310T080000
END:DAYLIGHT
BEGIN:STANDARD
TZOFFSETFROM:-0500
TZOFFSETTO:-0600
TZNAME:CST
DTSTART:20241103T070000
END:STANDARD
BEGIN:DAYLIGHT
TZOFFSETFROM:-0600
TZOFFSETTO:-0500
TZNAME:CDT
DTSTART:20250309T080000
END:DAYLIGHT
BEGIN:STANDARD
TZOFFSETFROM:-0500
TZOFFSETTO:-0600
TZNAME:CST
DTSTART:20251102T070000
END:STANDARD
BEGIN:DAYLIGHT
TZOFFSETFROM:-0600
TZOFFSETTO:-0500
TZNAME:CDT
DTSTART:20260308T080000
END:DAYLIGHT
BEGIN:STANDARD
TZOFFSETFROM:-0500
TZOFFSETTO:-0600
TZNAME:CST
DTSTART:20261101T070000
END:STANDARD
END:VTIMEZONE
BEGIN:VEVENT
DTSTART;TZID=America/Chicago:20250904T110000
DTEND;TZID=America/Chicago:20250904T120000
DTSTAMP:20260420T051054
CREATED:20250825T123113Z
LAST-MODIFIED:20250825T123846Z
UID:10000612-1756983600-1756987200@www.waa-isa.org
SUMMARY:Urban Forestry Today Webinar: "Safety Update - The New Z133 Standard"
DESCRIPTION:​Join Dr. John Ball\, South Dakota State University\, as he returns to outline the major changes in the Z133 Safety Guidelines\, as they pertain to Arboriculture/Urban Forestry operations. \n\n\n\n​​ To attend live on 9/04/25 @ Noon (Eastern) and receive an ISA/MCA CEU at no cost\,click here or visit www.joinwebinar.com & enter 345-177-307 \n\n\n\n(Space will be limited – all attendees should be prepared to join the live broadcast promptly)
URL:https://www.waa-isa.org/tribe-events/urban-forestry-today-webinar-safety-update-the-new-z133-standard/
CATEGORIES:Green Industry Events
ATTACH;FMTTYPE=image/png:https://www.waa-isa.org/wp-content/uploads/2021/06/UF-Today.png
END:VEVENT
BEGIN:VEVENT
DTSTART;TZID=America/Chicago:20250910T090000
DTEND;TZID=America/Chicago:20250910T150000
DTSTAMP:20260420T051054
CREATED:20250718T150218Z
LAST-MODIFIED:20250718T150221Z
UID:10000607-1757494800-1757516400@www.waa-isa.org
SUMMARY:2025 Urban Forestry Workshop
DESCRIPTION:The 2025 Urban Forestry Workshop topic is Invasive Species Plant Identification and Management. This workshop will be held this fall in six locations throughout the State. Each location will include morning classroom instruction followed by hands-on field demonstrations in the afternoon. The cost of the workshop is $40 per person\, discounted from $70 due to a USDA Urban Forestry Grant awarded to the Wisconsin Department of Natural Resources. (No refunds unless we cancel.) \n\n\n\nTopics:\n\n\n\n\nIdentification of common invasive plants in your area\n\n\n\nThe most recent information on effective invasive plant removal\n\n\n\nPost removal management techniques to minimize regrowth\n\n\n\n\nWorkshop Locations & Registration: \n\n\n\nSeptember 10 – Waukesha Area: Retzer Nature Center\, S14 W28167 Madison St\, Waukesha WI 53188 \n\n\n\nSeptember 23 – Eau Claire Area: Beaver Creek Reserve\, S1 County Road K\, Fall Creek WI 54742 \n\n\n\nSeptember 24 – Wausau Area: Rib Mountain State Park\, 149801 State Park Rd\, Wausau WI 54401 (vehicle admission purchase required) \n\n\n\nOctober 1 – Green Bay Area: Village of Howard\, 670 Hillcrest Heights\, Howard WI 54313 \n\n\n\nOctober 2 – Oshkosh Area: Winnebago County Extension\, 625 E County Rd Y\, Oshkosh WI 54901 \n\n\n\nOctober 7 – Fitchburg Area: Fitchburg Library\, 5530 Lacy Rd\, Fitchburg WI 53711  \n\n\n\nSpeaker Bio\n\n\n\n\n\n\n\nMark RenzProfessor\, UW-Madison \n\n\n\nMark Renz\, PhD\, is a Professor and Extension Weed Specialist with the University of Wisconsin-Madison. He researches and extends information about the biology and management of invasive plants. Research goals in Dr. Renz’s lab are centered on developing information that will improve management by improving the knowledge and understanding of invasive plant biology. Education efforts focus on providing technical information and educational opportunities for agency staff\, consultants\, companies\, and citizens concerned about invasive plants.
URL:https://www.waa-isa.org/tribe-events/2025-urban-forestry-workshop-7/
CATEGORIES:Green Industry Events
ATTACH;FMTTYPE=image/png:https://www.waa-isa.org/wp-content/uploads/2025/07/Screenshot-2025-07-18-at-08-03-57-Urban-Forestry-Workshop-–-Waukesha-County.png
END:VEVENT
BEGIN:VEVENT
DTSTART;TZID=America/Chicago:20250923T090000
DTEND;TZID=America/Chicago:20250923T150000
DTSTAMP:20260420T051054
CREATED:20250718T134741Z
LAST-MODIFIED:20250718T141725Z
UID:10000600-1758618000-1758639600@www.waa-isa.org
SUMMARY:2025 Urban Forestry Workshop
DESCRIPTION:The 2025 Urban Forestry Workshop topic is Invasive Species Plant Identification and Management. This workshop will be held this fall in six locations throughout the State. Each location will include morning classroom instruction followed by hands-on field demonstrations in the afternoon. The cost of the workshop is $40 per person\, discounted from $70 due to a USDA Urban Forestry Grant awarded to the Wisconsin Department of Natural Resources. (No refunds unless we cancel.) \n\n\n\nTopics:\n\n\n\n\nIdentification of common invasive plants in your area\n\n\n\nThe most recent information on effective invasive plant removal\n\n\n\nPost removal management techniques to minimize regrowth\n\n\n\n\nWorkshop Locations & Registration: \n\n\n\nSeptember 23 – Eau Claire Area: Beaver Creek Reserve\, S1 County Road K\, Fall Creek WI 54742 \n\n\n\nSeptember 24 – Wausau Area: Rib Mountain State Park\, 149801 State Park Rd\, Wausau WI 54401 (vehicle admission purchase required) \n\n\n\nOctober 1 – Green Bay Area: Village of Howard\, 670 Hillcrest Heights\, Howard WI 54313 \n\n\n\nOctober 2 – Oshkosh Area: Winnebago County Extension\, 625 E County Rd Y\, Oshkosh WI 54901 \n\n\n\nOctober 7 – Fitchburg Area: Fitchburg Library\, 5530 Lacy Rd\, Fitchburg WI 53711  \n\n\n\nSpeaker Bio\n\n\n\n\n\n\n\nMark RenzProfessor\, UW-Madison \n\n\n\nMark Renz\, PhD\, is a Professor and Extension Weed Specialist with the University of Wisconsin-Madison. He researches and extends information about the biology and management of invasive plants. Research goals in Dr. Renz’s lab are centered on developing information that will improve management by improving the knowledge and understanding of invasive plant biology. Education efforts focus on providing technical information and educational opportunities for agency staff\, consultants\, companies\, and citizens concerned about invasive plants.
URL:https://www.waa-isa.org/tribe-events/2025-urban-forestry-workshop/
CATEGORIES:Green Industry Events
ATTACH;FMTTYPE=image/png:https://www.waa-isa.org/wp-content/uploads/2025/07/Screenshot-2025-07-18-at-08-03-57-Urban-Forestry-Workshop-–-Waukesha-County.png
END:VEVENT
BEGIN:VEVENT
DTSTART;TZID=America/Chicago:20250924T090000
DTEND;TZID=America/Chicago:20250924T150000
DTSTAMP:20260420T051054
CREATED:20250718T135214Z
LAST-MODIFIED:20250718T142247Z
UID:10000602-1758704400-1758726000@www.waa-isa.org
SUMMARY:2025 Urban Forestry Workshop
DESCRIPTION:The 2025 Urban Forestry Workshop topic is Invasive Species Plant Identification and Management. This workshop will be held this fall in six locations throughout the State. Each location will include morning classroom instruction followed by hands-on field demonstrations in the afternoon. The cost of the workshop is $40 per person\, discounted from $70 due to a USDA Urban Forestry Grant awarded to the Wisconsin Department of Natural Resources. (No refunds unless we cancel.) \n\n\n\nTopics:\n\n\n\n\nIdentification of common invasive plants in your area\n\n\n\nThe most recent information on effective invasive plant removal\n\n\n\nPost removal management techniques to minimize regrowth\n\n\n\n\nWorkshop Locations & Registration: \n\n\n\nSeptember 24 – Wausau Area: Rib Mountain State Park\, 149801 State Park Rd\, Wausau WI 54401 (vehicle admission purchase required) \n\n\n\nOctober 1 – Green Bay Area: Village of Howard\, 670 Hillcrest Heights\, Howard WI 54313 \n\n\n\nOctober 2 – Oshkosh Area: Winnebago County Extension\, 625 E County Rd Y\, Oshkosh WI 54901 \n\n\n\nOctober 7 – Fitchburg Area: Fitchburg Library\, 5530 Lacy Rd\, Fitchburg WI 53711  \n\n\n\nSpeaker Bio\n\n\n\n\n\n\n\nMark RenzProfessor\, UW-Madison \n\n\n\nMark Renz\, PhD\, is a Professor and Extension Weed Specialist with the University of Wisconsin-Madison. He researches and extends information about the biology and management of invasive plants. Research goals in Dr. Renz’s lab are centered on developing information that will improve management by improving the knowledge and understanding of invasive plant biology. Education efforts focus on providing technical information and educational opportunities for agency staff\, consultants\, companies\, and citizens concerned about invasive plants.
URL:https://www.waa-isa.org/tribe-events/2025-urban-forestry-workshop-4/
CATEGORIES:Green Industry Events
ATTACH;FMTTYPE=image/png:https://www.waa-isa.org/wp-content/uploads/2025/07/Screenshot-2025-07-18-at-08-03-57-Urban-Forestry-Workshop-–-Waukesha-County.png
END:VEVENT
END:VCALENDAR