BEGIN:VCALENDAR
VERSION:2.0
PRODID:-//WAA-ISA - ECPv6.15.20//NONSGML v1.0//EN
CALSCALE:GREGORIAN
METHOD:PUBLISH
X-ORIGINAL-URL:https://www.waa-isa.org
X-WR-CALDESC:Events for WAA-ISA
REFRESH-INTERVAL;VALUE=DURATION:PT1H
X-Robots-Tag:noindex
X-PUBLISHED-TTL:PT1H
BEGIN:VTIMEZONE
TZID:America/Chicago
BEGIN:DAYLIGHT
TZOFFSETFROM:-0600
TZOFFSETTO:-0500
TZNAME:CDT
DTSTART:20230312T080000
END:DAYLIGHT
BEGIN:STANDARD
TZOFFSETFROM:-0500
TZOFFSETTO:-0600
TZNAME:CST
DTSTART:20231105T070000
END:STANDARD
BEGIN:DAYLIGHT
TZOFFSETFROM:-0600
TZOFFSETTO:-0500
TZNAME:CDT
DTSTART:20240310T080000
END:DAYLIGHT
BEGIN:STANDARD
TZOFFSETFROM:-0500
TZOFFSETTO:-0600
TZNAME:CST
DTSTART:20241103T070000
END:STANDARD
BEGIN:DAYLIGHT
TZOFFSETFROM:-0600
TZOFFSETTO:-0500
TZNAME:CDT
DTSTART:20250309T080000
END:DAYLIGHT
BEGIN:STANDARD
TZOFFSETFROM:-0500
TZOFFSETTO:-0600
TZNAME:CST
DTSTART:20251102T070000
END:STANDARD
END:VTIMEZONE
BEGIN:VEVENT
DTSTART;TZID=America/Chicago:20241212T090000
DTEND;TZID=America/Chicago:20241212T100000
DTSTAMP:20260420T225741
CREATED:20240919T171809Z
LAST-MODIFIED:20240919T171810Z
UID:10000523-1733994000-1733997600@www.waa-isa.org
SUMMARY:EAB University Webinar: Biological invasion by emerald ash borer threatens keystone species indelibly entwined with Indigenous cultures
DESCRIPTION:Black ash (Fraxinus nigra) has cultural and spiritual significance to many Tribal Nations in the US and First Nations in Canada\, but unfortunately is also the most highly preferred and vulnerable host of emerald ash borer (EAB) in North America. Tune in to learn more about black ash\, its importance to cultural lifeways of Indigenous people\, and the ongoing efforts to mitigate the impacts of the EAB invasion on this cultural keystone species. \n\n\n\nNate Siegert\, US Forest Service\, State\, Private & Tribal Forestry\, Forest Health Protection
URL:https://www.waa-isa.org/tribe-events/eab-university-webinar-biological-invasion-by-emerald-ash-borer-threatens-keystone-species-indelibly-entwined-with-indigenous-cultures/
CATEGORIES:Green Industry Events
ATTACH;FMTTYPE=image/png:https://www.waa-isa.org/wp-content/uploads/2024/09/EAB-University-Logo.png
END:VEVENT
BEGIN:VEVENT
DTSTART;TZID=America/Chicago:20241216T130000
DTEND;TZID=America/Chicago:20241216T140000
DTSTAMP:20260420T225741
CREATED:20240104T152552Z
LAST-MODIFIED:20240704T204328Z
UID:10000456-1734354000-1734357600@www.waa-isa.org
SUMMARY:Ask the Experts:A Monthly Garden and Landscape Q&A Session
DESCRIPTION:One Monday each month\, 1:00 –2:00 pm via ZoomConnect with plant health experts in general horticulture\, insects\, and plant diseases from the UW-Madison Division of Extension to ask questions about your trees and shrubs\, garden vegetables and ornamentals\, and lawn. Take this opportunity to cultivate your knowledge and keep your plants thriving.See specific dates and register at https://pddc.wisc.edu/ask-the-experts/
URL:https://www.waa-isa.org/tribe-events/ask-the-expertsa-monthly-garden-and-landscape-qa-session/2024-12-16/
CATEGORIES:Green Industry Events
ATTACH;FMTTYPE=image/png:https://www.waa-isa.org/wp-content/uploads/2024/07/Q-A-PDDC-Monthly-Webinars-logo.png
END:VEVENT
BEGIN:VEVENT
DTSTART;TZID=America/Chicago:20241218T183000
DTEND;TZID=America/Chicago:20241218T203000
DTSTAMP:20260420T225741
CREATED:20231025T141145Z
LAST-MODIFIED:20240704T204239Z
UID:10000406-1734546600-1734553800@www.waa-isa.org
SUMMARY:2024 PDDC Plant Disease Talks
DESCRIPTION:Each month in 2024\, the University of Wisconsin Plant Disease Diagnostics Clinic will sponsor a free Zoom presentation on a plant disease-related topic. Check out descriptions of the talks below. If you have questions about the presentations\, feel free to contact Brian Hudelson at (608) 262-2863 or hudelson@wisc.edu. To register for one or more talks\, visit https://pddc.wisc.edu/. Check at the bottom of the page for a link to the registration form. \n\n\n\n \n\n\n\nTop 10 Plant Diseases of 2023 – Jan 24 6:30pm to 8:30pmLearn about 10 plant diseases that made a splash at the UW- Madison Plant Disease Diagnostics Clinic in 2023. Diseases include both those that were submitted the most commonly to the clinic and those that potentially had the biggest impact from an economic or regulatory standpoint. \n\n\n\n \n\n\n\nFun and Games at the PDDC! – Feb 24 6:30pm to 8:30pmLearn about the UW-Madison Plant Disease Diagnostics Clinic and the services and activities that it sponsors. This presentation will include information on both the diagnostic services and outreach efforts provided by the PDDC\, as well as information on new and (hopefully) fun and exciting projects that have recently debuted or are currently in the works. \n\n\n\n \n\n\n\nFundamentals of Plant Diseases – March 27 6:30pm to 9:00pmLearn about disease-causing organisms and the symptoms they cause\, as well as information on environmental factors that favor disease development. Also\, learn about disease-like disorders caused by non-biological factors such as nutrient imbalances\, pesticide exposures\, environmental pollutants and adverse environmental conditions. \n\n\n\n \n\n\n\nPlant Disease Management by Design: Preventing Plant Disease Problems During the Landscape Design Process – April 24 6:30pm to 8:30pmLearn about common diseases in landscape settings and strategies in site evaluation\, plant selection\, plant installation\, and post-installation maintenance that will help you design and establish landscapes that will have long-term sustainability. \n\n\n\n \n\n\n\nThe Science (and Art) of Plant Disease Diagnosis – May 22 6:30pm to 8:30pmLearn about the fascinating and complex process involved in identifying plant diseases. Learn about how to visually assess for plant disease symptoms\, as well as about the range of lab tests that are often needed to confirm the identity of plant diseases. \n\n\n\n \n\n\n\nPlant Diseases in History – June 26 6:30pm to 8:30pmLearn about how plant diseases have impacted human history and how plant diseases continue to be important in our daily lives and in pop culture. \n\n\n\n \n\n\n\nTen Diseases of Native Plants (and Non-Natives\, Too) – July 24 6:30pm to 8:30pmLearn about common diseases of plants that are native to Wisconsin. This presentation will include information on how to identify these diseases\, as well as information on how to manage them. \n\n\n\n \n\n\n\nHosta Diseases – August 28 6:30pm to 8:30pmLearn about common diseases of hostas. This presentation will include information on how to identify these diseases\, as well as information on how to manage them. \n\n\n\n \n\n\n\nGrowing Healthy Plants: Basics in Plant Disease Management – Sept 25 6:30pm to 8:30pmLearn about common methods for disease control\, their pros and cons\, and how you can adapt these techniques for use in your own home garden. \n\n\n\n \n\n\n\nOrchid Diseases – Oct 23 6:30pm to 8:30pmLearn about common diseases of orchids. This presentation will include information on how to identify these diseases\, as well as information on how to manage them. \n\n\n\n \n\n\n\nConfessions of a Black Thumb: Plants That I Have Killed (or at Least Seriously Maimed) – Nov 20 6:30pm to 8:30pmLearn about the favorite plants of Brian Hudelson (aka Dr. Death) and his epic failures in attempting to grow these plants in his home garden\, either through his encouragement of plant diseases\, his insistence on practicing “Darwinian gardening” or through his sheer gardening stupidity. Use these cautionary tales to improve your own gardening skills. \n\n\n\n \n\n\n\nEvil Twins: Plant Disease Look-Alikes – Dec 18 6:30pm to 8:30pmLearn about common diseases that have similar symptoms and can be misidentified\, but may have very different management strategies. \n\n\n\n2024_PDDC_Plant_Disease_TalksDownload
URL:https://www.waa-isa.org/tribe-events/2024-pddc-plant-disease-talks/2024-12-18/
CATEGORIES:Green Industry Events
ATTACH;FMTTYPE=image/png:https://www.waa-isa.org/wp-content/uploads/2023/10/2024-PDDC-monthly-talks-logo.png
END:VEVENT
BEGIN:VEVENT
DTSTART;TZID=America/Chicago:20241218T183000
DTEND;TZID=America/Chicago:20241218T203000
DTSTAMP:20260420T225741
CREATED:20260401T125646Z
LAST-MODIFIED:20260401T130349Z
UID:10000726-1734546600-1734553800@www.waa-isa.org
SUMMARY:2026 PDDC Plant Disease Talks
DESCRIPTION:For information about all the PDDC talks visit this link: Plant disease talks \n\n\n\n \n\n\n\nPlant Disease Management by Design:Preventing Plant Disease Problems During the Landscape Design Process\n\n\n\nDate:  April 22\, 2026Time:  6:30 – 8:30 pm\n\n\n\nDescription\n\n\n\nLearn about common diseases in landscape settings and strategies in site evaluation\, plant selection\, plant installation\, and post-installation maintenance that will help you design and establish landscapes that will have long-term sustainability. \n\n\n\nRegister for this talk \n\n\n\n \n\n\n\nThe Science (and Art) of Plant Disease Diagnosis \n\n\n\nDate:  May 27\, 2026Time:  6:30 – 8:30 pm\n\n\n\nDescription\n\n\n\nLearn about the fascinating and complex process involved in identifying plant diseases.  Learn about how to visually assess for plant disease symptoms\, as well as about the range of lab tests that are often needed to confirm the identity of plant diseases. \n\n\n\nRegister for this talk \n\n\n\nPlant Diseases in History\n\n\n\nDate:  June 24\, 2026Time:  6:30 – 8:30 pm\n\n\n\nDescription\n\n\n\nLearn about how plant diseases have impacted human history and how plant diseases continue to be important in our daily lives and in pop culture. \n\n\n\nRegister for this talk \n\n\n\nEvil Twins:  Plant Disease Look-Alikes\n\n\n\nDate:  July 22\, 2026Time:  6:30 – 8:30 pm\n\n\n\nDescription\n\n\n\nLearn about common diseases that have similar symptoms and can be misidentified\, but may have very different management strategies. \n\n\n\nRegister for this talk \n\n\n\n \n\n\n\nHosta Diseases\n\n\n\nDate:  August 26\, 2026Time:  6:30 – 8:30 pm\n\n\n\nDescription\n\n\n\nLearn about common diseases of hostas.  This presentation will include information on how to identify these diseases\, as well as information on how to manage them. \n\n\n\nRegister for this talk \n\n\n\n \n\n\n\nGrowing Healthy Plants:  Basics in Plant Disease Management\n\n\n\nDate:  September 23\, 2026Time:  6:30 – 8:30 pm\n\n\n\nDescription\n\n\n\nLearn about common methods for disease control\, their pros and cons\, and how you can adapt these techniques for use in your own home garden. \n\n\n\nRegister for this talk \n\n\n\nOrchid Diseases\n\n\n\nDate:  October 28\, 2026Time:  6:30 – 8:30 pm\n\n\n\nDescription\n\n\n\nLearn about common diseases of orchids.  This presentation will include information on how to identify these diseases\, as well as information on how to manage them. \n\n\n\nRegister for this talk \n\n\n\nConfessions of a Black Thumb:  Plants That I Have Killed (or at Least Seriously Maimed)\n\n\n\nDate:  November 18\, 2026Time:  6:30 – 8:30 pm\n\n\n\nDescription\n\n\n\nLearn about the favorite plants of Brian Hudelson (aka Dr. Death) and his epic failures in attempting to grow these plants in his home garden\, either through his encouragement of plant diseases\, his insistence on practicing “Darwinian gardening” or through his sheer gardening stupidity.  Use these cautionary tales to improve your own gardening skills. \n\n\n\nRegister for this talk \n\n\n\nPlant Disease Holiday Gift List\n\n\n\nDate:  December 16\, 2026Time:  6:30 – 8:30 pm\n\n\n\nDescription\n\n\n\nLearn about plant diseases that can be beneficial to people and might make a great holiday gift for a loved one. \n\n\n\nRegister for this talk
URL:https://www.waa-isa.org/tribe-events/2026-pddc-plant-disease-talks/2024-12-18/
CATEGORIES:Green Industry Events
ATTACH;FMTTYPE=image/png:https://www.waa-isa.org/wp-content/uploads/2023/10/2024-PDDC-monthly-talks-logo.png
END:VEVENT
END:VCALENDAR