BEGIN:VCALENDAR
VERSION:2.0
PRODID:-//WAA-ISA - ECPv6.15.20//NONSGML v1.0//EN
CALSCALE:GREGORIAN
METHOD:PUBLISH
X-WR-CALNAME:WAA-ISA
X-ORIGINAL-URL:https://www.waa-isa.org
X-WR-CALDESC:Events for WAA-ISA
REFRESH-INTERVAL;VALUE=DURATION:PT1H
X-Robots-Tag:noindex
X-PUBLISHED-TTL:PT1H
BEGIN:VTIMEZONE
TZID:America/Chicago
BEGIN:DAYLIGHT
TZOFFSETFROM:-0600
TZOFFSETTO:-0500
TZNAME:CDT
DTSTART:20230312T080000
END:DAYLIGHT
BEGIN:STANDARD
TZOFFSETFROM:-0500
TZOFFSETTO:-0600
TZNAME:CST
DTSTART:20231105T070000
END:STANDARD
BEGIN:DAYLIGHT
TZOFFSETFROM:-0600
TZOFFSETTO:-0500
TZNAME:CDT
DTSTART:20240310T080000
END:DAYLIGHT
BEGIN:STANDARD
TZOFFSETFROM:-0500
TZOFFSETTO:-0600
TZNAME:CST
DTSTART:20241103T070000
END:STANDARD
BEGIN:DAYLIGHT
TZOFFSETFROM:-0600
TZOFFSETTO:-0500
TZNAME:CDT
DTSTART:20250309T080000
END:DAYLIGHT
BEGIN:STANDARD
TZOFFSETFROM:-0500
TZOFFSETTO:-0600
TZNAME:CST
DTSTART:20251102T070000
END:STANDARD
END:VTIMEZONE
BEGIN:VEVENT
DTSTART;TZID=America/Chicago:20241101T000000
DTEND;TZID=America/Chicago:20241130T235959
DTSTAMP:20260421T002126
CREATED:20241015T151545Z
LAST-MODIFIED:20241015T151546Z
UID:10000532-1730419200-1733011199@www.waa-isa.org
SUMMARY:ISA 2024 VIRTUAL EVENT
DESCRIPTION:Register now for the ISA 2024 Virtual Event! This year’s Virtual Event is better than ever and offers a more convenient\, customizable experience. The event will be entirely on-demand\, allowing participants to view sessions at their convenience while offering the chance to earn up to 14.5 CEUs. PLEASE REMEMBER TO SELECT WAA AS YOUR CHAPTER WHEN YOU REGISTER! \n\n\n\nHear from leaders across the globe and gain valuable knowledge on topics related to research\, practice\, technology and much more. This engaging lineup of sessions will cater to a variety of interests and ensure there’s something for everyone. \n\n\n\nISA is excited to offer participants a dedicated Spanish track as well as translations in more than 60 languages for all sessions. This will allow ISA’s diverse community from all over the world to experience the event in their native language through Wordly\, a cutting-edge program designed to make events more accessible to a global audience. \n\n\n\nThe Virtual Event will be open from 1 November – 30 November 2024\, ensuring those up for recertification on 31 December 2024 will have time to earn any additional CEUs they might need. The deadline to register is 23 November.Whether you’re a busy professional or have other commitments\, register today for the on-demand ISA Virtual Event\, allowing you to make the most of the event without disrupting your daily routine.
URL:https://www.waa-isa.org/tribe-events/isa-2024-virtual-event/
CATEGORIES:Green Industry Events
ATTACH;FMTTYPE=image/jpeg:https://www.waa-isa.org/wp-content/uploads/2024/10/ISA_VC_DigitalAd-scaled.jpg
END:VEVENT
BEGIN:VEVENT
DTSTART;TZID=America/Chicago:20241113T110000
DTEND;TZID=America/Chicago:20241113T120000
DTSTAMP:20260421T002126
CREATED:20240919T164600Z
LAST-MODIFIED:20240919T164601Z
UID:10000522-1731495600-1731499200@www.waa-isa.org
SUMMARY:EAB University Webinar: Recognizing Invasive vs. Native Trees
DESCRIPTION:Identification features will be outlined to help you identify invasive trees that may be similar to some of our native forest trees here in the Midwest. Field identification is important to select species to control and species to retain in invasive plant management. Field ID characteristics will be provided to help you separate the native from the exotic invasive. \n\n\n\nLenny Farlee\, Purdue Extension Forester
URL:https://www.waa-isa.org/tribe-events/eab-university-webinar-recognizing-invasive-vs-native-trees/
CATEGORIES:Green Industry Events
ATTACH;FMTTYPE=image/png:https://www.waa-isa.org/wp-content/uploads/2024/09/EAB-University-Logo.png
END:VEVENT
BEGIN:VEVENT
DTSTART;TZID=America/Chicago:20241118T130000
DTEND;TZID=America/Chicago:20241118T140000
DTSTAMP:20260421T002126
CREATED:20240104T152552Z
LAST-MODIFIED:20240704T204328Z
UID:10000455-1731934800-1731938400@www.waa-isa.org
SUMMARY:Ask the Experts:A Monthly Garden and Landscape Q&A Session
DESCRIPTION:One Monday each month\, 1:00 –2:00 pm via ZoomConnect with plant health experts in general horticulture\, insects\, and plant diseases from the UW-Madison Division of Extension to ask questions about your trees and shrubs\, garden vegetables and ornamentals\, and lawn. Take this opportunity to cultivate your knowledge and keep your plants thriving.See specific dates and register at https://pddc.wisc.edu/ask-the-experts/
URL:https://www.waa-isa.org/tribe-events/ask-the-expertsa-monthly-garden-and-landscape-qa-session/2024-11-18/
CATEGORIES:Green Industry Events
ATTACH;FMTTYPE=image/png:https://www.waa-isa.org/wp-content/uploads/2024/07/Q-A-PDDC-Monthly-Webinars-logo.png
END:VEVENT
BEGIN:VEVENT
DTSTART;TZID=America/Chicago:20241120T080000
DTEND;TZID=America/Chicago:20241121T170000
DTSTAMP:20260421T002126
CREATED:20240425T135618Z
LAST-MODIFIED:20240425T135618Z
UID:10000480-1732089600-1732208400@www.waa-isa.org
SUMMARY:Arbor Day Foundation: Partners In Community Forestry Conference-Chicago\, IL
DESCRIPTION:This gathering unites passionate individuals\, communities\, organizations\, and leaders to explore innovative solutions\, share insights\, and collaborate on the future of urban forestry. Join leaders across the industry as we focus on strengthening the bonds between people and trees\, fostering sustainable practices\, and creating green\, thriving urban landscapes.
URL:https://www.waa-isa.org/tribe-events/arbor-day-foundation-partners-in-community-forestry-conference-chicago-il/
CATEGORIES:Green Industry Events
ATTACH;FMTTYPE=image/png:https://www.waa-isa.org/wp-content/uploads/2024/04/Arbor-Day-Community-Forestry-logo.png
END:VEVENT
BEGIN:VEVENT
DTSTART;TZID=America/Chicago:20241120T183000
DTEND;TZID=America/Chicago:20241120T203000
DTSTAMP:20260421T002126
CREATED:20231025T141145Z
LAST-MODIFIED:20240704T204239Z
UID:10000405-1732127400-1732134600@www.waa-isa.org
SUMMARY:2024 PDDC Plant Disease Talks
DESCRIPTION:Each month in 2024\, the University of Wisconsin Plant Disease Diagnostics Clinic will sponsor a free Zoom presentation on a plant disease-related topic. Check out descriptions of the talks below. If you have questions about the presentations\, feel free to contact Brian Hudelson at (608) 262-2863 or hudelson@wisc.edu. To register for one or more talks\, visit https://pddc.wisc.edu/. Check at the bottom of the page for a link to the registration form. \n\n\n\n \n\n\n\nTop 10 Plant Diseases of 2023 – Jan 24 6:30pm to 8:30pmLearn about 10 plant diseases that made a splash at the UW- Madison Plant Disease Diagnostics Clinic in 2023. Diseases include both those that were submitted the most commonly to the clinic and those that potentially had the biggest impact from an economic or regulatory standpoint. \n\n\n\n \n\n\n\nFun and Games at the PDDC! – Feb 24 6:30pm to 8:30pmLearn about the UW-Madison Plant Disease Diagnostics Clinic and the services and activities that it sponsors. This presentation will include information on both the diagnostic services and outreach efforts provided by the PDDC\, as well as information on new and (hopefully) fun and exciting projects that have recently debuted or are currently in the works. \n\n\n\n \n\n\n\nFundamentals of Plant Diseases – March 27 6:30pm to 9:00pmLearn about disease-causing organisms and the symptoms they cause\, as well as information on environmental factors that favor disease development. Also\, learn about disease-like disorders caused by non-biological factors such as nutrient imbalances\, pesticide exposures\, environmental pollutants and adverse environmental conditions. \n\n\n\n \n\n\n\nPlant Disease Management by Design: Preventing Plant Disease Problems During the Landscape Design Process – April 24 6:30pm to 8:30pmLearn about common diseases in landscape settings and strategies in site evaluation\, plant selection\, plant installation\, and post-installation maintenance that will help you design and establish landscapes that will have long-term sustainability. \n\n\n\n \n\n\n\nThe Science (and Art) of Plant Disease Diagnosis – May 22 6:30pm to 8:30pmLearn about the fascinating and complex process involved in identifying plant diseases. Learn about how to visually assess for plant disease symptoms\, as well as about the range of lab tests that are often needed to confirm the identity of plant diseases. \n\n\n\n \n\n\n\nPlant Diseases in History – June 26 6:30pm to 8:30pmLearn about how plant diseases have impacted human history and how plant diseases continue to be important in our daily lives and in pop culture. \n\n\n\n \n\n\n\nTen Diseases of Native Plants (and Non-Natives\, Too) – July 24 6:30pm to 8:30pmLearn about common diseases of plants that are native to Wisconsin. This presentation will include information on how to identify these diseases\, as well as information on how to manage them. \n\n\n\n \n\n\n\nHosta Diseases – August 28 6:30pm to 8:30pmLearn about common diseases of hostas. This presentation will include information on how to identify these diseases\, as well as information on how to manage them. \n\n\n\n \n\n\n\nGrowing Healthy Plants: Basics in Plant Disease Management – Sept 25 6:30pm to 8:30pmLearn about common methods for disease control\, their pros and cons\, and how you can adapt these techniques for use in your own home garden. \n\n\n\n \n\n\n\nOrchid Diseases – Oct 23 6:30pm to 8:30pmLearn about common diseases of orchids. This presentation will include information on how to identify these diseases\, as well as information on how to manage them. \n\n\n\n \n\n\n\nConfessions of a Black Thumb: Plants That I Have Killed (or at Least Seriously Maimed) – Nov 20 6:30pm to 8:30pmLearn about the favorite plants of Brian Hudelson (aka Dr. Death) and his epic failures in attempting to grow these plants in his home garden\, either through his encouragement of plant diseases\, his insistence on practicing “Darwinian gardening” or through his sheer gardening stupidity. Use these cautionary tales to improve your own gardening skills. \n\n\n\n \n\n\n\nEvil Twins: Plant Disease Look-Alikes – Dec 18 6:30pm to 8:30pmLearn about common diseases that have similar symptoms and can be misidentified\, but may have very different management strategies. \n\n\n\n2024_PDDC_Plant_Disease_TalksDownload
URL:https://www.waa-isa.org/tribe-events/2024-pddc-plant-disease-talks/2024-11-20/
CATEGORIES:Green Industry Events
ATTACH;FMTTYPE=image/png:https://www.waa-isa.org/wp-content/uploads/2023/10/2024-PDDC-monthly-talks-logo.png
END:VEVENT
BEGIN:VEVENT
DTSTART;TZID=America/Chicago:20241120T183000
DTEND;TZID=America/Chicago:20241120T203000
DTSTAMP:20260421T002126
CREATED:20260401T125646Z
LAST-MODIFIED:20260401T130349Z
UID:10000725-1732127400-1732134600@www.waa-isa.org
SUMMARY:2026 PDDC Plant Disease Talks
DESCRIPTION:For information about all the PDDC talks visit this link: Plant disease talks \n\n\n\n \n\n\n\nPlant Disease Management by Design:Preventing Plant Disease Problems During the Landscape Design Process\n\n\n\nDate:  April 22\, 2026Time:  6:30 – 8:30 pm\n\n\n\nDescription\n\n\n\nLearn about common diseases in landscape settings and strategies in site evaluation\, plant selection\, plant installation\, and post-installation maintenance that will help you design and establish landscapes that will have long-term sustainability. \n\n\n\nRegister for this talk \n\n\n\n \n\n\n\nThe Science (and Art) of Plant Disease Diagnosis \n\n\n\nDate:  May 27\, 2026Time:  6:30 – 8:30 pm\n\n\n\nDescription\n\n\n\nLearn about the fascinating and complex process involved in identifying plant diseases.  Learn about how to visually assess for plant disease symptoms\, as well as about the range of lab tests that are often needed to confirm the identity of plant diseases. \n\n\n\nRegister for this talk \n\n\n\nPlant Diseases in History\n\n\n\nDate:  June 24\, 2026Time:  6:30 – 8:30 pm\n\n\n\nDescription\n\n\n\nLearn about how plant diseases have impacted human history and how plant diseases continue to be important in our daily lives and in pop culture. \n\n\n\nRegister for this talk \n\n\n\nEvil Twins:  Plant Disease Look-Alikes\n\n\n\nDate:  July 22\, 2026Time:  6:30 – 8:30 pm\n\n\n\nDescription\n\n\n\nLearn about common diseases that have similar symptoms and can be misidentified\, but may have very different management strategies. \n\n\n\nRegister for this talk \n\n\n\n \n\n\n\nHosta Diseases\n\n\n\nDate:  August 26\, 2026Time:  6:30 – 8:30 pm\n\n\n\nDescription\n\n\n\nLearn about common diseases of hostas.  This presentation will include information on how to identify these diseases\, as well as information on how to manage them. \n\n\n\nRegister for this talk \n\n\n\n \n\n\n\nGrowing Healthy Plants:  Basics in Plant Disease Management\n\n\n\nDate:  September 23\, 2026Time:  6:30 – 8:30 pm\n\n\n\nDescription\n\n\n\nLearn about common methods for disease control\, their pros and cons\, and how you can adapt these techniques for use in your own home garden. \n\n\n\nRegister for this talk \n\n\n\nOrchid Diseases\n\n\n\nDate:  October 28\, 2026Time:  6:30 – 8:30 pm\n\n\n\nDescription\n\n\n\nLearn about common diseases of orchids.  This presentation will include information on how to identify these diseases\, as well as information on how to manage them. \n\n\n\nRegister for this talk \n\n\n\nConfessions of a Black Thumb:  Plants That I Have Killed (or at Least Seriously Maimed)\n\n\n\nDate:  November 18\, 2026Time:  6:30 – 8:30 pm\n\n\n\nDescription\n\n\n\nLearn about the favorite plants of Brian Hudelson (aka Dr. Death) and his epic failures in attempting to grow these plants in his home garden\, either through his encouragement of plant diseases\, his insistence on practicing “Darwinian gardening” or through his sheer gardening stupidity.  Use these cautionary tales to improve your own gardening skills. \n\n\n\nRegister for this talk \n\n\n\nPlant Disease Holiday Gift List\n\n\n\nDate:  December 16\, 2026Time:  6:30 – 8:30 pm\n\n\n\nDescription\n\n\n\nLearn about plant diseases that can be beneficial to people and might make a great holiday gift for a loved one. \n\n\n\nRegister for this talk
URL:https://www.waa-isa.org/tribe-events/2026-pddc-plant-disease-talks/2024-11-20/
CATEGORIES:Green Industry Events
ATTACH;FMTTYPE=image/png:https://www.waa-isa.org/wp-content/uploads/2023/10/2024-PDDC-monthly-talks-logo.png
END:VEVENT
END:VCALENDAR