BEGIN:VCALENDAR
VERSION:2.0
PRODID:-//WAA-ISA - ECPv6.15.20//NONSGML v1.0//EN
CALSCALE:GREGORIAN
METHOD:PUBLISH
X-ORIGINAL-URL:https://www.waa-isa.org
X-WR-CALDESC:Events for WAA-ISA
REFRESH-INTERVAL;VALUE=DURATION:PT1H
X-Robots-Tag:noindex
X-PUBLISHED-TTL:PT1H
BEGIN:VTIMEZONE
TZID:America/Chicago
BEGIN:DAYLIGHT
TZOFFSETFROM:-0600
TZOFFSETTO:-0500
TZNAME:CDT
DTSTART:20230312T080000
END:DAYLIGHT
BEGIN:STANDARD
TZOFFSETFROM:-0500
TZOFFSETTO:-0600
TZNAME:CST
DTSTART:20231105T070000
END:STANDARD
BEGIN:DAYLIGHT
TZOFFSETFROM:-0600
TZOFFSETTO:-0500
TZNAME:CDT
DTSTART:20240310T080000
END:DAYLIGHT
BEGIN:STANDARD
TZOFFSETFROM:-0500
TZOFFSETTO:-0600
TZNAME:CST
DTSTART:20241103T070000
END:STANDARD
BEGIN:DAYLIGHT
TZOFFSETFROM:-0600
TZOFFSETTO:-0500
TZNAME:CDT
DTSTART:20250309T080000
END:DAYLIGHT
BEGIN:STANDARD
TZOFFSETFROM:-0500
TZOFFSETTO:-0600
TZNAME:CST
DTSTART:20251102T070000
END:STANDARD
END:VTIMEZONE
BEGIN:VEVENT
DTSTART;TZID=America/Chicago:20240918T080000
DTEND;TZID=America/Chicago:20240918T170000
DTSTAMP:20260421T031400
CREATED:20240610T181852Z
LAST-MODIFIED:20240610T181853Z
UID:10000493-1726646400-1726678800@www.waa-isa.org
SUMMARY:Saluting Branches
DESCRIPTION:The 10th Annual Saluting Branches Day of Service will be held at three separate locations in Wisconsin to include Superior\, Spooner and Union Grove. Registration is open at www.salutingbranches.org. If you’re interested in volunteering within the organization in some capacity\, taking on the task of site leader at one of the above locations or volunteering as a participant on the day of service please consult the website for more info.
URL:https://www.waa-isa.org/tribe-events/saluting-branches-4/
CATEGORIES:Green Industry Events
ATTACH;FMTTYPE=image/jpeg:https://www.waa-isa.org/wp-content/uploads/2021/09/saluting-branches-pic.jpg
END:VEVENT
BEGIN:VEVENT
DTSTART;TZID=America/Chicago:20240920T083000
DTEND;TZID=America/Chicago:20240920T120000
DTSTAMP:20260421T031400
CREATED:20240730T115814Z
LAST-MODIFIED:20240730T115817Z
UID:10000508-1726821000-1726833600@www.waa-isa.org
SUMMARY:2024 Urban Forestry Workshop
DESCRIPTION:Educational Programs \n\n\n\nJoin us for a two-part workshop on the value and uses of bare root trees and how to use gravel beds to hold and maintain bare root stock before it is planted. Part one will be delivered via Zoom on Friday\, September 20th. Part two will be an in-person field day visit to an operating gravel bed. You will select one of the six locations around the state during registration. ISA CEUs will be available for both parts. \n\n\n\nThe cost of the workshop is $30. Register Here. Registration deadline is September 12. (No refunds.) \n\n\n\nA printable flyer is available here.  \n\n\n\nZoom Session – September 20\, 8:30 – noonIn the first hour\, Dr. Laura Jull\, UW-Madison Extension Woody Ornamental Specialist will discuss the advantages of using bare root trees and suitable species for Wisconsin. We will then be joined by Dr. Gary Johnson\, Professor Emeritus\, University of Minnesota who will review gravel bed design set-up and stocking followed by a discussion of species performance\, care\, harvest\, and planting. \n\n\n\nIn-Person Field Day Events \n\n\n\nTuesday\, September 24Wednesday\, September 25Thursday\, September 26Green Bay\, 9:00-11:00 amFranklin\, 8:00-10:00 amMarshfield\, 9:00-11:00 amMenomonie\, 1:00-3:00 pmFranklin\, 10:15 am-12:15 pmSheboygan\, 9:00-11:00 amWestport (Dane Co.)\, 1:00-3:00 pm\n\n\n\n \n\n\n\nFor questions regarding registration\, email Lisa at lboyer@waukeshacounty.gov.
URL:https://www.waa-isa.org/tribe-events/2024-urban-forestry-workshop/
CATEGORIES:Green Industry Events
ATTACH;FMTTYPE=image/png:https://www.waa-isa.org/wp-content/uploads/2024/07/ext_waukesha2.png
END:VEVENT
BEGIN:VEVENT
DTSTART;TZID=America/Chicago:20240923T130000
DTEND;TZID=America/Chicago:20240923T140000
DTSTAMP:20260421T031400
CREATED:20240104T152552Z
LAST-MODIFIED:20240704T204328Z
UID:10000453-1727096400-1727100000@www.waa-isa.org
SUMMARY:Ask the Experts:A Monthly Garden and Landscape Q&A Session
DESCRIPTION:One Monday each month\, 1:00 –2:00 pm via ZoomConnect with plant health experts in general horticulture\, insects\, and plant diseases from the UW-Madison Division of Extension to ask questions about your trees and shrubs\, garden vegetables and ornamentals\, and lawn. Take this opportunity to cultivate your knowledge and keep your plants thriving.See specific dates and register at https://pddc.wisc.edu/ask-the-experts/
URL:https://www.waa-isa.org/tribe-events/ask-the-expertsa-monthly-garden-and-landscape-qa-session/2024-09-23/
CATEGORIES:Green Industry Events
ATTACH;FMTTYPE=image/png:https://www.waa-isa.org/wp-content/uploads/2024/07/Q-A-PDDC-Monthly-Webinars-logo.png
END:VEVENT
BEGIN:VEVENT
DTSTART;TZID=America/Chicago:20240925T183000
DTEND;TZID=America/Chicago:20240925T203000
DTSTAMP:20260421T031400
CREATED:20231025T141145Z
LAST-MODIFIED:20240704T204239Z
UID:10000403-1727289000-1727296200@www.waa-isa.org
SUMMARY:2024 PDDC Plant Disease Talks
DESCRIPTION:Each month in 2024\, the University of Wisconsin Plant Disease Diagnostics Clinic will sponsor a free Zoom presentation on a plant disease-related topic. Check out descriptions of the talks below. If you have questions about the presentations\, feel free to contact Brian Hudelson at (608) 262-2863 or hudelson@wisc.edu. To register for one or more talks\, visit https://pddc.wisc.edu/. Check at the bottom of the page for a link to the registration form. \n\n\n\n \n\n\n\nTop 10 Plant Diseases of 2023 – Jan 24 6:30pm to 8:30pmLearn about 10 plant diseases that made a splash at the UW- Madison Plant Disease Diagnostics Clinic in 2023. Diseases include both those that were submitted the most commonly to the clinic and those that potentially had the biggest impact from an economic or regulatory standpoint. \n\n\n\n \n\n\n\nFun and Games at the PDDC! – Feb 24 6:30pm to 8:30pmLearn about the UW-Madison Plant Disease Diagnostics Clinic and the services and activities that it sponsors. This presentation will include information on both the diagnostic services and outreach efforts provided by the PDDC\, as well as information on new and (hopefully) fun and exciting projects that have recently debuted or are currently in the works. \n\n\n\n \n\n\n\nFundamentals of Plant Diseases – March 27 6:30pm to 9:00pmLearn about disease-causing organisms and the symptoms they cause\, as well as information on environmental factors that favor disease development. Also\, learn about disease-like disorders caused by non-biological factors such as nutrient imbalances\, pesticide exposures\, environmental pollutants and adverse environmental conditions. \n\n\n\n \n\n\n\nPlant Disease Management by Design: Preventing Plant Disease Problems During the Landscape Design Process – April 24 6:30pm to 8:30pmLearn about common diseases in landscape settings and strategies in site evaluation\, plant selection\, plant installation\, and post-installation maintenance that will help you design and establish landscapes that will have long-term sustainability. \n\n\n\n \n\n\n\nThe Science (and Art) of Plant Disease Diagnosis – May 22 6:30pm to 8:30pmLearn about the fascinating and complex process involved in identifying plant diseases. Learn about how to visually assess for plant disease symptoms\, as well as about the range of lab tests that are often needed to confirm the identity of plant diseases. \n\n\n\n \n\n\n\nPlant Diseases in History – June 26 6:30pm to 8:30pmLearn about how plant diseases have impacted human history and how plant diseases continue to be important in our daily lives and in pop culture. \n\n\n\n \n\n\n\nTen Diseases of Native Plants (and Non-Natives\, Too) – July 24 6:30pm to 8:30pmLearn about common diseases of plants that are native to Wisconsin. This presentation will include information on how to identify these diseases\, as well as information on how to manage them. \n\n\n\n \n\n\n\nHosta Diseases – August 28 6:30pm to 8:30pmLearn about common diseases of hostas. This presentation will include information on how to identify these diseases\, as well as information on how to manage them. \n\n\n\n \n\n\n\nGrowing Healthy Plants: Basics in Plant Disease Management – Sept 25 6:30pm to 8:30pmLearn about common methods for disease control\, their pros and cons\, and how you can adapt these techniques for use in your own home garden. \n\n\n\n \n\n\n\nOrchid Diseases – Oct 23 6:30pm to 8:30pmLearn about common diseases of orchids. This presentation will include information on how to identify these diseases\, as well as information on how to manage them. \n\n\n\n \n\n\n\nConfessions of a Black Thumb: Plants That I Have Killed (or at Least Seriously Maimed) – Nov 20 6:30pm to 8:30pmLearn about the favorite plants of Brian Hudelson (aka Dr. Death) and his epic failures in attempting to grow these plants in his home garden\, either through his encouragement of plant diseases\, his insistence on practicing “Darwinian gardening” or through his sheer gardening stupidity. Use these cautionary tales to improve your own gardening skills. \n\n\n\n \n\n\n\nEvil Twins: Plant Disease Look-Alikes – Dec 18 6:30pm to 8:30pmLearn about common diseases that have similar symptoms and can be misidentified\, but may have very different management strategies. \n\n\n\n2024_PDDC_Plant_Disease_TalksDownload
URL:https://www.waa-isa.org/tribe-events/2024-pddc-plant-disease-talks/2024-09-25/
CATEGORIES:Green Industry Events
ATTACH;FMTTYPE=image/png:https://www.waa-isa.org/wp-content/uploads/2023/10/2024-PDDC-monthly-talks-logo.png
END:VEVENT
BEGIN:VEVENT
DTSTART;TZID=America/Chicago:20240925T183000
DTEND;TZID=America/Chicago:20240925T203000
DTSTAMP:20260421T031400
CREATED:20260401T125646Z
LAST-MODIFIED:20260401T130349Z
UID:10000723-1727289000-1727296200@www.waa-isa.org
SUMMARY:2026 PDDC Plant Disease Talks
DESCRIPTION:For information about all the PDDC talks visit this link: Plant disease talks \n\n\n\n \n\n\n\nPlant Disease Management by Design:Preventing Plant Disease Problems During the Landscape Design Process\n\n\n\nDate:  April 22\, 2026Time:  6:30 – 8:30 pm\n\n\n\nDescription\n\n\n\nLearn about common diseases in landscape settings and strategies in site evaluation\, plant selection\, plant installation\, and post-installation maintenance that will help you design and establish landscapes that will have long-term sustainability. \n\n\n\nRegister for this talk \n\n\n\n \n\n\n\nThe Science (and Art) of Plant Disease Diagnosis \n\n\n\nDate:  May 27\, 2026Time:  6:30 – 8:30 pm\n\n\n\nDescription\n\n\n\nLearn about the fascinating and complex process involved in identifying plant diseases.  Learn about how to visually assess for plant disease symptoms\, as well as about the range of lab tests that are often needed to confirm the identity of plant diseases. \n\n\n\nRegister for this talk \n\n\n\nPlant Diseases in History\n\n\n\nDate:  June 24\, 2026Time:  6:30 – 8:30 pm\n\n\n\nDescription\n\n\n\nLearn about how plant diseases have impacted human history and how plant diseases continue to be important in our daily lives and in pop culture. \n\n\n\nRegister for this talk \n\n\n\nEvil Twins:  Plant Disease Look-Alikes\n\n\n\nDate:  July 22\, 2026Time:  6:30 – 8:30 pm\n\n\n\nDescription\n\n\n\nLearn about common diseases that have similar symptoms and can be misidentified\, but may have very different management strategies. \n\n\n\nRegister for this talk \n\n\n\n \n\n\n\nHosta Diseases\n\n\n\nDate:  August 26\, 2026Time:  6:30 – 8:30 pm\n\n\n\nDescription\n\n\n\nLearn about common diseases of hostas.  This presentation will include information on how to identify these diseases\, as well as information on how to manage them. \n\n\n\nRegister for this talk \n\n\n\n \n\n\n\nGrowing Healthy Plants:  Basics in Plant Disease Management\n\n\n\nDate:  September 23\, 2026Time:  6:30 – 8:30 pm\n\n\n\nDescription\n\n\n\nLearn about common methods for disease control\, their pros and cons\, and how you can adapt these techniques for use in your own home garden. \n\n\n\nRegister for this talk \n\n\n\nOrchid Diseases\n\n\n\nDate:  October 28\, 2026Time:  6:30 – 8:30 pm\n\n\n\nDescription\n\n\n\nLearn about common diseases of orchids.  This presentation will include information on how to identify these diseases\, as well as information on how to manage them. \n\n\n\nRegister for this talk \n\n\n\nConfessions of a Black Thumb:  Plants That I Have Killed (or at Least Seriously Maimed)\n\n\n\nDate:  November 18\, 2026Time:  6:30 – 8:30 pm\n\n\n\nDescription\n\n\n\nLearn about the favorite plants of Brian Hudelson (aka Dr. Death) and his epic failures in attempting to grow these plants in his home garden\, either through his encouragement of plant diseases\, his insistence on practicing “Darwinian gardening” or through his sheer gardening stupidity.  Use these cautionary tales to improve your own gardening skills. \n\n\n\nRegister for this talk \n\n\n\nPlant Disease Holiday Gift List\n\n\n\nDate:  December 16\, 2026Time:  6:30 – 8:30 pm\n\n\n\nDescription\n\n\n\nLearn about plant diseases that can be beneficial to people and might make a great holiday gift for a loved one. \n\n\n\nRegister for this talk
URL:https://www.waa-isa.org/tribe-events/2026-pddc-plant-disease-talks/2024-09-25/
CATEGORIES:Green Industry Events
ATTACH;FMTTYPE=image/png:https://www.waa-isa.org/wp-content/uploads/2023/10/2024-PDDC-monthly-talks-logo.png
END:VEVENT
END:VCALENDAR