BEGIN:VCALENDAR
VERSION:2.0
PRODID:-//WAA-ISA - ECPv6.15.20//NONSGML v1.0//EN
CALSCALE:GREGORIAN
METHOD:PUBLISH
X-ORIGINAL-URL:https://www.waa-isa.org
X-WR-CALDESC:Events for WAA-ISA
REFRESH-INTERVAL;VALUE=DURATION:PT1H
X-Robots-Tag:noindex
X-PUBLISHED-TTL:PT1H
BEGIN:VTIMEZONE
TZID:America/Chicago
BEGIN:DAYLIGHT
TZOFFSETFROM:-0600
TZOFFSETTO:-0500
TZNAME:CDT
DTSTART:20220313T080000
END:DAYLIGHT
BEGIN:STANDARD
TZOFFSETFROM:-0500
TZOFFSETTO:-0600
TZNAME:CST
DTSTART:20221106T070000
END:STANDARD
BEGIN:DAYLIGHT
TZOFFSETFROM:-0600
TZOFFSETTO:-0500
TZNAME:CDT
DTSTART:20230312T080000
END:DAYLIGHT
BEGIN:STANDARD
TZOFFSETFROM:-0500
TZOFFSETTO:-0600
TZNAME:CST
DTSTART:20231105T070000
END:STANDARD
BEGIN:DAYLIGHT
TZOFFSETFROM:-0600
TZOFFSETTO:-0500
TZNAME:CDT
DTSTART:20240310T080000
END:DAYLIGHT
BEGIN:STANDARD
TZOFFSETFROM:-0500
TZOFFSETTO:-0600
TZNAME:CST
DTSTART:20241103T070000
END:STANDARD
END:VTIMEZONE
BEGIN:VEVENT
DTSTART;TZID=America/Chicago:20231205T080000
DTEND;TZID=America/Chicago:20231207T170000
DTSTAMP:20260421T161114
CREATED:20231106T191314Z
LAST-MODIFIED:20231106T191549Z
UID:10000425-1701763200-1701968400@www.waa-isa.org
SUMMARY:Crane Operator License Course
DESCRIPTION:CRANES101 is proud to offer Nationally Accredited Crane Certification program with Written and Practical Exams.  \n\n\n\nThe course meets or exceeds ASME B30.5 safety standards and OSHA 29 CFR part 926 subpart CC.  Accredited by ANSI and Recognized by OSHA. \n\n\n\nOur course is the easiest most hassle-free course on the market\, and is intense\, focused\, andcompact\, from start to finish in just under 3 days. \n\n\n\nOne Written exam covers both Telescopic Boom and Knuckle Booms. Take the practical exam relevant to what you operate. \n\n\n\nTCIA/ISA Price: $1949NEED TO RE-CERTIFY AN EXISTING LICENSE? YOUR COST IS ONLY $1595 \n\n\n\nCALL NOW!508-966-4100Jack@Cranes101.com \n\n\n\nBenefits of Cranes 101 Crane Course: Save Money on Your Insurance! Avoid fines for not having the OSHA required license. Crane licenses are becoming required on most job sites. Your crane license sets you above the rest and is a great tool to advertise on your website! Class runs 3 days from start to finish. We test you on your crane! Test results are instantaneous. Get your wallet card in a week! Crane license is good for a 5-year period. License is valid in every state across the US. 90%+ pass this course the first time! TCIA MEMBERS EARN UP TO 21 CTSP CEUs! ISA MEMBERS EARN UP TO 16 CEUs!
URL:https://www.waa-isa.org/tribe-events/crane-operator-license-course/
CATEGORIES:Green Industry Events
END:VEVENT
BEGIN:VEVENT
DTSTART;TZID=America/Chicago:20231213T183000
DTEND;TZID=America/Chicago:20231213T210000
DTSTAMP:20260421T161114
CREATED:20221213T162641Z
LAST-MODIFIED:20221213T162702Z
UID:10000324-1702492200-1702501200@www.waa-isa.org
SUMMARY:Ten Cool Diseases You Can Learn to Love (and Identify by Eye)
DESCRIPTION:Learn about ten fascinating plant diseases with such distinctivesigns and symptoms that you can identify them by eye. Thispresentation will cover the biology of the organisms that causethese diseases and tidbits of disease control information as well. \n\n\n\nTo register\, visit https://pddc.wisc.edu/2023-pddc-plant-disease-talks/
URL:https://www.waa-isa.org/tribe-events/ten-cool-diseases-you-can-learn-to-love-and-identify-by-eye/
CATEGORIES:Green Industry Events
END:VEVENT
END:VCALENDAR