BEGIN:VCALENDAR
VERSION:2.0
PRODID:-//WAA-ISA - ECPv6.15.20//NONSGML v1.0//EN
CALSCALE:GREGORIAN
METHOD:PUBLISH
X-ORIGINAL-URL:https://www.waa-isa.org
X-WR-CALDESC:Events for WAA-ISA
REFRESH-INTERVAL;VALUE=DURATION:PT1H
X-Robots-Tag:noindex
X-PUBLISHED-TTL:PT1H
BEGIN:VTIMEZONE
TZID:America/Chicago
BEGIN:DAYLIGHT
TZOFFSETFROM:-0600
TZOFFSETTO:-0500
TZNAME:CDT
DTSTART:20220313T080000
END:DAYLIGHT
BEGIN:STANDARD
TZOFFSETFROM:-0500
TZOFFSETTO:-0600
TZNAME:CST
DTSTART:20221106T070000
END:STANDARD
BEGIN:DAYLIGHT
TZOFFSETFROM:-0600
TZOFFSETTO:-0500
TZNAME:CDT
DTSTART:20230312T080000
END:DAYLIGHT
BEGIN:STANDARD
TZOFFSETFROM:-0500
TZOFFSETTO:-0600
TZNAME:CST
DTSTART:20231105T070000
END:STANDARD
BEGIN:DAYLIGHT
TZOFFSETFROM:-0600
TZOFFSETTO:-0500
TZNAME:CDT
DTSTART:20240310T080000
END:DAYLIGHT
BEGIN:STANDARD
TZOFFSETFROM:-0500
TZOFFSETTO:-0600
TZNAME:CST
DTSTART:20241103T070000
END:STANDARD
END:VTIMEZONE
BEGIN:VEVENT
DTSTART;TZID=America/Chicago:20230929T080000
DTEND;TZID=America/Chicago:20231001T130000
DTSTAMP:20260421T190411
CREATED:20230306T185702Z
LAST-MODIFIED:20230306T185703Z
UID:10000339-1695974400-1696165200@www.waa-isa.org
SUMMARY:2023 Indiana Arborist Association Tree Climbing Championship
DESCRIPTION:Event description\n\n\n\nThe Indiana Tree Climbing Championship provides a competitive but educational opportunity for working arborists to demonstrate and exchange new climbing techniques\, increase the interaction between various firms and members in the industry\, and provide positive public exposure for the profession. Professional tree climbing competitions that simulate working conditions of arborists in the field are held around the world to expand the platform for arborists to learn about the latest in climbing techniques and innovations in equipment. Showcasing the highest level of professional skills and safety\, this learning environment also introduces the public to the skills professional tree climbing arborists must use for safe\, professional tree work. \n\n\n\nThe contestants must compete in five preliminary events\, Work Climb\, Aerial Rescue\, Throwline\, Ascent Event\, and Speed Climb. The contestants who accumulate the highest combined points total in the preliminary events earn the right to move on to the championship round\, the Masters’ Challenge and awarded prizes from ArborMaster. ISA is still working on the planning of future International Climbing Competitions \n\n\n\nSponsorship Opportunities : The Indiana Arborist Association introduced an Annual Sponsorship Program in 2023.  Sponsors agree to a two-year commitment and receive annual benefits outlined HERE.  If you are interested in becoming an Annual Sponsor with the IAA\, please review sponsorship details and select the ticketed sponsorship level within this registration page.  Once the IAA receives your order\, you will be contacted with payment options and further details.  \n\n\n\nIn-Kind Donations: If you have an in-kind contribution please contact the Climbing Competition Chair at bamm06@comcast.net \n\n\n\n**As weather conditions can greatly impact this event\, it is subject to postponement or cancellation. If the event of cancellation\, a full refund minus Humantix fees\, will be offered.  All donations of registrations and sponsorships are\, of course\, welcome.  \n\n\n\n\nAny climbers/volunteers registered before 9/8 will receive shirts at the event. Any registrations received after 9/8 will get shirts\, if available. Registration cut off will be 9/22/23.  \n\n\n\n\n**PLEASE NOTE: Due to a record number of registrants in 2022\, we expect that we will again need to close registration early.  \n\n\n\n                                                                Thank you to our Sponsors \n\n\n\nPlatinum Sponsors \n\n\n\n\n\n\n\n\n\n\n\nTitanium Sponsors \n\n\n\n\n\n\n\n\n\n\n\nGold Sponsors \n\n\n\n\n\n\n\n\n\n\n\nSilver Sponsors \n\n\n\nShare event \n\n\n\n \n\n\n\n\n\n\n\n \n\n\n\nRefund Policy\n\n\n\nRefunds are available up to 30 days prior to the event
URL:https://www.waa-isa.org/tribe-events/2023-indiana-arborist-association-tree-climbing-championship/
LOCATION:LaPorte Parks Dept\, 250 Pine Lake Ave\, La Porte\, Indiana\, 46350
CATEGORIES:Green Industry Events
END:VEVENT
BEGIN:VEVENT
DTSTART;TZID=America/Chicago:20231003T083000
DTEND;TZID=America/Chicago:20231003T150000
DTSTAMP:20260421T190411
CREATED:20230906T153443Z
LAST-MODIFIED:20230906T153448Z
UID:10000381-1696321800-1696345200@www.waa-isa.org
SUMMARY:2023 Urban Forestry Workshop Pruning Young Trees
DESCRIPTION:Monday\, Sept 25: Milwaukee County – Boerner Botanical Garden\, Hales CornersWednesday\, Sept 27: Marathon County – Extension Building\, WausauTuesday\, Oct 3: Winnebago County – Sunnyview Expo Center\, Oshkosh \n\n\n\n \n\n\n\nEach workshop includes morning classroom style instruction followed by hands-on field demonstrations in the afternoon. \n\n\n\n \n\n\n\nTopics include: \n\n\n\n\nTree biology\n\n\n\nTree structure and growth characteristics\n\n\n\nProper pruning techniques using the appropriate tools\n\n\n\n\nSpace is limited to the first 50! Register today at: go.wisc.edu/urbanforestry \n\n\n\nISA CEUs provided for this workshop \n\n\n\n \n\n\n\nUrban Forestry Workshop hosted by UW Madison Division of Extension and the Wisconsin Department of Natural Resources
URL:https://www.waa-isa.org/tribe-events/2023-urban-forestry-workshop-pruning-young-trees/2023-10-03/
CATEGORIES:Green Industry Events
END:VEVENT
BEGIN:VEVENT
DTSTART;TZID=America/Chicago:20231012T110000
DTEND;TZID=America/Chicago:20231012T120000
DTSTAMP:20260421T190411
CREATED:20230908T152730Z
LAST-MODIFIED:20230908T152731Z
UID:10000389-1697108400-1697112000@www.waa-isa.org
SUMMARY:Urban Forestry Today Webinar: Advanced Tree Biology
DESCRIPTION:​ \n\n\n\nTo successfully care for trees\, arborists & urban foresters require a thorough understanding of plant-related biological and physiological concepts. Join Dr. Kevin Smith\, USDA Forest Service\, as he engages in a detailed discussion of tree function.  \n\n\n\n1.0 ISA CEU with live broadcast.
URL:https://www.waa-isa.org/tribe-events/urban-forestry-today-webinar-advanced-tree-biology/
CATEGORIES:Green Industry Events
ATTACH;FMTTYPE=image/png:https://www.waa-isa.org/wp-content/uploads/2021/06/UF-Today.png
END:VEVENT
BEGIN:VEVENT
DTSTART;TZID=America/Chicago:20231025T183000
DTEND;TZID=America/Chicago:20231025T210000
DTSTAMP:20260421T190411
CREATED:20221213T162412Z
LAST-MODIFIED:20221213T162413Z
UID:10000321-1698258600-1698267600@www.waa-isa.org
SUMMARY:Diseases of Houseplants
DESCRIPTION:As gardening moves indoors for the winter\, growing houseplantscan prove challenging. Learn about common houseplant diseasesthat adversely affect your indoor gardening efforts. Thispresentation will include information on how to identify thesediseases\, as well are information on how to manage them. \n\n\n\nTo register\, visit https://pddc.wisc.edu/2023-pddc-plant-disease-talks/
URL:https://www.waa-isa.org/tribe-events/diseases-of-houseplants/
CATEGORIES:Green Industry Events
END:VEVENT
END:VCALENDAR