BEGIN:VCALENDAR
VERSION:2.0
PRODID:-//WAA-ISA - ECPv6.15.20//NONSGML v1.0//EN
CALSCALE:GREGORIAN
METHOD:PUBLISH
X-ORIGINAL-URL:https://www.waa-isa.org
X-WR-CALDESC:Events for WAA-ISA
REFRESH-INTERVAL;VALUE=DURATION:PT1H
X-Robots-Tag:noindex
X-PUBLISHED-TTL:PT1H
BEGIN:VTIMEZONE
TZID:America/Chicago
BEGIN:DAYLIGHT
TZOFFSETFROM:-0600
TZOFFSETTO:-0500
TZNAME:CDT
DTSTART:20220313T080000
END:DAYLIGHT
BEGIN:STANDARD
TZOFFSETFROM:-0500
TZOFFSETTO:-0600
TZNAME:CST
DTSTART:20221106T070000
END:STANDARD
BEGIN:DAYLIGHT
TZOFFSETFROM:-0600
TZOFFSETTO:-0500
TZNAME:CDT
DTSTART:20230312T080000
END:DAYLIGHT
BEGIN:STANDARD
TZOFFSETFROM:-0500
TZOFFSETTO:-0600
TZNAME:CST
DTSTART:20231105T070000
END:STANDARD
BEGIN:DAYLIGHT
TZOFFSETFROM:-0600
TZOFFSETTO:-0500
TZNAME:CDT
DTSTART:20240310T080000
END:DAYLIGHT
BEGIN:STANDARD
TZOFFSETFROM:-0500
TZOFFSETTO:-0600
TZNAME:CST
DTSTART:20241103T070000
END:STANDARD
END:VTIMEZONE
BEGIN:VEVENT
DTSTART;TZID=America/Chicago:20230823T183000
DTEND;TZID=America/Chicago:20230823T210000
DTSTAMP:20260421T213627
CREATED:20221213T162151Z
LAST-MODIFIED:20221213T162151Z
UID:10000319-1692815400-1692824400@www.waa-isa.org
SUMMARY:Deciduous Tree and Shrub Diseases
DESCRIPTION:Learn about common diseases that can adversely affect the treesand shrubs around your home. This presentation will includeinformation on how to identify the diseases\, as well as informationon how to manage them. \n\n\n\nTo register\, visit https://pddc.wisc.edu/2023-pddc-plant-disease-talks/
URL:https://www.waa-isa.org/tribe-events/deciduous-tree-and-shrub-diseases/
CATEGORIES:Green Industry Events
END:VEVENT
END:VCALENDAR