BEGIN:VCALENDAR
VERSION:2.0
PRODID:-//WAA-ISA - ECPv6.15.20//NONSGML v1.0//EN
CALSCALE:GREGORIAN
METHOD:PUBLISH
X-ORIGINAL-URL:https://www.waa-isa.org
X-WR-CALDESC:Events for WAA-ISA
REFRESH-INTERVAL;VALUE=DURATION:PT1H
X-Robots-Tag:noindex
X-PUBLISHED-TTL:PT1H
BEGIN:VTIMEZONE
TZID:America/Chicago
BEGIN:DAYLIGHT
TZOFFSETFROM:-0600
TZOFFSETTO:-0500
TZNAME:CDT
DTSTART:20220313T080000
END:DAYLIGHT
BEGIN:STANDARD
TZOFFSETFROM:-0500
TZOFFSETTO:-0600
TZNAME:CST
DTSTART:20221106T070000
END:STANDARD
BEGIN:DAYLIGHT
TZOFFSETFROM:-0600
TZOFFSETTO:-0500
TZNAME:CDT
DTSTART:20230312T080000
END:DAYLIGHT
BEGIN:STANDARD
TZOFFSETFROM:-0500
TZOFFSETTO:-0600
TZNAME:CST
DTSTART:20231105T070000
END:STANDARD
BEGIN:DAYLIGHT
TZOFFSETFROM:-0600
TZOFFSETTO:-0500
TZNAME:CDT
DTSTART:20240310T080000
END:DAYLIGHT
BEGIN:STANDARD
TZOFFSETFROM:-0500
TZOFFSETTO:-0600
TZNAME:CST
DTSTART:20241103T070000
END:STANDARD
END:VTIMEZONE
BEGIN:VEVENT
DTSTART;TZID=America/Chicago:20230201T000000
DTEND;TZID=America/Chicago:20230430T235959
DTSTAMP:20260422T030157
CREATED:20230120T154925Z
LAST-MODIFIED:20230120T154938Z
UID:10000331-1675209600-1682899199@www.waa-isa.org
SUMMARY:Plant Diagnostics: The Step-by-Step Approach to Identifying Plant Problems
DESCRIPTION:Learn the process for identifying plant problems in your own trees\, landscape and garden and be prepared for the next growing season! This course explains the basics of the plant diagnostic process in an easy-to-understand way. \n\n\n\nAt the end of the course\, you’ll be able to: \n\n\n\n\nExplain the steps of the diagnostic process.\n\n\n\nIdentify appropriate unbiased\, research-based resources to use in the diagnostic process.\n\n\n\n\nAfter you’ve finished this course\, we hope you feel empowered to attempt diagnostics with your own plants using the framework you’ll learn in this course\, accessing the resources we’ll share with you\, and using UW-Madison Division of Extension diagnostic services and labs for extra help when you need it.   \n\n\n\nCourse Snapshot\n\n\n\nWhat: An online course where you move at your own pace through 13 modules with online videos\, reading\, and interactive exercises. Bonus: two live webinars\, “Putting the Process into Practice: Real World Diagnostics\,” led by Extension educators who practice plant diagnostics and “Meet the Labs!” presented by UW-Madison diagnostic lab directors. The webinars will be recorded. \n\n\n\nHow: This is an online course that uses Canvas (online classroom) and Zoom. \n\n\n\nWhen: February 1-April 30\, 2023. This is the moderated course timeframe\, when the course will be monitored actively by staff and course questions will be answered. However\, as a participant\, you will have access to content through the December 31\, 2023. The course is designed with flexibility for the busy adult in mind. Go through the course at your own pace when you have time! \n\n\n\nWho: This online course is open to the general public\, Wisconsin Extension Master Gardeners\, and commercial professionals. This course counts for 7.5 hours of continuing education for the Wisconsin Extension Master Gardener Program. ISA Certified Arborists: If you complete this course by April 30\, 2023\, you will be awarded 7. 5 CEUs. \n\n\n\nCost: \n\n\n\n\n2023 course cost\, general public and commercial professionals: $99\n\n\n\n2023 course cost\, Wisconsin Extension Master Gardeners: $49 (Must be current participants in the Wisconsin Extension Master Gardener Program or enrolled in Onboarding 2023.)\n\n\n\n\nCancellation policy: \n\n\n\nCourse cancellation prior to the course start date on February 1\, 2023  receives a refund less $20 for processing.  No refunds or returns after the course start date (February 1\, 2023)\, including for late registrations (post-February 1\, 2023).
URL:https://www.waa-isa.org/tribe-events/plant-diagnostics-the-step-by-step-approach-to-identifying-plant-problems/
CATEGORIES:Green Industry Events
END:VEVENT
BEGIN:VEVENT
DTSTART;TZID=America/Chicago:20230405T000000
DTEND;TZID=America/Chicago:20230405T235959
DTSTAMP:20260422T030157
CREATED:20230331T133226Z
LAST-MODIFIED:20230331T133305Z
UID:10000341-1680652800-1680739199@www.waa-isa.org
SUMMARY:New Urban Forestry Podcast - Internet of Nature
DESCRIPTION:PlanIT Geo Partners with the Internet of Nature Podcast to Scout the Future of Urban ForestryArvada\, CO — PlanIT Geo™\, the industry leader in urban forestry software and consulting services\, has partnered with the Internet of Nature Podcast to explore the future of urban forestry over a 10-episode season. The Internet of Nature Podcast\, created and hosted by Dr. Nadina Galle\, uses interviews with thought-leaders and innovators to answer the question: Can nature and technology — long viewed as opposing forces — work together to create liveable cities and improve public health?This collaboration was born out of a shared enthusiasm for trees and technology. As pioneers of urban forestry software\, PlanIT Geo worked with Dr. Galle to select nine key topics facing the future of urban forestry. Dr. Galle will interview experts from the public\, private\, or nonprofit sectors to unpack each topic and discuss the implications for cities of the future.Expect powerful stories\, questions usually shied away from\, and the latest ideas from those working to tackle urban forestry’s biggest challenges. New episodes will be released on Wednesdays and are available on all major podcast platforms. The first episode will be released on April 5th here. Each episode will also have a companion blog expanding on the discussion released here.“Over four seasons and now into its fifth\, the Internet of Nature Podcast has pushed the conversation on nature and technology forwards\, inspiring a global audience along the way. We are thrilled to launch this collaboration and contribute to the rock star lineup of guest speakers on the future of urban forestry in partnership with our friend and colleague\, Dr. Nadina Galle” said Ian Hanou\, PlanIT Geo’s Founder & CEO.“Given PlanIT Geo’s history and legacy in helping cities pave a greener path with its software and services\, it was a natural step to partner together. PlanIT Geo embodies the mission behind the Internet of Nature Podcast – which is to equip arborists\, planners\, and green professionals with the necessary tools for creating nature-rich communities that utilize technology in a responsible manner. \,” said Dr. Nadina Galle\, creator\, and host of the Internet of Nature Podcast.–Since 2012\, PlanIT Geo has been providing cutting-edge technology and planning services for urban forestry\, parks management\, and arboriculture. The TreePlotter™ Software Suite is used by governments\, nonprofit organizations\, universities\, and the private industry around the world. The PlanIT Geo team is driven by a passion for trees and technology\, and is widely regarded as an innovator and trusted partner in urban and community forestry programs.Coined in 2019\, the Internet of Nature® is a revolutionary approach to safeguarding and fostering an appreciation for urban nature. It combines emerging technologies with creative solutions aimed at protecting\, restoring\, and rekindling the vital connection between people and the environment where they live. The Internet of Nature Podcast showcases inspiring stories of how nature and technology are being combined to create liveable cities and improve public health. Leaders in their field discuss pioneering ideas to make our cities greener\, healthier\, wilder\, and fairer\, driving innovation forward with every episode.To learn more about this partnership and its work\, or for any other inquiries\, contact Katherine Curtis at Katherinecurtis@planitgeo.com.
URL:https://www.waa-isa.org/tribe-events/new-urban-forestry-podcast-internet-of-nature/
CATEGORIES:Green Industry Events
END:VEVENT
BEGIN:VEVENT
DTSTART;TZID=America/Chicago:20230418T120000
DTEND;TZID=America/Chicago:20230418T130000
DTSTAMP:20260422T030157
CREATED:20230414T170139Z
LAST-MODIFIED:20230414T170140Z
UID:10000345-1681819200-1681822800@www.waa-isa.org
SUMMARY:IRA UCF Funding Opportunity - Webinar Series
DESCRIPTION:Dear Midwest Urban Foresters\, \n\n\n\nThe Forest Service will host a two-part webinar series on the IRA UCF Funding Opportunity to: \n\n\n\n1) discuss application requirements\, and 2) demonstrate the Online Grant Application Portal \n\n\n\n \n\n\n\nRegistration for the webinars is required: \n\n\n\nRegister here for: Session #1 – April 18th 1 PM EDT \n\n\n\nRegister here for:  Session #2 – April 25th 2 PM EDT \n\n\n\n \n\n\n\nRegister EarlySeating is Limited! \n\n\n\nThese webinars will be recorded and posted online.
URL:https://www.waa-isa.org/tribe-events/ira-ucf-funding-opportunity-webinar-series/2023-04-18/
CATEGORIES:Green Industry Events
END:VEVENT
BEGIN:VEVENT
DTSTART;TZID=America/Chicago:20230425T130000
DTEND;TZID=America/Chicago:20230425T140000
DTSTAMP:20260422T030157
CREATED:20230414T170139Z
LAST-MODIFIED:20230414T170140Z
UID:10000346-1682427600-1682431200@www.waa-isa.org
SUMMARY:IRA UCF Funding Opportunity - Webinar Series
DESCRIPTION:Dear Midwest Urban Foresters\, \n\n\n\nThe Forest Service will host a two-part webinar series on the IRA UCF Funding Opportunity to: \n\n\n\n1) discuss application requirements\, and 2) demonstrate the Online Grant Application Portal \n\n\n\n \n\n\n\nRegistration for the webinars is required: \n\n\n\nRegister here for: Session #1 – April 18th 1 PM EDT \n\n\n\nRegister here for:  Session #2 – April 25th 2 PM EDT \n\n\n\n \n\n\n\nRegister EarlySeating is Limited! \n\n\n\nThese webinars will be recorded and posted online.
URL:https://www.waa-isa.org/tribe-events/ira-ucf-funding-opportunity-webinar-series/2023-04-25/
CATEGORIES:Green Industry Events
END:VEVENT
BEGIN:VEVENT
DTSTART;TZID=America/Chicago:20230426T183000
DTEND;TZID=America/Chicago:20230426T210000
DTSTAMP:20260422T030157
CREATED:20221213T161817Z
LAST-MODIFIED:20221213T161818Z
UID:10000315-1682533800-1682542800@www.waa-isa.org
SUMMARY:The Science (and Art) of Plant Disease Diagnosis
DESCRIPTION:Learn about the fascinating and complex process involved in identifying plant diseases. Learn about how to visually assess for plant disease symptoms\, as well as about the range of lab tests that are often needed to confirm the identity of plant diseases. \n\n\n\nTo register\, visit https://pddc.wisc.edu/2023-pddc-plant-disease-talks/
URL:https://www.waa-isa.org/tribe-events/the-science-and-art-of-plant-disease-diagnosis/
CATEGORIES:Green Industry Events
END:VEVENT
END:VCALENDAR