BEGIN:VCALENDAR
VERSION:2.0
PRODID:-//WAA-ISA - ECPv6.15.20//NONSGML v1.0//EN
CALSCALE:GREGORIAN
METHOD:PUBLISH
X-ORIGINAL-URL:https://www.waa-isa.org
X-WR-CALDESC:Events for WAA-ISA
REFRESH-INTERVAL;VALUE=DURATION:PT1H
X-Robots-Tag:noindex
X-PUBLISHED-TTL:PT1H
BEGIN:VTIMEZONE
TZID:America/Chicago
BEGIN:DAYLIGHT
TZOFFSETFROM:-0600
TZOFFSETTO:-0500
TZNAME:CDT
DTSTART:20220313T080000
END:DAYLIGHT
BEGIN:STANDARD
TZOFFSETFROM:-0500
TZOFFSETTO:-0600
TZNAME:CST
DTSTART:20221106T070000
END:STANDARD
BEGIN:DAYLIGHT
TZOFFSETFROM:-0600
TZOFFSETTO:-0500
TZNAME:CDT
DTSTART:20230312T080000
END:DAYLIGHT
BEGIN:STANDARD
TZOFFSETFROM:-0500
TZOFFSETTO:-0600
TZNAME:CST
DTSTART:20231105T070000
END:STANDARD
BEGIN:DAYLIGHT
TZOFFSETFROM:-0600
TZOFFSETTO:-0500
TZNAME:CDT
DTSTART:20240310T080000
END:DAYLIGHT
BEGIN:STANDARD
TZOFFSETFROM:-0500
TZOFFSETTO:-0600
TZNAME:CST
DTSTART:20241103T070000
END:STANDARD
END:VTIMEZONE
BEGIN:VEVENT
DTSTART;TZID=America/Chicago:20230112T110000
DTEND;TZID=America/Chicago:20230112T120000
DTSTAMP:20260422T070436
CREATED:20221219T155809Z
LAST-MODIFIED:20221219T155931Z
UID:10000325-1673521200-1673524800@www.waa-isa.org
SUMMARY:Urban Forestry Today Webinar: Tree Diagnostics: Tips for Success
DESCRIPTION:​ \n\n\n\nOn Thursday January 12 @ Noon (Eastern)\, join Dr. Jay Dampier as he joins the broadcast to outline principles and discuss examples pertaining to urban tree health diagnosis.  \n\n\n\n1.0 ISA CEU with live broadcast.
URL:https://www.waa-isa.org/tribe-events/urban-forestry-today-webinar-tree-diagnostics-tips-for-success/
CATEGORIES:Green Industry Events
ATTACH;FMTTYPE=image/png:https://www.waa-isa.org/wp-content/uploads/2021/06/UF-Today.png
END:VEVENT
BEGIN:VEVENT
DTSTART;TZID=America/Chicago:20230125T183000
DTEND;TZID=America/Chicago:20230125T210000
DTSTAMP:20260422T070436
CREATED:20221213T161318Z
LAST-MODIFIED:20221213T161318Z
UID:10000312-1674671400-1674680400@www.waa-isa.org
SUMMARY:Fundamentals of Plant Diseases
DESCRIPTION:Learn about disease-causing organisms and the symptoms they cause\, as well as information on environmental factors that favor disease development. Also learn about disease-like disorders caused by non-biological factors such as nutrient imbalances\, pesticide exposures\, environmental pollutants and adverse environmental conditions. \n\n\n\nTo register\, visit https://pddc.wisc.edu/2023-pddc-plant-disease-talks/
URL:https://www.waa-isa.org/tribe-events/fundamentals-of-plant-diseases/
CATEGORIES:Green Industry Events
END:VEVENT
END:VCALENDAR