BEGIN:VCALENDAR
VERSION:2.0
PRODID:-//WAA-ISA - ECPv6.15.20//NONSGML v1.0//EN
CALSCALE:GREGORIAN
METHOD:PUBLISH
X-ORIGINAL-URL:https://www.waa-isa.org
X-WR-CALDESC:Events for WAA-ISA
REFRESH-INTERVAL;VALUE=DURATION:PT1H
X-Robots-Tag:noindex
X-PUBLISHED-TTL:PT1H
BEGIN:VTIMEZONE
TZID:America/Chicago
BEGIN:DAYLIGHT
TZOFFSETFROM:-0600
TZOFFSETTO:-0500
TZNAME:CDT
DTSTART:20210314T080000
END:DAYLIGHT
BEGIN:STANDARD
TZOFFSETFROM:-0500
TZOFFSETTO:-0600
TZNAME:CST
DTSTART:20211107T070000
END:STANDARD
BEGIN:DAYLIGHT
TZOFFSETFROM:-0600
TZOFFSETTO:-0500
TZNAME:CDT
DTSTART:20220313T080000
END:DAYLIGHT
BEGIN:STANDARD
TZOFFSETFROM:-0500
TZOFFSETTO:-0600
TZNAME:CST
DTSTART:20221106T070000
END:STANDARD
BEGIN:DAYLIGHT
TZOFFSETFROM:-0600
TZOFFSETTO:-0500
TZNAME:CDT
DTSTART:20230312T080000
END:DAYLIGHT
BEGIN:STANDARD
TZOFFSETFROM:-0500
TZOFFSETTO:-0600
TZNAME:CST
DTSTART:20231105T070000
END:STANDARD
END:VTIMEZONE
BEGIN:VEVENT
DTSTART;TZID=America/Chicago:20221208T110000
DTEND;TZID=America/Chicago:20221208T120000
DTSTAMP:20260422T082649
CREATED:20221205T164604Z
LAST-MODIFIED:20221205T164605Z
UID:10000310-1670497200-1670500800@www.waa-isa.org
SUMMARY:Urban Forestry Today Webinar: Pruning Update
DESCRIPTION:​ \n\n\n\nJoin Dr. Ed Gilman\, University of Florida\, on Thurs Dec 08 as he returns to the ‘Urban Forestry Today’ Noonhour (Eastern) webcast to outline the latest research and best practices pertaining to urban tree pruning. \n\n\n\n1.0 ISA CEU with live broadcast.
URL:https://www.waa-isa.org/tribe-events/urban-forestry-today-webinar-pruning-update/
CATEGORIES:Green Industry Events
ATTACH;FMTTYPE=image/png:https://www.waa-isa.org/wp-content/uploads/2021/06/UF-Today.png
END:VEVENT
BEGIN:VEVENT
DTSTART;TZID=America/Chicago:20221213T090000
DTEND;TZID=America/Chicago:20221213T153000
DTSTAMP:20260422T082649
CREATED:20221125T143859Z
LAST-MODIFIED:20221125T144850Z
UID:10000305-1670922000-1670945400@www.waa-isa.org
SUMMARY:Winter Identification and Management of Woody Species
DESCRIPTION:Learn how to identify\, manage and monitor trees and shrubs during the dormant season with Riveredge restoration ecologists. The first half of the morning will be spent indoors reviewing a large collection of freshly cut live specimens by fruit\, bud\, twig\, branch\, bark and truck. Following lunch (BYO) we will take the course outside to review management and identify populations by setting and habitat. \n\n\n\nPlease dress for the weather and bring a lunch. \n\n\n\nAges 18+ \n\n\n\nAll Access Member: $55 | Trail Pass Member: $65 | Non-member: $65 \n\n\n\nSpecial Pricing for Current Students: $35 \n\n\n\nRegistration closes December 12 at 11:59 pm
URL:https://www.waa-isa.org/tribe-events/winter-identification-and-managementof-woody-species/
LOCATION:Riveredge Nature Center\, 4458 County HWY Y\, Saukville\, Wisconsin\, 53080\, United States
CATEGORIES:Green Industry Events
END:VEVENT
BEGIN:VEVENT
DTSTART;TZID=America/Chicago:20221213T090000
DTEND;TZID=America/Chicago:20221213T160000
DTSTAMP:20260422T082649
CREATED:20221014T130541Z
LAST-MODIFIED:20221014T130637Z
UID:10000299-1670922000-1670947200@www.waa-isa.org
SUMMARY:Winter Tree Identification
DESCRIPTION:Join Rich Hauer\, Ph.D. and Holly Petrillo\, Ph.D. in a winter tree id refresher. In this workshop\, we will cover winter tree identification through a combination of presentations\, in-field tree identification\, and twig identification practice to refresh your skills with: \n\n\n\ndichotomous keys\,applying key terminology to identify trees and twigs\, andidentifying trees by bark\, twig\, and buds.\n\n\n\n \n\n\n\nTentative Agenda:9:00 – 9:15 Welcome and Logistics 9:15 – 10:00 Tree Morphology 10:00 – 10:30  Coniferous Twig Identification 10:30 – 10:45 Break/Questions 10:45 – 11:15 Coniferous Twig Identification (Cont.) 11:15 – 11:45 Putting Your Coniferous Skills to Practice 11:45 – 12:30  Lunch  12:30 – 1:30 Deciduous Twig Identification1:30 – 2:15 Putting Your Twig Skills To Practice 2:15 – 2:30 Break/Questions 2:30 – 3:50 Tree Identification (Outside) 3:50 – 4:00 Wrap-Up/Final Thoughts
URL:https://www.waa-isa.org/tribe-events/winter-tree-identification/
LOCATION:Stevens Point\, WI\, Stevens Point\, Wisconsin
CATEGORIES:Green Industry Events
END:VEVENT
END:VCALENDAR