BEGIN:VCALENDAR
VERSION:2.0
PRODID:-//WAA-ISA - ECPv6.15.20//NONSGML v1.0//EN
CALSCALE:GREGORIAN
METHOD:PUBLISH
X-ORIGINAL-URL:https://www.waa-isa.org
X-WR-CALDESC:Events for WAA-ISA
REFRESH-INTERVAL;VALUE=DURATION:PT1H
X-Robots-Tag:noindex
X-PUBLISHED-TTL:PT1H
BEGIN:VTIMEZONE
TZID:America/Chicago
BEGIN:DAYLIGHT
TZOFFSETFROM:-0600
TZOFFSETTO:-0500
TZNAME:CDT
DTSTART:20210314T080000
END:DAYLIGHT
BEGIN:STANDARD
TZOFFSETFROM:-0500
TZOFFSETTO:-0600
TZNAME:CST
DTSTART:20211107T070000
END:STANDARD
BEGIN:DAYLIGHT
TZOFFSETFROM:-0600
TZOFFSETTO:-0500
TZNAME:CDT
DTSTART:20220313T080000
END:DAYLIGHT
BEGIN:STANDARD
TZOFFSETFROM:-0500
TZOFFSETTO:-0600
TZNAME:CST
DTSTART:20221106T070000
END:STANDARD
BEGIN:DAYLIGHT
TZOFFSETFROM:-0600
TZOFFSETTO:-0500
TZNAME:CDT
DTSTART:20230312T080000
END:DAYLIGHT
BEGIN:STANDARD
TZOFFSETFROM:-0500
TZOFFSETTO:-0600
TZNAME:CST
DTSTART:20231105T070000
END:STANDARD
END:VTIMEZONE
BEGIN:VEVENT
DTSTART;TZID=America/Chicago:20220907T193000
DTEND;TZID=America/Chicago:20220907T201500
DTSTAMP:20260422T130305
CREATED:20220822T185400Z
LAST-MODIFIED:20220822T185402Z
UID:10000279-1662579000-1662581700@www.waa-isa.org
SUMMARY:TREE Fund Webinar: Examining the Connection Between Woody Plant Biodiversity and Arthropod Pest Management Interventions in Residential Landscapes
DESCRIPTION:The woody plant communities found on residential properties constitute an integral component of cities’ green infrastructure and serve as a nexus between urban residents and the natural world. Despite this importance\, residential landscapes are infrequently designed with principles of sustainability in mind\, resulting in the extensive use of pesticides to suppress a diverse array of plant pests. In this presentation\, we will discuss recently published research that asks whether ecological theory can inform the sustainable design and management of woody plant communities on urban residential properties. \n\n\n\nSpeaker – Dr. Chris Riley\, PhD \n\n\n\nISA CEU credit – 1.0
URL:https://www.waa-isa.org/tribe-events/tree-fund-webinar-examining-the-connection-between-woody-plant-biodiversity-and-arthropod-pest-management-interventions-in-residential-landscapes/
CATEGORIES:Green Industry Events
ATTACH;FMTTYPE=image/png:https://www.waa-isa.org/wp-content/uploads/2019/12/treefund-webinar.png
END:VEVENT
BEGIN:VEVENT
DTSTART;TZID=America/Chicago:20220908T110000
DTEND;TZID=America/Chicago:20220908T120000
DTSTAMP:20260422T130305
CREATED:20220902T132147Z
LAST-MODIFIED:20220902T132147Z
UID:10000290-1662634800-1662638400@www.waa-isa.org
SUMMARY:Urban Forestry Today Webinar: Arboreta\, Botanical Gardens & Urban Forestry: Managing Risk
DESCRIPTION:​ \n\n\n\nJoin John Berryhill\, Landscape Curator & Senior Arborist at Smith College\, as he returns to the ‘Urban Forestry Today’ Noonhour (Eastern) webcast on Thurs Sept 08 to highlight how initiatives like an arboretum’s tree risk assessment program has direct relevance to a municipal forest management plan.  \n\n\n\n1.0 ISA CEU with live broadcast.
URL:https://www.waa-isa.org/tribe-events/urban-forestry-today-webinar-arboreta-botanical-gardens-urban-forestry-managing-risk/
CATEGORIES:Green Industry Events
ATTACH;FMTTYPE=image/png:https://www.waa-isa.org/wp-content/uploads/2021/06/UF-Today.png
END:VEVENT
BEGIN:VEVENT
DTSTART;TZID=America/Chicago:20220920T070000
DTEND;TZID=America/Chicago:20220922T170000
DTSTAMP:20260422T130305
CREATED:20220818T202731Z
LAST-MODIFIED:20220818T203152Z
UID:10000275-1663657200-1663866000@www.waa-isa.org
SUMMARY:Trees & Utilities 2022 Conference
DESCRIPTION:The 2022 Trees & Utilities Conference is the chief learning and engagement event in the world for utility vegetation managers and associated urban forestry professionals. Join your colleagues for this event to identify new ideas\, practices\, and partnerships.
URL:https://www.waa-isa.org/tribe-events/trees-utilities-2022-conference/
LOCATION:Wisconsin Center\, 400 W. Wisconsin Ave.\, Milwaukee\, Wisconsin\, 53203\, United States
CATEGORIES:Green Industry Events
ATTACH;FMTTYPE=image/jpeg:https://www.waa-isa.org/wp-content/uploads/2022/08/UAA-logo.jpg
END:VEVENT
BEGIN:VEVENT
DTSTART;TZID=America/Chicago:20220928T080000
DTEND;TZID=America/Chicago:20220928T163000
DTSTAMP:20260422T130305
CREATED:20220829T142828Z
LAST-MODIFIED:20220829T143149Z
UID:10000284-1664352000-1664382600@www.waa-isa.org
SUMMARY:CHAINSAW SAFETY CLASS - LEVEL 1
DESCRIPTION:SAWW Training is an umbrella organization that promotes safe and efficient chainsaw use\, both professionally and recreationally\, and oversees the development of training curriculums and the training of trainers.  SAWW Certified Trainers are experts in their field.  They are required to have extensive sawing experience\, to participate in a rigorous certification process\, and to refresh their skills in an annual training course.  Certified Trainers stay current in regulation changes\, and in safety and utilization techniques. \n\n\n\nLevel 1Overview of the SAWW Training Program.  OSHA regulations and requirements.  Sessions on body mechanics\, personal protective equipment\, necessary tools\, saws\, tree felling\, and limbing\, bucking\, and topping. \n\n\n\n \n\n\n\nWhat to Bring: \n\n\n\nChaps and helmet (students may borrow instructors at no charge)Proper footwear (ie steel-toe work boots)Pack a lunchIf you have a chainsaw bring it\, the instructor will lend you one if you do not own one
URL:https://www.waa-isa.org/tribe-events/chainsaw-safety-class-level-1-4/
LOCATION:Driftless Area Land Conservancy\, 206 S Iowa St\, Dodgeville\, Wisconsin\, 53533\, United States
CATEGORIES:Green Industry Events
END:VEVENT
BEGIN:VEVENT
DTSTART;TZID=America/Chicago:20220928T080000
DTEND;TZID=America/Chicago:20220928T170000
DTSTAMP:20260422T130305
CREATED:20210920T144512Z
LAST-MODIFIED:20220721T143923Z
UID:10000206-1664352000-1664384400@www.waa-isa.org
SUMMARY:Saluting Branches
DESCRIPTION:The 8th Annual Saluting Branches Day of Service will be held at potentially three separate locations in Wisconsin to include Racine\, Milwaukee and Spooner. Registration will open at www.salutingbranches.org in February. If you’re interested in volunteering within the organization in some capacity\, taking on the task of site leader at one of the above locations or volunteering as a participant on the day of service please consult the website for more info.
URL:https://www.waa-isa.org/tribe-events/saluting-branches/
CATEGORIES:Green Industry Events
ATTACH;FMTTYPE=image/jpeg:https://www.waa-isa.org/wp-content/uploads/2021/09/saluting-branches-pic.jpg
END:VEVENT
END:VCALENDAR