BEGIN:VCALENDAR
VERSION:2.0
PRODID:-//WAA-ISA - ECPv6.15.20//NONSGML v1.0//EN
CALSCALE:GREGORIAN
METHOD:PUBLISH
X-ORIGINAL-URL:https://www.waa-isa.org
X-WR-CALDESC:Events for WAA-ISA
REFRESH-INTERVAL;VALUE=DURATION:PT1H
X-Robots-Tag:noindex
X-PUBLISHED-TTL:PT1H
BEGIN:VTIMEZONE
TZID:America/Chicago
BEGIN:DAYLIGHT
TZOFFSETFROM:-0600
TZOFFSETTO:-0500
TZNAME:CDT
DTSTART:20210314T080000
END:DAYLIGHT
BEGIN:STANDARD
TZOFFSETFROM:-0500
TZOFFSETTO:-0600
TZNAME:CST
DTSTART:20211107T070000
END:STANDARD
BEGIN:DAYLIGHT
TZOFFSETFROM:-0600
TZOFFSETTO:-0500
TZNAME:CDT
DTSTART:20220313T080000
END:DAYLIGHT
BEGIN:STANDARD
TZOFFSETFROM:-0500
TZOFFSETTO:-0600
TZNAME:CST
DTSTART:20221106T070000
END:STANDARD
BEGIN:DAYLIGHT
TZOFFSETFROM:-0600
TZOFFSETTO:-0500
TZNAME:CDT
DTSTART:20230312T080000
END:DAYLIGHT
BEGIN:STANDARD
TZOFFSETFROM:-0500
TZOFFSETTO:-0600
TZNAME:CST
DTSTART:20231105T070000
END:STANDARD
END:VTIMEZONE
BEGIN:VEVENT
DTSTART;TZID=America/Chicago:20220603T080000
DTEND;TZID=America/Chicago:20220603T170000
DTSTAMP:20260422T173512
CREATED:20220502T192551Z
LAST-MODIFIED:20220502T192627Z
UID:10000254-1654243200-1654275600@www.waa-isa.org
SUMMARY:Cranes 101 course
DESCRIPTION:These all mobile crane nationally accredited certificate courses are NCCER/OSHA/ANSI approved programs for licensing crane operators. Crane operators must be licensed to operate per OSHA Subpart CC. \n\n\n\nFor more information as to the content of this class\, please view the descriptions here. The list below shows the types of cranes this course can cover\, depending on what the students operate on the job. Please specify what type of crane you will be operating when you pre-register\, if possible. \n\n\n\nFixed/rotating boom trucksTelescopic boom truck/rough terrain crane/all terrain craneLattice boom cranes \n\n\n\nTCIA Members save 10% and will earn 21 CTSP CEU’s when the course is completed. \n\n\n\nISA logoIf you are a member of the ISA\, our training is certified for the following: \n\n\n\n8 Practice – 8 Management – 16 Climber Specialist \n\n\n\n16 Certified Arborist – 16 Utility Specialist \n\n\n\n16 Municipal Specialist – 16 Aerial Lift \n\n\n\n \n\n\n\nTraining Length: \n\n\n\nDays One and Two \n\n\n\nClassroom instruction on crane operator safety \n\n\n\nDay Three \n\n\n\nWritten/computer testing as well as a practical exam \n\n\n\nBoth the written and the practical examinations must be passed with a score of 80 or higher before a nationally accredited crane operator license can be granted.
URL:https://www.waa-isa.org/tribe-events/cranes-101-course/
CATEGORIES:Green Industry Events
ORGANIZER;CN="Cranes 101":MAILTO:info@cranes101.com
END:VEVENT
BEGIN:VEVENT
DTSTART;TZID=America/Chicago:20220607T110000
DTEND;TZID=America/Chicago:20220607T120000
DTSTAMP:20260422T173512
CREATED:20220601T154409Z
LAST-MODIFIED:20220601T154851Z
UID:10000260-1654599600-1654603200@www.waa-isa.org
SUMMARY:Urban Forestry Today Webinar: Woodbanks\, Fuel Poverty & Urban Forestry: Exploring the Relationship
DESCRIPTION:Join Clarisse Hart (Harvard Forest) and Drs. Eric Griffith (Duke University) and Rick Harper (Univ of Massachusetts) as they define and outline the existence of woodbanks in the U.S. & Canada; they will also explore the potential for collaborations between municipal & private arboriculture/ urban forestry operations that generate “waste-wood” through routine operations like pruning & tree removals. \n\n\n\n​To attend this Free Broadcast & receive 1.0 ISA CEU at no cost. \n\n\n\nClick here to register.  Questions? info@isaontario.com \n\n\n\nThis FREE webinar is brought to you by the Canadian Tree Fund (CTF).CTF is a registeredCanadian charity and donations over $20 will receive a tax receipt: https://canadiantreefund.org
URL:https://www.waa-isa.org/tribe-events/urban-forestry-today-webinar-woodbanks-fuel-poverty-urban-forestry-exploring-the-relationship/
CATEGORIES:Green Industry Events
ATTACH;FMTTYPE=image/png:https://www.waa-isa.org/wp-content/uploads/2021/06/UF-Today.png
END:VEVENT
BEGIN:VEVENT
DTSTART;TZID=America/Chicago:20220608T120000
DTEND;TZID=America/Chicago:20220608T131500
DTSTAMP:20260422T173512
CREATED:20220526T193147Z
LAST-MODIFIED:20220526T193148Z
UID:10000259-1654689600-1654694100@www.waa-isa.org
SUMMARY:Webinar: Engaging Community Residents in Heat Mitigation and Canopy Expansion
DESCRIPTION:The West Mesa River Community Heat Action Project\, a recent initiative of the Rio Reimagined partnership\, focuses on addressing heat mitigation along the eastern reach of the Salt-Gila River corridor through Metropolitan Phoenix. The two-year project (2020-2022) engaged over 350 residents\, 8 faith-based organizations\, 15 social service organizations\, and 34 local businesses\, with more than 300 trees planted to date.  \n\n\n\nIn this webinar\, Paul Coseo and Cecilia Riviere will share strategies and lessons learned from the multi-faceted project\, which included social vulnerability mapping\, tree inventory\, community engagement\, education\, and implementation of urban canopy to cool local river neighborhoods.  \n\n\n\nSpeakers: Paul Coseo\, Cecilia Kelly Riviere
URL:https://www.waa-isa.org/tribe-events/webinar-engaging-community-residents-in-heat-mitigation-and-canopy-expansion/
CATEGORIES:Green Industry Events
ATTACH;FMTTYPE=image/jpeg:https://www.waa-isa.org/wp-content/uploads/2022/05/UF-Connections-logo.jpg
END:VEVENT
BEGIN:VEVENT
DTSTART;TZID=America/Chicago:20220615T080000
DTEND;TZID=America/Chicago:20220615T163000
DTSTAMP:20260422T173512
CREATED:20220606T142156Z
LAST-MODIFIED:20220606T142732Z
UID:10000263-1655280000-1655310600@www.waa-isa.org
SUMMARY:CHAINSAW SAFETY CLASS - LEVEL 1
DESCRIPTION:SAWW Training is an umbrella organization that promotes safe and efficient chainsaw use\, both professionally and recreationally\, and oversees the development of training curriculums and the training of trainers.  SAWW Certified Trainers are experts in their field.  They are required to have extensive sawing experience\, to participate in a rigorous certification process\, and to refresh their skills in an annual training course.  Certified Trainers stay current in regulation changes\, and in safety and utilization techniques. \n\n\n\nLevel 1Overview of the SAWW Training Program.  OSHA regulations and requirements.  Sessions on body mechanics\, personal protective equipment\, necessary tools\, saws\, tree felling\, and limbing\, bucking\, and topping. \n\n\n\nThese courses are being sponsored by Dane County Parks and being taught by certified SAWW (Safety and Woods Worker) trainer Luke Saunders of Adaptive Restoration. Level 1 and Level 2 are part of the four-level SAWW series designed to increase safety and efficiency of chainsaw use – for more information on the SAWW program see http://www.sawwtraining.com/about-us.html. \n\n\n\nWhat to Bring: \n\n\n\nChaps and helmet (students may borrow instructors at no charge)Proper footwear (ie steel-toe work boots)Pack a lunch and a water bottleIf you have a chainsaw bring it\, the instructor will lend you one if you do not own one
URL:https://www.waa-isa.org/tribe-events/chainsaw-safety-class-level-1/
LOCATION:Indian Lake County Park\, 8183 State Highway 19\, Cross Plains\, 53528
CATEGORIES:Green Industry Events
ATTACH;FMTTYPE=image/jpeg:https://www.waa-isa.org/wp-content/uploads/2022/06/SAWW-logo.jpg
END:VEVENT
BEGIN:VEVENT
DTSTART;TZID=America/Chicago:20220622T080000
DTEND;TZID=America/Chicago:20220622T163000
DTSTAMP:20260422T173512
CREATED:20220606T142631Z
LAST-MODIFIED:20220606T142632Z
UID:10000264-1655884800-1655915400@www.waa-isa.org
SUMMARY:CHAINSAW SAFETY CLASS - LEVEL 2
DESCRIPTION:SAWW Training is an umbrella organization that promotes safe and efficient chainsaw use\, both professionally and recreationally\, and oversees the development of training curriculums and the training of trainers.  SAWW Certified Trainers are experts in their field.  They are required to have extensive sawing experience\, to participate in a rigorous certification process\, and to refresh their skills in an annual training course.  Certified Trainers stay current in regulation changes\, and in safety and utilization techniques. \n\n\n\nLevel 2Level One review.  Maintenance\, hands-on filing\, carburetor adjustment\, limbing techniques\, precision felling assessment\, and precision at the stump\, including notching\, hinge\, species differences and terrain.  Felling practice. \n\n\n\nThis course is being sponsored by Dane County Parks and being taught by certified SAWW (Safety and Woods Worker) trainer Luke Saunders of Adaptive Restoration. Level 1 and Level 2 are part of the four-level SAWW series designed to increase safety and efficiency of chainsaw use – for more information on the SAWW program see http://www.sawwtraining.com/about-us.html. \n\n\n\nWhat to Bring: \n\n\n\nChaps and helmet (students may borrow instructors at no charge)Proper footwear (ie steel-toe work boots)Pack a lunch and a water bottleIf you have a chainsaw bring it\, the instructor will lend you one if you do not own one
URL:https://www.waa-isa.org/tribe-events/chainsaw-safety-class-level-2-2/
LOCATION:Indian Lake County Park\, 8183 State Highway 19\, Cross Plains\, 53528
CATEGORIES:Green Industry Events
ATTACH;FMTTYPE=image/jpeg:https://www.waa-isa.org/wp-content/uploads/2022/06/SAWW-logo.jpg
END:VEVENT
BEGIN:VEVENT
DTSTART;TZID=America/Chicago:20220623T080000
DTEND;TZID=America/Chicago:20220623T163000
DTSTAMP:20260422T173512
CREATED:20220606T143101Z
LAST-MODIFIED:20220606T143102Z
UID:10000267-1655971200-1656001800@www.waa-isa.org
SUMMARY:CHAINSAW SAFETY CLASS - LEVEL 2
DESCRIPTION:SAWW Training is an umbrella organization that promotes safe and efficient chainsaw use\, both professionally and recreationally\, and oversees the development of training curriculums and the training of trainers.  SAWW Certified Trainers are experts in their field.  They are required to have extensive sawing experience\, to participate in a rigorous certification process\, and to refresh their skills in an annual training course.  Certified Trainers stay current in regulation changes\, and in safety and utilization techniques. \n\n\n\nLevel 2Level One review.  Maintenance\, hands-on filing\, carburetor adjustment\, limbing techniques\, precision felling assessment\, and precision at the stump\, including notching\, hinge\, species differences and terrain.  Felling practice. \n\n\n\nThis course is being sponsored by Dane County Parks and is being taught by certified SAWW (Safety and Woods Worker) trainer Luke Saunders of Adaptive Restoration. Level 1 and Level 2 are part of the four-level SAWW series designed to increase safety and efficiency of chainsaw use – for more information on the SAWW program see http://www.sawwtraining.com/about-us.html. \n\n\n\nWhat to Bring: \n\n\n\nChaps and helmet (students may borrow instructors at no charge)Proper footwear (ie steel-toe work boots)Pack a lunch and a water bottleIf you have a chainsaw bring it\, the instructor will lend you one if you do not own one
URL:https://www.waa-isa.org/tribe-events/chainsaw-safety-class-level-2-3/
LOCATION:Indian Lake County Park\, 8183 State Highway 19\, Cross Plains\, 53528
CATEGORIES:Green Industry Events
ATTACH;FMTTYPE=image/jpeg:https://www.waa-isa.org/wp-content/uploads/2022/06/SAWW-logo.jpg
END:VEVENT
BEGIN:VEVENT
DTSTART;TZID=America/Chicago:20220630T110000
DTEND;TZID=America/Chicago:20220630T130000
DTSTAMP:20260422T173512
CREATED:20220516T195015Z
LAST-MODIFIED:20220516T195325Z
UID:10000255-1656586800-1656594000@www.waa-isa.org
SUMMARY:Urban Forestry Today Webinar: Protection & Management of Mature Urban Trees
DESCRIPTION:​ \n\n\n\nJoin Dr. Kevin Smith\, USDA FS\, as he outlines how trees grow & mature with the potential to increase  environmental benefits\, and real-world strategies to protect and manage larger\, mature trees in the urban landscape.  \n\n\n\n2.0 ISA CEU with live broadcast. \n\n\n\nQuestions? Heather@NewEnglandISA.org
URL:https://www.waa-isa.org/tribe-events/urban-forestry-today-webinar-protection-management-of-mature-urban-trees/
CATEGORIES:Green Industry Events
ATTACH;FMTTYPE=image/png:https://www.waa-isa.org/wp-content/uploads/2021/06/UF-Today.png
END:VEVENT
END:VCALENDAR