BEGIN:VCALENDAR
VERSION:2.0
PRODID:-//WAA-ISA - ECPv6.15.20//NONSGML v1.0//EN
CALSCALE:GREGORIAN
METHOD:PUBLISH
X-ORIGINAL-URL:https://www.waa-isa.org
X-WR-CALDESC:Events for WAA-ISA
REFRESH-INTERVAL;VALUE=DURATION:PT1H
X-Robots-Tag:noindex
X-PUBLISHED-TTL:PT1H
BEGIN:VTIMEZONE
TZID:America/Chicago
BEGIN:DAYLIGHT
TZOFFSETFROM:-0600
TZOFFSETTO:-0500
TZNAME:CDT
DTSTART:20210314T080000
END:DAYLIGHT
BEGIN:STANDARD
TZOFFSETFROM:-0500
TZOFFSETTO:-0600
TZNAME:CST
DTSTART:20211107T070000
END:STANDARD
BEGIN:DAYLIGHT
TZOFFSETFROM:-0600
TZOFFSETTO:-0500
TZNAME:CDT
DTSTART:20220313T080000
END:DAYLIGHT
BEGIN:STANDARD
TZOFFSETFROM:-0500
TZOFFSETTO:-0600
TZNAME:CST
DTSTART:20221106T070000
END:STANDARD
BEGIN:DAYLIGHT
TZOFFSETFROM:-0600
TZOFFSETTO:-0500
TZNAME:CDT
DTSTART:20230312T080000
END:DAYLIGHT
BEGIN:STANDARD
TZOFFSETFROM:-0500
TZOFFSETTO:-0600
TZNAME:CST
DTSTART:20231105T070000
END:STANDARD
END:VTIMEZONE
BEGIN:VEVENT
DTSTART;TZID=America/Chicago:20220505T100000
DTEND;TZID=America/Chicago:20220505T110000
DTSTAMP:20260422T191621
CREATED:20220128T172612Z
LAST-MODIFIED:20220128T172614Z
UID:10000241-1651744800-1651748400@www.waa-isa.org
SUMMARY:Forest Pest Damage from the Carbon Sequestration Perspective
DESCRIPTION:Both native and non-native forest insects and diseases across the contiguous United States are reducing the ability of the nation’s forests to capture and store carbon dioxide. This webinar will describe a study published in Fall 2021 in Frontiers in Forests and Global Change that calculated forests damaged by insects sequestered 69% less carbon than undamaged forests\, while those affected by disease sequestered 28% less carbon. The webinar will briefly cover the overarching findings of the study\, and then go into depth on what it means from the invasive forest pest perspective- including how to bring this issue to light when discussing prevention and management of forest pests\, and what improvements to current actions could further mitigate these sequestration losses.
URL:https://www.waa-isa.org/tribe-events/forest-pest-damage-from-the-carbon-sequestration-perspective/
CATEGORIES:Green Industry Events
END:VEVENT
BEGIN:VEVENT
DTSTART;TZID=America/Chicago:20220526T100000
DTEND;TZID=America/Chicago:20220526T110000
DTSTAMP:20260422T191621
CREATED:20220128T172726Z
LAST-MODIFIED:20220128T172728Z
UID:10000242-1653559200-1653562800@www.waa-isa.org
SUMMARY:Breeding for EAB-Resistance: What Does the Future Look like for Ash?
DESCRIPTION:EAB threatens the survival of ash trees in the U.S. where it is a common hardwood species especially in riparian and wetland forests. Ash was also used extensively for soil conservation (including wind breaks) and in urban green spaces and streets. Surviving\, or “lingering”\, ash trees that had maintained healthy canopies for at least two years after all other large ash trees had died were identified in natural forests long-infested by EAB. EAB egg bioassay experiments confirmed that these trees have an increased level of resistance due to defense responses\, including death of early instar larvae\, larvae with significantly lower weights\, or leaves less preferred for feeding by EAB adults. This webinar discusses research now being done to further understand this phenomenon and other findings to develop tree-improvement programs that could be successful in producing EAB resistant seed. Longer term goals include combining the best performing progeny from many families into a second generation seed orchard\, so that the seed produced may be used for restoration plantings.
URL:https://www.waa-isa.org/tribe-events/breeding-for-eab-resistance-what-does-the-future-look-like-for-ash/
CATEGORIES:Green Industry Events
END:VEVENT
END:VCALENDAR