BEGIN:VCALENDAR
VERSION:2.0
PRODID:-//WAA-ISA - ECPv6.15.20//NONSGML v1.0//EN
CALSCALE:GREGORIAN
METHOD:PUBLISH
X-WR-CALNAME:WAA-ISA
X-ORIGINAL-URL:https://www.waa-isa.org
X-WR-CALDESC:Events for WAA-ISA
REFRESH-INTERVAL;VALUE=DURATION:PT1H
X-Robots-Tag:noindex
X-PUBLISHED-TTL:PT1H
BEGIN:VTIMEZONE
TZID:America/Chicago
BEGIN:DAYLIGHT
TZOFFSETFROM:-0600
TZOFFSETTO:-0500
TZNAME:CDT
DTSTART:20210314T080000
END:DAYLIGHT
BEGIN:STANDARD
TZOFFSETFROM:-0500
TZOFFSETTO:-0600
TZNAME:CST
DTSTART:20211107T070000
END:STANDARD
BEGIN:DAYLIGHT
TZOFFSETFROM:-0600
TZOFFSETTO:-0500
TZNAME:CDT
DTSTART:20220313T080000
END:DAYLIGHT
BEGIN:STANDARD
TZOFFSETFROM:-0500
TZOFFSETTO:-0600
TZNAME:CST
DTSTART:20221106T070000
END:STANDARD
BEGIN:DAYLIGHT
TZOFFSETFROM:-0600
TZOFFSETTO:-0500
TZNAME:CDT
DTSTART:20230312T080000
END:DAYLIGHT
BEGIN:STANDARD
TZOFFSETFROM:-0500
TZOFFSETTO:-0600
TZNAME:CST
DTSTART:20231105T070000
END:STANDARD
END:VTIMEZONE
BEGIN:VEVENT
DTSTART;TZID=America/Chicago:20220301T070000
DTEND;TZID=America/Chicago:20220302T160000
DTSTAMP:20260422T220526
CREATED:20220203T153426Z
LAST-MODIFIED:20220203T155308Z
UID:10000243-1646118000-1646236800@www.waa-isa.org
SUMMARY:Landscape Professionals Conference 2022
DESCRIPTION:UW-Madison\, Division of Extension and the Wisconsin Landscape Contractors Association\, Fox Valley Chapter team up to provide the Landscape Professionals Conference March 1-2\, 2022 at the Bridgewood Conference Center in Neenah\, WI.   \n\n\n\nThis two-day conference is designed to enhance your professional landscape skills and appreciation for sustainable landscapes.  The program offers training sessions the first day\, and three tracks of education the second day in landscaping\, lawn care\, and hardscape.  Please join us to learn the latest in research and industry developments\, while networking with other horticultural professionals.   \n\n\n\nISA Continuing Education Unit (CEU’s) credits available.   \n\n\n\nRegister by February 18\, 2022 for early bird pricing.  Please see the attached brochure for more information or http://www.landscapeprofessionalsworkshop.com/ \n\n\n\n\n\nLPC Brochure 2022 FinalDownload
URL:https://www.waa-isa.org/tribe-events/landscape-professionals-conference-2022/
LOCATION:Bridgewood Conference Center\, 1000 Cameron Way\, Neenah\, Wisconsin\, 54956
CATEGORIES:Green Industry Events
END:VEVENT
BEGIN:VEVENT
DTSTART;TZID=America/Chicago:20220301T100000
DTEND;TZID=America/Chicago:20220301T110000
DTSTAMP:20260422T220526
CREATED:20220128T172056Z
LAST-MODIFIED:20220128T172058Z
UID:10000238-1646128800-1646132400@www.waa-isa.org
SUMMARY:Firewood Rules\, Certifications\, and Recommendations across the USA
DESCRIPTION:The federal deregulation of emerald ash borer in January 2021 was widely expected to lead to many changes in the regulatory environment around firewood in the USA. This webinar will highlight the release of a new report written by staff of The Nature Conservancy’s Don’t Move Firewood campaign\, covering what regulations and recommendations are in place a year after the EAB deregulation was finalized. We will describe how the current regulatory environments applying to the inter- and intra-state movement of firewood vary greatly in type and prevalence across the United States. The dynamic situation of many forest pests\, coupled with the different challenges faced by the state agencies’ statutory authorities and priorities\, forest conditions\, and unique geographies\, have all combined to create a complex regulatory mosaic- and as a result\, a very challenging outreach environment.
URL:https://www.waa-isa.org/tribe-events/firewood-rules-certifications-and-recommendations-across-the-usa/
CATEGORIES:Green Industry Events
END:VEVENT
BEGIN:VEVENT
DTSTART;TZID=America/Chicago:20220303T100000
DTEND;TZID=America/Chicago:20220303T110000
DTSTAMP:20260422T220526
CREATED:20220128T172320Z
LAST-MODIFIED:20220128T172322Z
UID:10000239-1646301600-1646305200@www.waa-isa.org
SUMMARY:The worst kind of snowbird: the invasive of Asian longhorned beetle in South Carolina
DESCRIPTION:The Asian longhorned beetle\, Anoplophora glabripennis (ALB)\, was found in South Carolina in May 2020\, which now represents the southernmost infestation in North America. Eradication efforts are underway\, but several challenges persist due to the novel climate and environment in which ALB has established. This talk will provide a refresher on ALB biology and identification\, as well as established and potential eradication methods being used in South Carolina. We will discuss how ALB likely arrived in the Deep South\, and also why the threat of more ALB movement and new infestations is unlikely to cease.
URL:https://www.waa-isa.org/tribe-events/the-worst-kind-of-snowbird-the-invasive-of-asian-longhorned-beetle-in-south-carolina/
CATEGORIES:Green Industry Events
END:VEVENT
BEGIN:VEVENT
DTSTART;TZID=America/Chicago:20220323T100000
DTEND;TZID=America/Chicago:20220325T160000
DTSTAMP:20260422T220527
CREATED:20220103T174516Z
LAST-MODIFIED:20220103T174836Z
UID:10000230-1648029600-1648224000@www.waa-isa.org
SUMMARY:TCIA Executive Arborist Workshop
DESCRIPTION:The Executive Arborist Workshop is designed not only to help growing companies develop in a smoother\, more consistent manner\, but also to address common challenges that arborists face in growing their tree care businesses. Join TCIA for two days of valuable insights from industry professionals and expert advice from the best speakers in business. We want to help you make the transition from working in your business\, to working on your business.
URL:https://www.waa-isa.org/tribe-events/tcia-executive-arborist-workshop-3/
LOCATION:The Westin Milwaukee\, 550 North Van Buren Street\, Milwaukee\, Wisconsin\, 53202\, United States
CATEGORIES:Green Industry Events
END:VEVENT
BEGIN:VEVENT
DTSTART;TZID=America/Chicago:20220331T100000
DTEND;TZID=America/Chicago:20220331T110000
DTSTAMP:20260422T220527
CREATED:20220128T172450Z
LAST-MODIFIED:20220128T172452Z
UID:10000240-1648720800-1648724400@www.waa-isa.org
SUMMARY:Tree of Heaven: Management and Identification
DESCRIPTION:
URL:https://www.waa-isa.org/tribe-events/tree-of-heaven-management-and-identification/
CATEGORIES:Green Industry Events
END:VEVENT
END:VCALENDAR