BEGIN:VCALENDAR
VERSION:2.0
PRODID:-//WAA-ISA - ECPv6.15.20//NONSGML v1.0//EN
CALSCALE:GREGORIAN
METHOD:PUBLISH
X-ORIGINAL-URL:https://www.waa-isa.org
X-WR-CALDESC:Events for WAA-ISA
REFRESH-INTERVAL;VALUE=DURATION:PT1H
X-Robots-Tag:noindex
X-PUBLISHED-TTL:PT1H
BEGIN:VTIMEZONE
TZID:America/Chicago
BEGIN:DAYLIGHT
TZOFFSETFROM:-0600
TZOFFSETTO:-0500
TZNAME:CDT
DTSTART:20200308T080000
END:DAYLIGHT
BEGIN:STANDARD
TZOFFSETFROM:-0500
TZOFFSETTO:-0600
TZNAME:CST
DTSTART:20201101T070000
END:STANDARD
BEGIN:DAYLIGHT
TZOFFSETFROM:-0600
TZOFFSETTO:-0500
TZNAME:CDT
DTSTART:20210314T080000
END:DAYLIGHT
BEGIN:STANDARD
TZOFFSETFROM:-0500
TZOFFSETTO:-0600
TZNAME:CST
DTSTART:20211107T070000
END:STANDARD
BEGIN:DAYLIGHT
TZOFFSETFROM:-0600
TZOFFSETTO:-0500
TZNAME:CDT
DTSTART:20220313T080000
END:DAYLIGHT
BEGIN:STANDARD
TZOFFSETFROM:-0500
TZOFFSETTO:-0600
TZNAME:CST
DTSTART:20221106T070000
END:STANDARD
END:VTIMEZONE
BEGIN:VEVENT
DTSTART;TZID=America/Chicago:20210926T080000
DTEND;TZID=America/Chicago:20211001T170000
DTSTAMP:20260425T063125
CREATED:20210325T164303Z
LAST-MODIFIED:20210325T164304Z
UID:10000167-1632643200-1633107600@www.waa-isa.org
SUMMARY:SMA Municipal Forestry Institute (MFI) 2021
DESCRIPTION:MFI is a unique leadership and professional development opportunity you won’t find anywhere else. A team of dedicated urban forestry professionals from across North America will help you gain insights into how to move from a good urban forestry effort to a great one. You will learn from and network with urban forestry professionals from large cities and small towns\, state and federal agencies\, and non‐profit organizations. MFI is an investment in your professional future — one that could pay great dividends to you and your city or organization. \n\n\n\nMFI is an exciting\, high‐level training opportunity educating people in the leadership and managerial aspects of urban forestry. This week‐long intensive educational program delivers a challenging opportunity to grow a more successful community tree program. Come learn and master leadership and management tools of program administration\, coalition building\, strategic thinking\, program planning\, and public relations by investing a week in your personal growth and development. Sign up now for MFI 2021\, being held September 26–October 1\, 2021 in Bowling Green\, OH.
URL:https://www.waa-isa.org/tribe-events/sma-municipal-forestry-institute-mfi-2021/
LOCATION:Bowling Green State University\, Bowling Green\, Ohio
CATEGORIES:Green Industry Events
END:VEVENT
BEGIN:VEVENT
DTSTART;TZID=America/Chicago:20211002T080000
DTEND;TZID=America/Chicago:20211002T163000
DTSTAMP:20260425T063125
CREATED:20210928T175832Z
LAST-MODIFIED:20210928T180830Z
UID:10000209-1633161600-1633192200@www.waa-isa.org
SUMMARY:SAWW Training Level 1
DESCRIPTION:This course is certified through the Safety and Woods Working (SAWW) training program and is part of a four-level series designed to increase safety and efficiency of chainsaw use. Participants in Level 1 training will spend part of the morning in the outdoor classroom\, and at least 5 hours outside practicing techniques to operate chainsaws safely\, comfortably and productively. Topics covered include personal protective equipment (PPE)\, body mechanics\, chainsaw safety features\, the chain and the cutter tooth\, reactive forces\, planning and executing tree felling\, intro to limbing\, and bucking. Level I introduces the participant to bore cutting and open face felling\, and develops the mechanics to execute these techniques. Hands-on training gives participants the opportunity to fell at least one tree. \n\n\n\nParticipants must bring a safety helmet\, and are encouraged to bring all PPE (eye protection\, chaps\, suitable footwear and gloves)\, chainsaw and any tools used to maintain the saw and sharpen chain. Bring a bag lunch and water and payment ($140 check preferred.)​Chainsaw Safety Level 1 – Oct 2\, 2021\, 8am-4:30pm\, Morrison Prairie and Forest Preserve\, near Muscoda. Directions and information will be provided in an email after registration is submitted. \n\n\n\n​ \n\n\n\nInstructor: Luke Saunders\, Forester with Adaptive Restoration LLC\, SAWW-certified trainer\, experienced sawyer and horse-logger
URL:https://www.waa-isa.org/tribe-events/saww-training-level-1/
CATEGORIES:Green Industry Events
END:VEVENT
BEGIN:VEVENT
DTSTART;TZID=America/Chicago:20211007T170000
DTEND;TZID=America/Chicago:20211007T180000
DTSTAMP:20260425T063125
CREATED:20210510T190831Z
LAST-MODIFIED:20210514T151916Z
UID:10000184-1633626000-1633629600@www.waa-isa.org
SUMMARY:Free Webinar: The History of Arboriculture
DESCRIPTION:Arborist and Plant Health Care master Joe Aiken is also an arboriculture historian! In this LIVE event\, Joe will show off his personal collection of historical arborist tools and talk about the basis of the arborist profession. You can watch this webinar LIVE on Facebook\, Youtube\, and Instagram so Joe can answer your questions. \n\n\n\nStick around to the end of the webinar for a link to a quiz to earn 2 FREE CEUs!
URL:https://www.waa-isa.org/tribe-events/free-webinar-this-history-of-arboriculture/
CATEGORIES:Green Industry Events
END:VEVENT
BEGIN:VEVENT
DTSTART;TZID=America/Chicago:20211013T120000
DTEND;TZID=America/Chicago:20211013T131500
DTSTAMP:20260425T063125
CREATED:20211006T164510Z
LAST-MODIFIED:20211006T164512Z
UID:10000213-1634126400-1634130900@www.waa-isa.org
SUMMARY:Free Urban Forest Connections Webinar: Urban Trees and Stormwater Management: Quantifying Impacts\, Maximizing Benefits
DESCRIPTION:Stormwater managers and urban foresters share a growing recognition that urban trees play an important role in controlling urban stormwater runoff.  In this webinar\, Dr. Trisha Moore (Kansas State University)and Eric Kuehler (Nashville Metro Water Services) aim to address some very practical questions related to the role of trees in stormwater management\, including: How can we quantity potential runoff reductions by trees in urban environments? What effect do trees have on runoff quality? How can urban forests be managed to maximize stormwater benefits? Trisha will share tools for quantifying the runoff quantity and quality of urban trees developed in collaboration with the Water Research Foundation. Then\, Eric will discuss some useful rules of thumb for urban trees and stormwater mitigation found in the Forest Service publication “Urban Forest Systems and Green Stormwater Infrastructure.“ He will demonstrate how these measures are being used by Nashville Metro Water Services to help quantify stormwater benefits. 
URL:https://www.waa-isa.org/tribe-events/free-urban-forest-connections-webinar-urban-trees-and-stormwater-management-quantifying-impacts-maximizing-benefits/
CATEGORIES:Green Industry Events
END:VEVENT
BEGIN:VEVENT
DTSTART;TZID=America/Chicago:20211018T080000
DTEND;TZID=America/Chicago:20211018T170000
DTSTAMP:20260425T063125
CREATED:20210702T153317Z
LAST-MODIFIED:20210702T153323Z
UID:10000195-1634544000-1634576400@www.waa-isa.org
SUMMARY:Tree Risk Assessment Qualification (TRAQ) Renewal - Urbana\, IL
DESCRIPTION:The ISA Tree Risk Assessment Qualification (TRAQ) program provides an opportunity for professionals in the arboriculture industry to expand their knowledge through education and training in the fundamentals of tree risk assessment. This qualification promotes the safety of people and property by providing a standardized and systematic process for assessing tree risk. The results of a tree risk assessment can provide tree owners and risk managers with the information to make informed decisions to enhance tree benefits\, health\, and longevity. \n\n\n\nThe TRAQ Renewal Course consists of a 5 hour educational course followed by a 3 hour assessment that includes both a written and field component. It is required that you attend the course and successfully pass the assessment in order to renew this qualification. \n\n\n\nCurrent TRAQ holders may complete the TRAQ Renewal Course as early as 18 months prior to your qualification expiration date. \n\n\n\nLocation:  ILEAS Training Center\, Classroom 1 – Urbana\, IL \n\n\n\nRegistration Deadline is September 6\, 2021.  Contact April Toney at april@illinoisarborist.org for more information.
URL:https://www.waa-isa.org/tribe-events/tree-risk-assessment-qualification-traq-renewal-urbana-il/
CATEGORIES:Green Industry Events
END:VEVENT
BEGIN:VEVENT
DTSTART;TZID=America/Chicago:20211019T120000
DTEND;TZID=America/Chicago:20211019T130000
DTSTAMP:20260425T063125
CREATED:20210510T170806Z
LAST-MODIFIED:20210525T185337Z
UID:10000176-1634644800-1634648400@www.waa-isa.org
SUMMARY:TREE Fund Webinar:  Digging into the Science of Tree Planting and Removing Packaging Materials
DESCRIPTION:Registration to open one-month prior to webinar. Follow the link below for more information!
URL:https://www.waa-isa.org/tribe-events/tree-fund-webinar-digging-into-the-science-of-tree-planting-and-removing-packaging-materials/
CATEGORIES:Green Industry Events
ATTACH;FMTTYPE=image/png:https://www.waa-isa.org/wp-content/uploads/2019/12/treefund-webinar.png
END:VEVENT
BEGIN:VEVENT
DTSTART;TZID=America/Chicago:20211020T120000
DTEND;TZID=America/Chicago:20211020T130000
DTSTAMP:20260425T063125
CREATED:20210927T140936Z
LAST-MODIFIED:20210927T140940Z
UID:10000208-1634731200-1634734800@www.waa-isa.org
SUMMARY:Free Webinar: Thousand Cankers Disease (TCD)
DESCRIPTION:Thousand cankers disease is caused by the fungus Geosmithia morbida\, and this pathogen is transmitted by the walnut twig beetle\, Pityophthorus juglandis.  This disease impacts black walnut and\, until 2010\, was only found west of the Mississippi River.  The disease gets its name from the many tiny black cankers caused by the fungus growing in the phloem.  This fungus is brought in by walnut twig beetles\, which bore into the tree and create galleries.  In addition to the cankers and tiny beetle entrance holes\, infected trees also exhibit yellow foliage\, wilting\, and eventual branch mortality.  One beetle and canker will not kill the tree\, but mass attacks by beetles can result in thousands of little cankers that eventually coalesce and girdle the tree.  There are no known control or management options for thousand cankers disease.  Care should be taken to prevent the spread of the disease by buying local firewood\, or wood from which you know the source\, and watching for symptoms in existing trees. In this webinar\, Dr. Matthew Ginzel (Purdue) will provide an update on TCD distribution\, impacts\, and preventative management strategies. \n\n\n\nNo advanced registration required.
URL:https://www.waa-isa.org/tribe-events/free-webinar-thousand-cankers-disease-tcd/
CATEGORIES:Green Industry Events
END:VEVENT
BEGIN:VEVENT
DTSTART;TZID=America/Chicago:20211028T110000
DTEND;TZID=America/Chicago:20211028T170000
DTSTAMP:20260425T063125
CREATED:20210702T154250Z
LAST-MODIFIED:20210702T154257Z
UID:10000196-1635418800-1635440400@www.waa-isa.org
SUMMARY:Tree Risk Assessment Qualification (TRAQ) Renewal Course - Online/ Western Chapter
DESCRIPTION:The ISA Tree Risk Assessment Qualification (ISA TRAQ) Renewal program is now available in a fully online environment. This new format for the program allows eligible ISA TRAQ credential holders to renew their credential\, by successfully completing both training and examination requirements\, from the convenience of their own home/location.The ISA TRAQ credential is valid for five years. To reinstate your qualification\,  you must take a one-day refresher course and exam\, the TRAQ Renewal Course. This course is being offered on Thursday\, October 28\, 2021 virtually. You will receive a link to the Zoom webinar when you complete your registration.You may complete the TRAQ Renewal Course course as early as 18 months prior to your expiration date. An extension past the expiration date will not be available. Once you have successfully passed the requirements\, the new five-year qualification period will begin the day following the original expiration date rather than the date of passing the renewal course. This will allow you to take full advantage of the five-year qualification period.Here are the requirements for the virtual version of the TRAQ Renewal: \n\n\n\nAbility to view Zoom Meetings/Webinars PC/Mac/Tablet with Web Cam (the instructor and facilitator must be able to see you on camera)PC/Mac/Tablet with Microphone Attend the Virtual CourseAfter completing the course and your attendance is verified\, you will receive a link to take the exam securely onlineComplete the performance-based test on your own and submit your results\n\n\n\nThe webinar will be broken down into 3 sessions (in Pacific Time):Session 1 – 9:00 am – 11:30 amBreakSession 2 – 11:45 am – 12:45 pmLunchSession 3 – 1:15 pm – 4:15 pm When you complete the TRAQ Renewal Course\, you will earn 5 CEUs for the instructional portion of the program. These CEUs can be applied to your ISA Certified Arborist® credential\, including the Tree Worker credentials. For an ISA Board Certified Master Arborist®\, 2 CEUs go to practice\, 2 to management\, and 1 to science.  \n\n\n\nFor more information\, please go to https://www.wcisa.net/meeting/6941  \n\n\n\nRegistration Deadline: September 28\, 2021
URL:https://www.waa-isa.org/tribe-events/tree-risk-assessment-qualification-traq-renewal-course-online-western-chapter/
CATEGORIES:Green Industry Events
END:VEVENT
BEGIN:VEVENT
DTSTART;TZID=America/Chicago:20211028T120000
DTEND;TZID=America/Chicago:20211028T130000
DTSTAMP:20260425T063125
CREATED:20211005T132259Z
LAST-MODIFIED:20211005T132300Z
UID:10000212-1635422400-1635426000@www.waa-isa.org
SUMMARY:Facilitando la selección de especies de árboles urbanos en un clima cambiante: desarrollo de una aplicación web / Facilitating urban trees species selection under a changing climate: web software development
DESCRIPTION:Presentamos una aplicación de desarrollo web para facilitar la selección de especies arbóreas para proyectos urbanos. Consideramos una decisión multicriterio que incluye las condiciones de la infraestructura\, las condiciones del sitio\, la estética y el clima. También consideramos no sólo la adecuación a la condición climática actual\, sino también la adecuación a la condición climática futura. Las variables que intervienen en la aplicación fueron validadas por múltiples partes interesadas\, incluidos los agentes públicos y privados que trabajan con la vegetación urbana. Esperamos que esta herramienta mejore el desempeño de los árboles en las zonas urbanas\, dado que también puede informar a los no expertos de una mejor toma de decisiones sobre los árboles urbanos. / We are introducing a web development software for facilitating tree species selection for urban projects. We consider a multicriteria decision involving infrastructure conditions\, site conditions\, aesthetics and climate. We also consider not only present climate appropriateness but also future climate pertinence. The variables involved in the software were validated by multiple stakeholders including private and public actors working with urban vegetation. We expect this tool to improve the performance of trees in urban areas given that it can also inform not expert of better urban trees decision making.  \n\n\n\nTime Length of Presentation: 30 minutes \n\n\n\nPresenter Name: Dra. Cynnamon Dobbs
URL:https://www.waa-isa.org/tribe-events/facilitando-la-seleccion-de-especies-de-arboles-urbanos-en-un-clima-cambiante-desarrollo-de-una-aplicacion-web-facilitating-urban-trees-species-selection-under-a-changing-climate-web-software-deve/
CATEGORIES:Green Industry Events
ATTACH;FMTTYPE=image/jpeg:https://www.waa-isa.org/wp-content/uploads/2021/03/sm_ISA_logo.jpg
END:VEVENT
END:VCALENDAR