BEGIN:VCALENDAR
VERSION:2.0
PRODID:-//WAA-ISA - ECPv6.15.20//NONSGML v1.0//EN
CALSCALE:GREGORIAN
METHOD:PUBLISH
X-WR-CALNAME:WAA-ISA
X-ORIGINAL-URL:https://www.waa-isa.org
X-WR-CALDESC:Events for WAA-ISA
REFRESH-INTERVAL;VALUE=DURATION:PT1H
X-Robots-Tag:noindex
X-PUBLISHED-TTL:PT1H
BEGIN:VTIMEZONE
TZID:America/Chicago
BEGIN:DAYLIGHT
TZOFFSETFROM:-0600
TZOFFSETTO:-0500
TZNAME:CDT
DTSTART:20200308T080000
END:DAYLIGHT
BEGIN:STANDARD
TZOFFSETFROM:-0500
TZOFFSETTO:-0600
TZNAME:CST
DTSTART:20201101T070000
END:STANDARD
BEGIN:DAYLIGHT
TZOFFSETFROM:-0600
TZOFFSETTO:-0500
TZNAME:CDT
DTSTART:20210314T080000
END:DAYLIGHT
BEGIN:STANDARD
TZOFFSETFROM:-0500
TZOFFSETTO:-0600
TZNAME:CST
DTSTART:20211107T070000
END:STANDARD
BEGIN:DAYLIGHT
TZOFFSETFROM:-0600
TZOFFSETTO:-0500
TZNAME:CDT
DTSTART:20220313T080000
END:DAYLIGHT
BEGIN:STANDARD
TZOFFSETFROM:-0500
TZOFFSETTO:-0600
TZNAME:CST
DTSTART:20221106T070000
END:STANDARD
END:VTIMEZONE
BEGIN:VEVENT
DTSTART;TZID=America/Chicago:20210909T110000
DTEND;TZID=America/Chicago:20210909T120000
DTSTAMP:20260425T075907
CREATED:20210630T165123Z
LAST-MODIFIED:20210630T165127Z
UID:10000192-1631185200-1631188800@www.waa-isa.org
SUMMARY:Urban Forestry Today Webinar: Insect Pests of the Landscape
DESCRIPTION:Join renowned Professor and Entomologist\, Mike Raupp\, Ph.D.\, University of Maryland\, as he summarizes \n\n\n\nthe insect pests of our urban landscapes that were present in the 2021 growing season. \n\n\n\n​To attend this Free Broadcast and receive 1.0 ISA/MCA CEUs at no-cost\, click here OR visit www.joinwebinar.com and enter 138-621-779
URL:https://www.waa-isa.org/tribe-events/urban-forestry-today-webinar-insect-pests-of-the-landscape/
CATEGORIES:Green Industry Events
ATTACH;FMTTYPE=image/png:https://www.waa-isa.org/wp-content/uploads/2021/06/UF-Today.png
END:VEVENT
BEGIN:VEVENT
DTSTART;TZID=America/Chicago:20210914T120000
DTEND;TZID=America/Chicago:20210914T130000
DTSTAMP:20260425T075907
CREATED:20210115T181506Z
LAST-MODIFIED:20210525T185412Z
UID:10000157-1631620800-1631624400@www.waa-isa.org
SUMMARY:TREE Fund Webinar:  Long term effects of electrical right-of-way vegetation management on floral and faunal communities
DESCRIPTION:Registration to open one-month prior to webinar. Follow the link below for more information! \n\n\n\nLong term effects of electrical right-of-way vegetation management on floral and faunal communities\n\n\n\nTuesday\, September 14\, 2021\, at 12 p.m. Central \n\n\n\nCarolyn Mahan\, PhD\, Penn State Altoona
URL:https://www.waa-isa.org/tribe-events/tree-fund-webinar-long-term-effects-of-electrical-right-of-way-vegetation-management-on-floral-and-faunal-communities/
CATEGORIES:Green Industry Events
ATTACH;FMTTYPE=image/png:https://www.waa-isa.org/wp-content/uploads/2019/12/treefund-webinar.png
END:VEVENT
BEGIN:VEVENT
DTSTART;TZID=America/Chicago:20210922T080000
DTEND;TZID=America/Chicago:20210922T170000
DTSTAMP:20260425T075907
CREATED:20210920T144932Z
LAST-MODIFIED:20210920T144935Z
UID:10000207-1632297600-1632330000@www.waa-isa.org
SUMMARY:Saluting Branches
DESCRIPTION:The 7th Annual Saluting Branches Day of Service will be held on September 22\, 2021. This year\, the local location is Wood National Cemetery in Milwaukee\, WI.  If you’re interested in volunteering within the organization in some capacity\, taking on the task of site leader at one of the locations or volunteering as a participant on the day of service please consult the website for more info.
URL:https://www.waa-isa.org/tribe-events/saluting-branches-2/
CATEGORIES:Green Industry Events
ATTACH;FMTTYPE=image/jpeg:https://www.waa-isa.org/wp-content/uploads/2021/09/saluting-branches-pic.jpg
END:VEVENT
BEGIN:VEVENT
DTSTART;TZID=America/Chicago:20210926T080000
DTEND;TZID=America/Chicago:20211001T170000
DTSTAMP:20260425T075907
CREATED:20210325T164303Z
LAST-MODIFIED:20210325T164304Z
UID:10000167-1632643200-1633107600@www.waa-isa.org
SUMMARY:SMA Municipal Forestry Institute (MFI) 2021
DESCRIPTION:MFI is a unique leadership and professional development opportunity you won’t find anywhere else. A team of dedicated urban forestry professionals from across North America will help you gain insights into how to move from a good urban forestry effort to a great one. You will learn from and network with urban forestry professionals from large cities and small towns\, state and federal agencies\, and non‐profit organizations. MFI is an investment in your professional future — one that could pay great dividends to you and your city or organization. \n\n\n\nMFI is an exciting\, high‐level training opportunity educating people in the leadership and managerial aspects of urban forestry. This week‐long intensive educational program delivers a challenging opportunity to grow a more successful community tree program. Come learn and master leadership and management tools of program administration\, coalition building\, strategic thinking\, program planning\, and public relations by investing a week in your personal growth and development. Sign up now for MFI 2021\, being held September 26–October 1\, 2021 in Bowling Green\, OH.
URL:https://www.waa-isa.org/tribe-events/sma-municipal-forestry-institute-mfi-2021/
LOCATION:Bowling Green State University\, Bowling Green\, Ohio
CATEGORIES:Green Industry Events
END:VEVENT
BEGIN:VEVENT
DTSTART;TZID=America/Chicago:20210927T080000
DTEND;TZID=America/Chicago:20210929T140000
DTSTAMP:20260425T075907
CREATED:20210810T202625Z
LAST-MODIFIED:20210810T202631Z
UID:10000202-1632729600-1632924000@www.waa-isa.org
SUMMARY:Cranes 101 - Mobile Crane Nationally Accredited Certificate Program
DESCRIPTION:September 27-29 in Wausau\, WI \n\n\n\n \n\n\n\nThese all mobile crane nationally accredited certificate courses are NCCER/OSHA/ANSI approved programs for licensing crane operators. Crane operators must be licensed to operate per OSHA Subpart CC. \n\n\n\nFor more information as to the content of this class\, please view the descriptions here. The list below shows the types of cranes this course can cover\, depending on what the students operate on the job. Please specify what type of crane you will be operating when you pre-register\, if possible. \n\n\n\nFixed/rotating boom trucksTelescopic boom truck/rough terrain crane/all terrain craneLattice boom cranes \n\n\n\nTCIA Members save 10% and will earn 21CTSP CEU’s when the course is completed. \n\n\n\nIf you are a member of the ISA\, our training is certified for the following: \n\n\n\n8 Practice – 8 Management – 16 Climber Specialist \n\n\n\n16 Certified Arborist – 16 Utility Specialist \n\n\n\n16 Municipal Specialist – 16 Aerial Lift \n\n\n\n \n\n\n\nTraining Length: \n\n\n\n \n\n\n\nDays One and Two \n\n\n\nClassroom instruction on crane operator safety \n\n\n\nDay Three \n\n\n\nWritten/computer testing as well as a practical exam \n\n\n\n \n\n\n\nPlease call Jack @  866-788-7600 x303 or jack@cranes101 to save a seat and for more details.
URL:https://www.waa-isa.org/tribe-events/cranes-101-mobile-crane-nationally-accredited-certificate-program/
CATEGORIES:Green Industry Events
END:VEVENT
END:VCALENDAR