BEGIN:VCALENDAR
VERSION:2.0
PRODID:-//WAA-ISA - ECPv6.15.20//NONSGML v1.0//EN
CALSCALE:GREGORIAN
METHOD:PUBLISH
X-ORIGINAL-URL:https://www.waa-isa.org
X-WR-CALDESC:Events for WAA-ISA
REFRESH-INTERVAL;VALUE=DURATION:PT1H
X-Robots-Tag:noindex
X-PUBLISHED-TTL:PT1H
BEGIN:VTIMEZONE
TZID:America/Chicago
BEGIN:DAYLIGHT
TZOFFSETFROM:-0600
TZOFFSETTO:-0500
TZNAME:CDT
DTSTART:20200308T080000
END:DAYLIGHT
BEGIN:STANDARD
TZOFFSETFROM:-0500
TZOFFSETTO:-0600
TZNAME:CST
DTSTART:20201101T070000
END:STANDARD
BEGIN:DAYLIGHT
TZOFFSETFROM:-0600
TZOFFSETTO:-0500
TZNAME:CDT
DTSTART:20210314T080000
END:DAYLIGHT
BEGIN:STANDARD
TZOFFSETFROM:-0500
TZOFFSETTO:-0600
TZNAME:CST
DTSTART:20211107T070000
END:STANDARD
BEGIN:DAYLIGHT
TZOFFSETFROM:-0600
TZOFFSETTO:-0500
TZNAME:CDT
DTSTART:20220313T080000
END:DAYLIGHT
BEGIN:STANDARD
TZOFFSETFROM:-0500
TZOFFSETTO:-0600
TZNAME:CST
DTSTART:20221106T070000
END:STANDARD
END:VTIMEZONE
BEGIN:VEVENT
DTSTART;TZID=America/Chicago:20210713T080000
DTEND;TZID=America/Chicago:20210713T170000
DTSTAMP:20260425T105031
CREATED:20210325T155933Z
LAST-MODIFIED:20210610T154202Z
UID:10000163-1626163200-1626195600@www.waa-isa.org
SUMMARY:2021 ISA Virtual Tree Climber Summit
DESCRIPTION:Based on feedback from the climbing community\, ISA will host a virtual event designed for them\, the 2021 Virtual Tree Climber Summit\, on 13 July. The format will also include three or four educational sessions (on-demand) and a keynote speech by Carlos Buhler\, a world-renowned climber and scaler.  Additionally\, a few geographically-focused networking breakouts will provide opportunities for attendees to connect and share ideas live.
URL:https://www.waa-isa.org/tribe-events/2021-isa-virtual-tree-climber-summit/
CATEGORIES:Green Industry Events
ATTACH;FMTTYPE=image/jpeg:https://www.waa-isa.org/wp-content/uploads/2021/03/sm_ISA_logo.jpg
END:VEVENT
BEGIN:VEVENT
DTSTART;TZID=America/Chicago:20210714T120000
DTEND;TZID=America/Chicago:20210714T131500
DTSTAMP:20260425T105031
CREATED:20210630T164344Z
LAST-MODIFIED:20210630T164348Z
UID:10000191-1626264000-1626268500@www.waa-isa.org
SUMMARY:Free Webinar: The Influence of Municipal Pruning Practices on Urban Forest Health and Storm Resilience
DESCRIPTION:Municipalities across the U.S. are increasingly challenged to fund and perform systematic tree pruning activities that enhance urban tree health and longevity\, maximize ecosystem service benefits\, improve climate and storm resilience\, and minimize public risk. Only (46%) of 667 U.S. communities surveyed in 2014 reported completing tree pruning on a systematic basis. Dr. Richard Hauer will share the benefits of systematic pruning and the status of pruning in U.S. cities. Dr. Leslie Brandt will spotlight tree maintenance practices\, innovations and challenges from 10 case studies in the U.S. Through analysis of decades of systematic pruning data in Milwaukee\, Randy Krouse will demonstrate the importance of pruning cycle/forest structure alignment on forest health and resilience\, tree maintenance capacity\, storm resilience and public safety. Finally\, Paul Johnson will wrap up the discussion by highlighting current and emergent resource aids for improved urban forest management. \n\n\n\nThis webinar is open to all. We are seeking 1 CEU with the International Society of Arboriculture.
URL:https://www.waa-isa.org/tribe-events/free-webinar-the-influence-of-municipal-pruning-practices-on-urban-forest-health-and-storm-resilience/
CATEGORIES:Green Industry Events
END:VEVENT
BEGIN:VEVENT
DTSTART;TZID=America/Chicago:20210715T170000
DTEND;TZID=America/Chicago:20210715T180000
DTSTAMP:20260425T105031
CREATED:20210510T190631Z
LAST-MODIFIED:20210510T190632Z
UID:10000183-1626368400-1626372000@www.waa-isa.org
SUMMARY:Free Webinar: Palm Pruning from Start to Finish
DESCRIPTION:Nick Araya is a top arborist in LA and a master in palm trees – and now you can join him in a live webinar detailing palm tree pruning from start to finish. This webinar is being streamed LIVE on Facebook\, Youtube\, and Instagram so you can have your questions answered. \n\n\n\nStick around to the end of the webinar to take a quiz to earn 2 FREE CEUs!
URL:https://www.waa-isa.org/tribe-events/free-webinar-palm-pruning-from-start-to-finish/
CATEGORIES:Green Industry Events
END:VEVENT
BEGIN:VEVENT
DTSTART;TZID=America/Chicago:20210727T120000
DTEND;TZID=America/Chicago:20210727T130000
DTSTAMP:20260425T105031
CREATED:20210115T181355Z
LAST-MODIFIED:20210525T185451Z
UID:10000156-1627387200-1627390800@www.waa-isa.org
SUMMARY:TREE Fund Webinar:  A Three Pronged Approach to understanding the defensive mechanisms in Green Ash resistant to EAB
DESCRIPTION:Registration to open one-month prior to webinar. Follow the link below for more information! \n\n\n\nA Three Pronged Approach to understanding the defensive mechanisms in Green Ash resistant to EAB \n\n\n\nJuly 27\, 2021\, at 12p.m. Central \n\n\n\nJeanne Romero-Severson\, PhD\, University of Notre Dame
URL:https://www.waa-isa.org/tribe-events/tree-fund-webinar-a-three-pronged-approach-to-understanding-the-defensive-mechanisms-in-green-ash-resistant-to-eab/
CATEGORIES:Green Industry Events
ATTACH;FMTTYPE=image/png:https://www.waa-isa.org/wp-content/uploads/2019/12/treefund-webinar.png
END:VEVENT
END:VCALENDAR