BEGIN:VCALENDAR
VERSION:2.0
PRODID:-//WAA-ISA - ECPv6.15.20//NONSGML v1.0//EN
CALSCALE:GREGORIAN
METHOD:PUBLISH
X-ORIGINAL-URL:https://www.waa-isa.org
X-WR-CALDESC:Events for WAA-ISA
REFRESH-INTERVAL;VALUE=DURATION:PT1H
X-Robots-Tag:noindex
X-PUBLISHED-TTL:PT1H
BEGIN:VTIMEZONE
TZID:America/Chicago
BEGIN:DAYLIGHT
TZOFFSETFROM:-0600
TZOFFSETTO:-0500
TZNAME:CDT
DTSTART:20200308T080000
END:DAYLIGHT
BEGIN:STANDARD
TZOFFSETFROM:-0500
TZOFFSETTO:-0600
TZNAME:CST
DTSTART:20201101T070000
END:STANDARD
BEGIN:DAYLIGHT
TZOFFSETFROM:-0600
TZOFFSETTO:-0500
TZNAME:CDT
DTSTART:20210314T080000
END:DAYLIGHT
BEGIN:STANDARD
TZOFFSETFROM:-0500
TZOFFSETTO:-0600
TZNAME:CST
DTSTART:20211107T070000
END:STANDARD
BEGIN:DAYLIGHT
TZOFFSETFROM:-0600
TZOFFSETTO:-0500
TZNAME:CDT
DTSTART:20220313T080000
END:DAYLIGHT
BEGIN:STANDARD
TZOFFSETFROM:-0500
TZOFFSETTO:-0600
TZNAME:CST
DTSTART:20221106T070000
END:STANDARD
END:VTIMEZONE
BEGIN:VEVENT
DTSTART;TZID=America/Chicago:20210407T080000
DTEND;TZID=America/Chicago:20210409T170000
DTSTAMP:20260425T152939
CREATED:20201111T163659Z
LAST-MODIFIED:20201213T164327Z
UID:10000139-1617782400-1617987600@www.waa-isa.org
SUMMARY:TCIA Executive Arborist Workshop
DESCRIPTION:Details will be forthcoming.
URL:https://www.waa-isa.org/tribe-events/tcia-executive-arborist-workshop/
LOCATION:The Westin Milwaukee\, 550 North Van Buren Street\, Milwaukee\, Wisconsin\, 53202\, United States
CATEGORIES:Green Industry Events
END:VEVENT
BEGIN:VEVENT
DTSTART;TZID=America/Chicago:20210420T090000
DTEND;TZID=America/Chicago:20210420T143000
DTSTAMP:20260425T152939
CREATED:20210326T141255Z
LAST-MODIFIED:20210326T141256Z
UID:10000169-1618909200-1618929000@www.waa-isa.org
SUMMARY:Qualified Line Clearance Arborist (QLCA)
DESCRIPTION:Dates:Virtual Learning: April 20\, 27; May 4\, 11In-Person: August 2-5 (Optional Add-on to Virtual Course (plus valid First Aid/CPR certificate); Required for full QLCA Qualification)Course Times:10:00am – 3:30pm EST on scheduled course dates; includes a 30-minute lunch breakCost:Virtual Only: $849Virtual with In-Person: $2\,849Class Size:This course is limited to 24 participantsLocation (For Virtual with In-Person):Rancho Los Tres Compas 8510 Deep Creek Rd.\, Apple Valley\, CA \n\n\n\nAre you an arborist working in the utility sector or interested in becoming one? Have you received proper training as required by OSHA and ANSI to safely work in proximity to electrical hardware and equipment? Are you interested in expanding your skill set to join an elite team of Qualified Line Clearance Arborists who are passionate about safety and even more passionate about improving the performance of the arboricultural trade? Then this course is for you!Utility arboriculture and vegetation management is the largest sector of the arboriculture industry and requires specialty skills to safely perform job tasks in proximity to electrical conductors and hardware. North American Training Solutions is the only nationally recognized training organization utilizing OSHA Authorized Outreach trainers and performing hands-on training and hands-on competency evaluations which assess and empower workers to perform their job duties to the highest of their abilities.
URL:https://www.waa-isa.org/tribe-events/qualified-line-clearance-arborist-qlca/
CATEGORIES:Green Industry Events
END:VEVENT
BEGIN:VEVENT
DTSTART;TZID=America/Chicago:20210420T120000
DTEND;TZID=America/Chicago:20210420T130000
DTSTAMP:20260425T152939
CREATED:20210405T150207Z
LAST-MODIFIED:20210405T150242Z
UID:10000173-1618920000-1618923600@www.waa-isa.org
SUMMARY:Webinar: Planning for the Next Three Letter Urban Tree Canopy Changer: Lessons Learned with DED\, EAB\, ETC.
DESCRIPTION:All aboard a TREE Fund train trip ride back to what we have learned this past century with some important urban tree canopy game changers. Our first stop is a lesson in biology and an interdisciplinary economic journey using lessons learned from DED and EAB. See how science has led to reliable predictors with a planned stop at preventing tree loss and the currency of canopy. The future journey continues to see how the TREE Fund supports tree changing research and practical results you can use and avoid getting derailed by ETC. \n\n\n\nISA and SAF CONTINUING EDUCATION CREDITS (available with the live broadcast) ISA CEU Category: BCMA Science: 1\, Practice: 0\, Management: 0\, Climber Specialist: 1\, Certified Arborist: 1\, Municipal Specialist: 1\, Aerial Lift: 1. SAF CFE Category: Cat 1: 1\, Cat 2: 0
URL:https://www.waa-isa.org/tribe-events/webinar-planning-for-the-next-three-letter-urban-tree-canopy-changer-lessons-learned-with-ded-eab-etc/
CATEGORIES:Green Industry Events
END:VEVENT
BEGIN:VEVENT
DTSTART;TZID=America/Chicago:20210421T130000
DTEND;TZID=America/Chicago:20210421T140000
DTSTAMP:20260425T152939
CREATED:20210409T195607Z
LAST-MODIFIED:20210409T195608Z
UID:10000174-1619010000-1619013600@www.waa-isa.org
SUMMARY:Webinar - Non-Invasive Tree Risk Assessment Technologies
DESCRIPTION:Join us for a LIVE panel discussion with Andres Verengo\, owner and operator of ProArbol\, as he shares his experiences using non-invasive technologies to improve municipal risk assessment programs with other professionals\, municipalities\, and organizations. We will also be joined by ClimbingHI\, a tree care and management company based in Maui\, HI\, to discuss how they see value in integrating ground penetrating radar into their business. \n\n\n\nTo register for this FREE webinar: CLICK HEREProArbol professional tree care company specializes in developing large-scale risk assessment studies and Heritage tree preservation projects for government agencies. Their team is composed of professionals in the field of arboriculture with ample experience in urban forestry and a shared passion for the care of trees.
URL:https://www.waa-isa.org/tribe-events/webinar-non-invasive-tree-risk-assessment-technologies/
CATEGORIES:Green Industry Events
END:VEVENT
END:VCALENDAR