BEGIN:VCALENDAR
VERSION:2.0
PRODID:-//WAA-ISA - ECPv6.15.20//NONSGML v1.0//EN
CALSCALE:GREGORIAN
METHOD:PUBLISH
X-ORIGINAL-URL:https://www.waa-isa.org
X-WR-CALDESC:Events for WAA-ISA
REFRESH-INTERVAL;VALUE=DURATION:PT1H
X-Robots-Tag:noindex
X-PUBLISHED-TTL:PT1H
BEGIN:VTIMEZONE
TZID:America/Chicago
BEGIN:DAYLIGHT
TZOFFSETFROM:-0600
TZOFFSETTO:-0500
TZNAME:CDT
DTSTART:20200308T080000
END:DAYLIGHT
BEGIN:STANDARD
TZOFFSETFROM:-0500
TZOFFSETTO:-0600
TZNAME:CST
DTSTART:20201101T070000
END:STANDARD
BEGIN:DAYLIGHT
TZOFFSETFROM:-0600
TZOFFSETTO:-0500
TZNAME:CDT
DTSTART:20210314T080000
END:DAYLIGHT
BEGIN:STANDARD
TZOFFSETFROM:-0500
TZOFFSETTO:-0600
TZNAME:CST
DTSTART:20211107T070000
END:STANDARD
BEGIN:DAYLIGHT
TZOFFSETFROM:-0600
TZOFFSETTO:-0500
TZNAME:CDT
DTSTART:20220313T080000
END:DAYLIGHT
BEGIN:STANDARD
TZOFFSETFROM:-0500
TZOFFSETTO:-0600
TZNAME:CST
DTSTART:20221106T070000
END:STANDARD
END:VTIMEZONE
BEGIN:VEVENT
DTSTART;TZID=America/Chicago:20210105T080000
DTEND;TZID=America/Chicago:20210107T160000
DTSTAMP:20260425T195500
CREATED:20201213T163544Z
LAST-MODIFIED:20201213T163547Z
UID:10000154-1609833600-1610035200@www.waa-isa.org
SUMMARY:TCIA Nationally Accredited Mobile Crane Operator Training and Licensing LIVE Course
DESCRIPTION:This Nationally Accredited\, telescoping boom truck operator certification is compliant with the most recent update of the OSHA standard Subpart CC – Cranes and Derricks in Construction and ASME B30.5.This 3-day course includes 2 days of classroom teaching\, and 1 day with 1 practical exam and 1 final exam. Upon successful completion\, the operator will receive national license\, certificate of completion\, and wallet photo ID.
URL:https://www.waa-isa.org/tribe-events/tcia-nationally-accredited-mobile-crane-operator-training-and-licensing-live-course/
LOCATION:Canopy Cops Tree Service\, LLC\, 3213 E. Forest St.\, Appleton\, Wisconsin\, 54915\, United States
CATEGORIES:Green Industry Events
END:VEVENT
BEGIN:VEVENT
DTSTART;TZID=America/Chicago:20210108T080000
DTEND;TZID=America/Chicago:20210108T150000
DTSTAMP:20260425T195500
CREATED:20201213T162434Z
LAST-MODIFIED:20201213T163005Z
UID:10000153-1610092800-1610118000@www.waa-isa.org
SUMMARY:TCIA Bucket Truck Safety Training and Certification LIVE Course
DESCRIPTION:This two-day workshop is designed to help companies with revenues of $500\,000 to $2 million grow in a smoother\, more consistent manner. You didn’t start a tree care company to lose money – business growth is what drives you to do more and do better.
URL:https://www.waa-isa.org/tribe-events/tcia-executive-arborist-workshop-2/
LOCATION:Arbor Images\, Inc.\, W573 County Trunk JS\, Burlington\, Wisconsin\, 53105\, United States
CATEGORIES:Green Industry Events
END:VEVENT
BEGIN:VEVENT
DTSTART;TZID=America/Chicago:20210113T080000
DTEND;TZID=America/Chicago:20210115T150000
DTSTAMP:20260425T195500
CREATED:20201111T162901Z
LAST-MODIFIED:20201111T163330Z
UID:10000138-1610524800-1610722800@www.waa-isa.org
SUMMARY:TCI Virtual Summit 2021
DESCRIPTION:The Tree Care Industry Association (TCIA) is going above and beyond to utilize the virtual realm and create an experience for you like no other! With more than 82 years representing the tree care industry\, we are uniquely qualified to help you navigate this ever-changing world. \n\n\n\nWe recognize that many of our members cannot make in-person workshops or events due to travel\, cost\, or timing. And yet – education and networking are critical components of your business. We are confident that the TCI Virtual Summit will give you access to the quality resources that you expect and need from us.
URL:https://www.waa-isa.org/tribe-events/tci-virtual-summit-2021/
CATEGORIES:Green Industry Events
END:VEVENT
END:VCALENDAR